Workbook

Sheet Stammdaten
B2: Stammdaten
B3: Name
B4: Vorname
B5: Organisationseinheit
B6: Jahr (JJJJ) | C6: 2025
B7: Status | C7: tarifbeschäftigt TV-L
B8: Erfassungsbeginn
B9: Erfassungsende
B11: Arbeitszeitkontoübertrag aus Vorjahr/Vorperiode (falls zutreffend) | C11: +/- | D11: Std. | F11: Min.
C12: + | E12: :

Sheet 1
B2: A R B E I T S Z E I T N A C H W E I S
B3: UNIVERSITÄT BREMEN
B5: Name: | D5: =Stammdaten!C3&", "&Stammdaten!C4 -> , | J5: Monat | S5: Übertrag aus Vormonat | V5: Std. | X5: Min. | Z5: Achtung: zur Berechnung dieser Datei wurde umgestellt auf: Datei \ Optionen \ Erweitert \ Beim Berechnen dieser Arbeitsmappe \ 1904-Datumswerte verwenden Nur dann können negative (berechnete) Stunden angezeigt und verarbeitet werden.
B6: =Stammdaten!B5&":" -> Organisationseinheit: | D6: =Stammdaten!C5 -> 0 | J6: =DATE(Stammdaten!C6,1,1) -> 44196 | U6: =Stammdaten!C12 -> + | V6: =ABS(Stammdaten!D12) -> 0 | W6: : | X6: =Stammdaten!F12 -> 0
B8: Status | E8: Arbeitszeitmodell | H8: =IF(E9="TZ","Wöchentl. Arbeitszeit bei TZ","")
B9: =Stammdaten!$C$7 -> tarifbeschäftigt TV-L | E9: VZ
E10: =IF(E9="TZ","bitte ggf. Wochenarbeitstage wählen u. Stundenverteilung anpassen","")
G12: =IF($E$9="VZ","Mo",IF(G13="x","Mo","-")) -> Mo | H12: =IF($E$9="VZ","Di",IF(H13="x","Di","-")) -> Di | I12: =IF($E$9="VZ","Mi",IF(I13="x","Mi","-")) -> Mi | K12: =IF($E$9="VZ","Do",IF(K13="x","Do","-")) -> Do | L12: =IF($E$9="VZ","Fr",IF(L13="x","Fr","-")) -> Fr | M12: Summe
D13: Stundenverteilung | G13: x | H13: x | I13: x | K13: x | L13: x | M13: =COUNTIF(G13:L13,"x") -> 5
E14: gleichmäßig | G14: =IF(OR($E$9="VZ",$E$9="Schicht"),$AD$17/24,IF($E$9="TZ",IF($D$15<>"x",IF(G$13="x",($J$9/COUNTIF($G$13:$L$13,"x")/24),""),""),"")) -> 0.32666667 | H14: =IF(OR($E$9="VZ",$E$9="Schicht"),$AD$17/24,IF($E$9="TZ",IF($D$15<>"x",IF(H$13="x",($J$9/COUNTIF($G$13:$L$13,"x")/24),""),""),"")) -> 0.32666667 | I14: =IF(OR($E$9="VZ",$E$9="Schicht"),$AD$17/24,IF($E$9="TZ",IF($D$15<>"x",IF(I$13="x",($J$9/COUNTIF($G$13:$L$13,"x")/24),""),""),"")) -> 0.32666667 | K14: =IF(OR($E$9="VZ",$E$9="Schicht"),$AD$17/24,IF($E$9="TZ",IF($D$15<>"x",IF(K$13="x",($J$9/COUNTIF($G$13:$L$13,"x")/24),""),""),"")) -> 0.32666667 | L14: =IF(OR($E$9="VZ",$E$9="Schicht"),$AD$17/24,IF($E$9="TZ",IF($D$15<>"x",IF(L$13="x",($J$9/COUNTIF($G$13:$L$13,"x")/24),""),""),"")) -> 0.32666667 | M14: =IF($D$15<>"x",SUM(G14:L14)*24,"") -> 39.2 | AA14: =IF($D$15="x",SUM(G15:L15),SUM(G14:L14)) -> 1.6333333
E15: ungleichmäßig | M15: =IF($D$15="x",SUMIFS(G15:L15,G13:L13,"x")*24,"")
C16: Arbeitstage im Monat
C17: =SUMPRODUCT(COUNTIF(B22:B52,G12:L12)) -> 23 | G17: =IF(E9="VZ",2,IF(G13="x",2,0)) -> 2 | H17: =IF(E9="VZ",3,IF(H13="x",3,0)) -> 3 | I17: =IF(E9="VZ",4,IF(I13="x",4,0)) -> 4 | K17: =IF(E9="VZ",5,IF(K13="x",5,0)) -> 5 | L17: =IF(E9="VZ",6,IF(L13="x",6,0)) -> 6 | Z17: =(X6/100) -> 0 | AA17: =COUNTIF($G$13:$L$13,"x") -> 5 | AC17: Regelm. tgl. Az. | AD17: =IF($E$9="VZ",IF($B$9="tarifbeschäftigt TV-L",39.2/5,IF($B$9="tarifbeschäftigt TVöD",39/5,IF($B$9="verbeamtet",40/5))),IF($E$9="Schicht",38.5/5,IF($E$9="TZ",IF($D$15<>"x",$J$9/$AA$17)))) -> 7.84 | AE17: =AD17/24 -> 0.32666667 | AF17: =TEXT(AE17,"H:MM") -> 7:50 | AG17: =TIMEVALUE(AF17) -> 0.32638889 | AH17: =AG17*24 -> 7.8333333
C18: =IF(AND($E$9="TZ",$AA14<>$J$9/24),"Fehler: Summe der Stundenverteilung stimmt nicht mit wöchentlicher Arbeitszeit überein!","")
C21: Datum | D21: Son-der- tage | E21: Anwesenheitszeit Kommt Geht Ist | H21: Soll- Arbeits- zeit | I21: Diff. Soll Anw.-Ist | K21: Erste Unterbrechung Beginn Ende | M21: Zweite Unterbrechung Beginn Ende | O21: Dritte Unterbrechung Beginn Ende | Q21: anzurechn. Pause bzw. Unterbr. | S21: Bemerkung (z.B. std.weiser FZA, mob. Arbeiten, Dienstreise) | T21: Ist-Arbeits-zeit | U21: Aufrechnung Gesamt in Std.:Min. | Z21: Soll- Arbeits zeit | AA21: Diff. Arbzeit Anw.Zeit | AB21: Ist Pause | AC21: Soll Pause | AD21: anzu rechn. Pause | AE21: Aufrechnung | AF21: =IF(U6="-",-V6-(Z17*100/60),V6+(Z17*100/60)) -> 0 | AG21: Std. | AH21: Min
B22: =IF(C22=" "," ",IF(WEEKDAY(C22)=1,"So",IF(WEEKDAY(C22)=7,"Sa",IF(WEEKDAY(C22)=2,"Mo",IF(WEEKDAY(C22)=3,"Di",IF(WEEKDAY(C22)=4,"Mi",IF(WEEKDAY(C22)=5,"Do",IF(WEEKDAY(C22)=6,"Fr","")))))))) -> Mi | C22: =DATE(Stammdaten!C6,MONTH(J6),1) -> 44196 | G22: =IF(C22=" ","",IF(D22="FZA",0,IF(OR(D22="",D22="dA"),IF(AND(F22>0,E22>0),(F22-E22),0),IF(D22="F",(F22-E22),H22)))) -> 0 | H22: =IF(OR(D22="KK",D22="F",D22="SU",D22="U"),0,Z22) -> 0.32638889 | I22: =IF(G22=H22," ",IF(G22>H22,"+","-")) -> - | J22: =IF(H22=G22," ",IF(H22>G22,(H22-G22),(G22-H22))) -> 0.32638889 | Q22: =IF(R22="","","-") | R22: =IF(AD22=0,"",AD22/-24) | T22: =IF(C22=" ","",IF(G22>0,G22+AD22/24,"")) | U22: =IF(OR(Z22>0,AND(Z22=0,T22<>"")),IF(AE22="","",IF(AE22=0,"",IF(AF22<0,"-","+"))),"") -> - | V22: =IF(OR(Z22>0,AND(Z22=0,T22<>"")),IF(AE22="","",IF(AG22<0,(AG22*(-1)),AG22)),"") -> 7 | W22: =IF(OR(Z22>0,AND(Z22=0,T22<>"")),IF(AE22="","",":"),"") -> : | X22: =IF(OR(Z22>0,AND(Z22=0,T22<>"")),IF(AE22="","",IF(AF22>0,PRODUCT(AH22,100),PRODUCT(AH22,-100))),"") -> 50 | Z22: =IF(C22=" "," ",IF(OR(TODAY()<C22,Stammdaten!$C$8>C22,AND(Stammdaten!$C$9>0,C22>Stammdaten!$C$9)),0,IF(WEEKDAY(C22)=$G$17,IF(OR($E$9="VZ",$E$9="Schicht"),$AH$17/24,IF($D$15<>"x",$AH$17/24,$G$15)),IF(WEEKDAY(C22)=$H$17,IF(OR($E$9="VZ",$E$9="Schicht"),$AH$17/24,IF($D$15<>"x",$AH$17/24,$H$15)),IF(WEEKDAY(C22)=$I$17,IF(OR($E$9="VZ",$E$9="Schicht"),$AH$17/24,IF($D$15<>"x",$AH$17/24,$I$15)),IF(WEEKDAY(C22)=$K$17,IF(OR($E$9="VZ",$E$9="Schicht"),$AH$17/24,IF($D$15<>"x",$AH$17/24,$K$15)),IF(WEEKDAY(C22)=$L$17,IF(OR($E$9="VZ",$E$9="Schicht"),$AH$17/24,IF($D$15<>"x",$AH$17/24,$L$15)),TIMEVALUE("0:00")))))))) -> 0.32638889 | AA22: =IF(I22="-",(-J22)*24,IF(I22="+",(+J22)*24,0)) -> -7.8333333 | AB22: =IF(L22>0,(L22-K22)+(N22-M22)+(P22-O22),TIMEVALUE("0:00")) -> 0 | AC22: =IF(G22="",0,IF(G22<=TIMEVALUE("6:30"),TIMEVALUE("0:00"),IF(G22>TIMEVALUE("9:45"),TIMEVALUE("0:45"),TIMEVALUE("0:30")))) -> 0 | AD22: =IF(OR(D22="BZ",D22="DB",D22="FZA",D22="K"),0,IF(AC22>AB22,-AC22*24,-AB22*24)) -> 0 | AE22: =IF(C22<>" ",AF22,"") -> -7.8333333 | AF22: =SUM(AF21,AA22,AD22) -> -7.8333333 | AG22: =ROUNDDOWN(ROUND(AF22,2),0) -> -7 | AH22: =SUM(AF22-AG22)/100*60 -> -0.5
B23: =IF(C23=" "," ",IF(WEEKDAY(C23)=1,"So",IF(WEEKDAY(C23)=7,"Sa",IF(WEEKDAY(C23)=2,"Mo",IF(WEEKDAY(C23)=3,"Di",IF(WEEKDAY(C23)=4,"Mi",IF(WEEKDAY(C23)=5,"Do",IF(WEEKDAY(C23)=6,"Fr","")))))))) -> Do | C23: =IF(C22=" "," ",IF(MONTH(C22+1)<>MONTH(C22)," ",C22+1)) -> 44197 | G23: =IF(C23=" ","",IF(D23="FZA",0,IF(OR(D23="",D23="dA"),IF(AND(F23>0,E23>0),(F23-E23),0),IF(D23="F",(F23-E23),H23)))) -> 0 | H23: =IF(OR(D23="KK",D23="F",D23="SU",D23="U"),0,Z23) -> 0.32638889 | I23: =IF(G23=H23," ",IF(G23>H23,"+","-")) -> - | J23: =IF(H23=G23," ",IF(H23>G23,(H23-G23),(G23-H23))) -> 0.32638889 | Q23: =IF(R23="","","-") | R23: =IF(AD23=0,"",AD23/-24) | T23: =IF(C23=" ","",IF(G23>0,G23+AD23/24,"")) | U23: =IF(OR(Z23>0,AND(Z23=0,T23<>"")),IF(AE23="","",IF(AE23=0,"",IF(AF23<0,"-","+"))),"") -> - | V23: =IF(OR(Z23>0,AND(Z23=0,T23<>"")),IF(AE23="","",IF(AG23<0,(AG23*(-1)),AG23)),"") -> 15 | W23: =IF(OR(Z23>0,AND(Z23=0,T23<>"")),IF(AE23="","",":"),"") -> : | X23: =IF(OR(Z23>0,AND(Z23=0,T23<>"")),IF(AE23="","",IF(AF23>0,PRODUCT(AH23,100),PRODUCT(AH23,-100))),"") -> 40 | Z23: =IF(C23=" "," ",IF(OR(TODAY()<C23,Stammdaten!$C$8>C23,AND(Stammdaten!$C$9>0,C23>Stammdaten!$C$9)),0,IF(WEEKDAY(C23)=$G$17,IF(OR($E$9="VZ",$E$9="Schicht"),$AH$17/24,IF($D$15<>"x",$AH$17/24,$G$15)),IF(WEEKDAY(C23)=$H$17,IF(OR($E$9="VZ",$E$9="Schicht"),$AH$17/24,IF($D$15<>"x",$AH$17/24,$H$15)),IF(WEEKDAY(C23)=$I$17,IF(OR($E$9="VZ",$E$9="Schicht"),$AH$17/24,IF($D$15<>"x",$AH$17/24,$I$15)),IF(WEEKDAY(C23)=$K$17,IF(OR($E$9="VZ",$E$9="Schicht"),$AH$17/24,IF($D$15<>"x",$AH$17/24,$K$15)),IF(WEEKDAY(C23)=$L$17,IF(OR($E$9="VZ",$E$9="Schicht"),$AH$17/24,IF($D$15<>"x",$AH$17/24,$L$15)),TIMEVALUE("0:00")))))))) -> 0.32638889 | AA23: =IF(I23="-",(-J23)*24,IF(I23="+",(+J23)*24,0)) -> -7.8333333 | AB23: =IF(L23>0,(L23-K23)+(N23-M23)+(P23-O23),TIMEVALUE("0:00")) -> 0 | AC23: =IF(G23="",0,IF(G23<=TIMEVALUE("6:30"),TIMEVALUE("0:00"),IF(G23>TIMEVALUE("9:45"),TIMEVALUE("0:45"),TIMEVALUE("0:30")))) -> 0 | AD23: =IF(OR(D23="BZ",D23="DB",D23="FZA",D23="K"),0,IF(AC23>AB23,-AC23*24,-AB23*24)) -> 0 | AE23: =IF(C23<>" ",AF23,"") -> -15.666667 | AF23: =SUM(AF22,AA23,AD23) -> -15.666667 | AG23: =ROUNDDOWN(ROUND(AF23,2),0) -> -15 | AH23: =SUM(AF23-AG23)/100*60 -> -0.4
B24: =IF(C24=" "," ",IF(WEEKDAY(C24)=1,"So",IF(WEEKDAY(C24)=7,"Sa",IF(WEEKDAY(C24)=2,"Mo",IF(WEEKDAY(C24)=3,"Di",IF(WEEKDAY(C24)=4,"Mi",IF(WEEKDAY(C24)=5,"Do",IF(WEEKDAY(C24)=6,"Fr","")))))))) -> Fr | C24: =IF(C23=" "," ",IF(MONTH(C23+1)<>MONTH(C23)," ",C23+1)) -> 44198 | G24: =IF(C24=" ","",IF(D24="FZA",0,IF(OR(D24="",D24="dA"),IF(AND(F24>0,E24>0),(F24-E24),0),IF(D24="F",(F24-E24),H24)))) -> 0 | H24: =IF(OR(D24="KK",D24="F",D24="SU",D24="U"),0,Z24) -> 0.32638889 | I24: =IF(G24=H24," ",IF(G24>H24,"+","-")) -> - | J24: =IF(H24=G24," ",IF(H24>G24,(H24-G24),(G24-H24))) -> 0.32638889 | Q24: =IF(R24="","","-") | R24: =IF(AD24=0,"",AD24/-24) | T24: =IF(C24=" ","",IF(G24>0,G24+AD24/24,"")) | U24: =IF(OR(Z24>0,AND(Z24=0,T24<>"")),IF(AE24="","",IF(AE24=0,"",IF(AF24<0,"-","+"))),"") -> - | V24: =IF(OR(Z24>0,AND(Z24=0,T24<>"")),IF(AE24="","",IF(AG24<0,(AG24*(-1)),AG24)),"") -> 23 | W24: =IF(OR(Z24>0,AND(Z24=0,T24<>"")),IF(AE24="","",":"),"") -> : | X24: =IF(OR(Z24>0,AND(Z24=0,T24<>"")),IF(AE24="","",IF(AF24>0,PRODUCT(AH24,100),PRODUCT(AH24,-100))),"") -> 30 | Z24: =IF(C24=" "," ",IF(OR(TODAY()<C24,Stammdaten!$C$8>C24,AND(Stammdaten!$C$9>0,C24>Stammdaten!$C$9)),0,IF(WEEKDAY(C24)=$G$17,IF(OR($E$9="VZ",$E$9="Schicht"),$AH$17/24,IF($D$15<>"x",$AH$17/24,$G$15)),IF(WEEKDAY(C24)=$H$17,IF(OR($E$9="VZ",$E$9="Schicht"),$AH$17/24,IF($D$15<>"x",$AH$17/24,$H$15)),IF(WEEKDAY(C24)=$I$17,IF(OR($E$9="VZ",$E$9="Schicht"),$AH$17/24,IF($D$15<>"x",$AH$17/24,$I$15)),IF(WEEKDAY(C24)=$K$17,IF(OR($E$9="VZ",$E$9="Schicht"),$AH$17/24,IF($D$15<>"x",$AH$17/24,$K$15)),IF(WEEKDAY(C24)=$L$17,IF(OR($E$9="VZ",$E$9="Schicht"),$AH$17/24,IF($D$15<>"x",$AH$17/24,$L$15)),TIMEVALUE("0:00")))))))) -> 0.32638889 | AA24: =IF(I24="-",(-J24)*24,IF(I24="+",(+J24)*24,0)) -> -7.8333333 | AB24: =IF(L24>0,(L24-K24)+(N24-M24)+(P24-O24),TIMEVALUE("0:00")) -> 0 | AC24: =IF(G24="",0,IF(G24<=TIMEVALUE("6:30"),TIMEVALUE("0:00"),IF(G24>TIMEVALUE("9:45"),TIMEVALUE("0:45"),TIMEVALUE("0:30")))) -> 0 | AD24: =IF(OR(D24="BZ",D24="DB",D24="FZA",D24="K"),0,IF(AC24>AB24,-AC24*24,-AB24*24)) -> 0 | AE24: =IF(C24<>" ",AF24,"") -> -23.5 | AF24: =SUM(AF23,AA24,AD24) -> -23.5 | AG24: =ROUNDDOWN(ROUND(AF24,2),0) -> -23 | AH24: =SUM(AF24-AG24)/100*60 -> -0.3
B25: =IF(C25=" "," ",IF(WEEKDAY(C25)=1,"So",IF(WEEKDAY(C25)=7,"Sa",IF(WEEKDAY(C25)=2,"Mo",IF(WEEKDAY(C25)=3,"Di",IF(WEEKDAY(C25)=4,"Mi",IF(WEEKDAY(C25)=5,"Do",IF(WEEKDAY(C25)=6,"Fr","")))))))) -> Sa | C25: =IF(C24=" "," ",IF(MONTH(C24+1)<>MONTH(C24)," ",C24+1)) -> 44199 | G25: =IF(C25=" ","",IF(D25="FZA",0,IF(OR(D25="",D25="dA"),IF(AND(F25>0,E25>0),(F25-E25),0),IF(D25="F",(F25-E25),H25)))) -> 0 | H25: =IF(OR(D25="KK",D25="F",D25="SU",D25="U"),0,Z25) -> 0 | I25: =IF(G25=H25," ",IF(G25>H25,"+","-")) | J25: =IF(H25=G25," ",IF(H25>G25,(H25-G25),(G25-H25))) | Q25: =IF(R25="","","-") | R25: =IF(AD25=0,"",AD25/-24) | T25: =IF(C25=" ","",IF(G25>0,G25+AD25/24,"")) | U25: =IF(OR(Z25>0,AND(Z25=0,T25<>"")),IF(AE25="","",IF(AE25=0,"",IF(AF25<0,"-","+"))),"") | V25: =IF(OR(Z25>0,AND(Z25=0,T25<>"")),IF(AE25="","",IF(AG25<0,(AG25*(-1)),AG25)),"") | W25: =IF(OR(Z25>0,AND(Z25=0,T25<>"")),IF(AE25="","",":"),"") | X25: =IF(OR(Z25>0,AND(Z25=0,T25<>"")),IF(AE25="","",IF(AF25>0,PRODUCT(AH25,100),PRODUCT(AH25,-100))),"") | Z25: =IF(C25=" "," ",IF(OR(TODAY()<C25,Stammdaten!$C$8>C25,AND(Stammdaten!$C$9>0,C25>Stammdaten!$C$9)),0,IF(WEEKDAY(C25)=$G$17,IF(OR($E$9="VZ",$E$9="Schicht"),$AH$17/24,IF($D$15<>"x",$AH$17/24,$G$15)),IF(WEEKDAY(C25)=$H$17,IF(OR($E$9="VZ",$E$9="Schicht"),$AH$17/24,IF($D$15<>"x",$AH$17/24,$H$15)),IF(WEEKDAY(C25)=$I$17,IF(OR($E$9="VZ",$E$9="Schicht"),$AH$17/24,IF($D$15<>"x",$AH$17/24,$I$15)),IF(WEEKDAY(C25)=$K$17,IF(OR($E$9="VZ",$E$9="Schicht"),$AH$17/24,IF($D$15<>"x",$AH$17/24,$K$15)),IF(WEEKDAY(C25)=$L$17,IF(OR($E$9="VZ",$E$9="Schicht"),$AH$17/24,IF($D$15<>"x",$AH$17/24,$L$15)),TIMEVALUE("0:00")))))))) -> 0 | AA25: =IF(I25="-",(-J25)*24,IF(I25="+",(+J25)*24,0)) -> 0 | AB25: =IF(L25>0,(L25-K25)+(N25-M25)+(P25-O25),TIMEVALUE("0:00")) -> 0 | AC25: =IF(G25="",0,IF(G25<=TIMEVALUE("6:30"),TIMEVALUE("0:00"),IF(G25>TIMEVALUE("9:45"),TIMEVALUE("0:45"),TIMEVALUE("0:30")))) -> 0 | AD25: =IF(OR(D25="BZ",D25="DB",D25="FZA",D25="K"),0,IF(AC25>AB25,-AC25*24,-AB25*24)) -> 0 | AE25: =IF(C25<>" ",AF25,"") -> -23.5 | AF25: =SUM(AF24,AA25,AD25) -> -23.5 | AG25: =ROUNDDOWN(ROUND(AF25,2),0) -> -23 | AH25: =SUM(AF25-AG25)/100*60 -> -0.3
B26: =IF(C26=" "," ",IF(WEEKDAY(C26)=1,"So",IF(WEEKDAY(C26)=7,"Sa",IF(WEEKDAY(C26)=2,"Mo",IF(WEEKDAY(C26)=3,"Di",IF(WEEKDAY(C26)=4,"Mi",IF(WEEKDAY(C26)=5,"Do",IF(WEEKDAY(C26)=6,"Fr","")))))))) -> So | C26: =IF(C25=" "," ",IF(MONTH(C25+1)<>MONTH(C25)," ",C25+1)) -> 44200 | G26: =IF(C26=" ","",IF(D26="FZA",0,IF(OR(D26="",D26="dA"),IF(AND(F26>0,E26>0),(F26-E26),0),IF(D26="F",(F26-E26),H26)))) -> 0 | H26: =IF(OR(D26="KK",D26="F",D26="SU",D26="U"),0,Z26) -> 0 | I26: =IF(G26=H26," ",IF(G26>H26,"+","-")) | J26: =IF(H26=G26," ",IF(H26>G26,(H26-G26),(G26-H26))) | Q26: =IF(R26="","","-") | R26: =IF(AD26=0,"",AD26/-24) | T26: =IF(C26=" ","",IF(G26>0,G26+AD26/24,"")) | U26: =IF(OR(Z26>0,AND(Z26=0,T26<>"")),IF(AE26="","",IF(AE26=0,"",IF(AF26<0,"-","+"))),"") | V26: =IF(OR(Z26>0,AND(Z26=0,T26<>"")),IF(AE26="","",IF(AG26<0,(AG26*(-1)),AG26)),"") | W26: =IF(OR(Z26>0,AND(Z26=0,T26<>"")),IF(AE26="","",":"),"") | X26: =IF(OR(Z26>0,AND(Z26=0,T26<>"")),IF(AE26="","",IF(AF26>0,PRODUCT(AH26,100),PRODUCT(AH26,-100))),"") | Z26: =IF(C26=" "," ",IF(OR(TODAY()<C26,Stammdaten!$C$8>C26,AND(Stammdaten!$C$9>0,C26>Stammdaten!$C$9)),0,IF(WEEKDAY(C26)=$G$17,IF(OR($E$9="VZ",$E$9="Schicht"),$AH$17/24,IF($D$15<>"x",$AH$17/24,$G$15)),IF(WEEKDAY(C26)=$H$17,IF(OR($E$9="VZ",$E$9="Schicht"),$AH$17/24,IF($D$15<>"x",$AH$17/24,$H$15)),IF(WEEKDAY(C26)=$I$17,IF(OR($E$9="VZ",$E$9="Schicht"),$AH$17/24,IF($D$15<>"x",$AH$17/24,$I$15)),IF(WEEKDAY(C26)=$K$17,IF(OR($E$9="VZ",$E$9="Schicht"),$AH$17/24,IF($D$15<>"x",$AH$17/24,$K$15)),IF(WEEKDAY(C26)=$L$17,IF(OR($E$9="VZ",$E$9="Schicht"),$AH$17/24,IF($D$15<>"x",$AH$17/24,$L$15)),TIMEVALUE("0:00")))))))) -> 0 | AA26: =IF(I26="-",(-J26)*24,IF(I26="+",(+J26)*24,0)) -> 0 | AB26: =IF(L26>0,(L26-K26)+(N26-M26)+(P26-O26),TIMEVALUE("0:00")) -> 0 | AC26: =IF(G26="",0,IF(G26<=TIMEVALUE("6:30"),TIMEVALUE("0:00"),IF(G26>TIMEVALUE("9:45"),TIMEVALUE("0:45"),TIMEVALUE("0:30")))) -> 0 | AD26: =IF(OR(D26="BZ",D26="DB",D26="FZA",D26="K"),0,IF(AC26>AB26,-AC26*24,-AB26*24)) -> 0 | AE26: =IF(C26<>" ",AF26,"") -> -23.5 | AF26: =SUM(AF25,AA26,AD26) -> -23.5 | AG26: =ROUNDDOWN(ROUND(AF26,2),0) -> -23 | AH26: =SUM(AF26-AG26)/100*60 -> -0.3
B27: =IF(C27=" "," ",IF(WEEKDAY(C27)=1,"So",IF(WEEKDAY(C27)=7,"Sa",IF(WEEKDAY(C27)=2,"Mo",IF(WEEKDAY(C27)=3,"Di",IF(WEEKDAY(C27)=4,"Mi",IF(WEEKDAY(C27)=5,"Do",IF(WEEKDAY(C27)=6,"Fr","")))))))) -> Mo | C27: =IF(C26=" "," ",IF(MONTH(C26+1)<>MONTH(C26)," ",C26+1)) -> 44201 | G27: =IF(C27=" ","",IF(D27="FZA",0,IF(OR(D27="",D27="dA"),IF(AND(F27>0,E27>0),(F27-E27),0),IF(D27="F",(F27-E27),H27)))) -> 0 | H27: =IF(OR(D27="KK",D27="F",D27="SU",D27="U"),0,Z27) -> 0.32638889 | I27: =IF(G27=H27," ",IF(G27>H27,"+","-")) -> - | J27: =IF(H27=G27," ",IF(H27>G27,(H27-G27),(G27-H27))) -> 0.32638889 | Q27: =IF(R27="","","-") | R27: =IF(AD27=0,"",AD27/-24) | T27: =IF(C27=" ","",IF(G27>0,G27+AD27/24,"")) | U27: =IF(OR(Z27>0,AND(Z27=0,T27<>"")),IF(AE27="","",IF(AE27=0,"",IF(AF27<0,"-","+"))),"") -> - | V27: =IF(OR(Z27>0,AND(Z27=0,T27<>"")),IF(AE27="","",IF(AG27<0,(AG27*(-1)),AG27)),"") -> 31 | W27: =IF(OR(Z27>0,AND(Z27=0,T27<>"")),IF(AE27="","",":"),"") -> : | X27: =IF(OR(Z27>0,AND(Z27=0,T27<>"")),IF(AE27="","",IF(AF27>0,PRODUCT(AH27,100),PRODUCT(AH27,-100))),"") -> 20 | Z27: =IF(C27=" "," ",IF(OR(TODAY()<C27,Stammdaten!$C$8>C27,AND(Stammdaten!$C$9>0,C27>Stammdaten!$C$9)),0,IF(WEEKDAY(C27)=$G$17,IF(OR($E$9="VZ",$E$9="Schicht"),$AH$17/24,IF($D$15<>"x",$AH$17/24,$G$15)),IF(WEEKDAY(C27)=$H$17,IF(OR($E$9="VZ",$E$9="Schicht"),$AH$17/24,IF($D$15<>"x",$AH$17/24,$H$15)),IF(WEEKDAY(C27)=$I$17,IF(OR($E$9="VZ",$E$9="Schicht"),$AH$17/24,IF($D$15<>"x",$AH$17/24,$I$15)),IF(WEEKDAY(C27)=$K$17,IF(OR($E$9="VZ",$E$9="Schicht"),$AH$17/24,IF($D$15<>"x",$AH$17/24,$K$15)),IF(WEEKDAY(C27)=$L$17,IF(OR($E$9="VZ",$E$9="Schicht"),$AH$17/24,IF($D$15<>"x",$AH$17/24,$L$15)),TIMEVALUE("0:00")))))))) -> 0.32638889 | AA27: =IF(I27="-",(-J27)*24,IF(I27="+",(+J27)*24,0)) -> -7.8333333 | AB27: =IF(L27>0,(L27-K27)+(N27-M27)+(P27-O27),TIMEVALUE("0:00")) -> 0 | AC27: =IF(G27="",0,IF(G27<=TIMEVALUE("6:30"),TIMEVALUE("0:00"),IF(G27>TIMEVALUE("9:45"),TIMEVALUE("0:45"),TIMEVALUE("0:30")))) -> 0 | AD27: =IF(OR(D27="BZ",D27="DB",D27="FZA",D27="K"),0,IF(AC27>AB27,-AC27*24,-AB27*24)) -> 0 | AE27: =IF(C27<>" ",AF27,"") -> -31.333333 | AF27: =SUM(AF26,AA27,AD27) -> -31.333333 | AG27: =ROUNDDOWN(ROUND(AF27,2),0) -> -31 | AH27: =SUM(AF27-AG27)/100*60 -> -0.2
B28: =IF(C28=" "," ",IF(WEEKDAY(C28)=1,"So",IF(WEEKDAY(C28)=7,"Sa",IF(WEEKDAY(C28)=2,"Mo",IF(WEEKDAY(C28)=3,"Di",IF(WEEKDAY(C28)=4,"Mi",IF(WEEKDAY(C28)=5,"Do",IF(WEEKDAY(C28)=6,"Fr","")))))))) -> Di | C28: =IF(C27=" "," ",IF(MONTH(C27+1)<>MONTH(C27)," ",C27+1)) -> 44202 | G28: =IF(C28=" ","",IF(D28="FZA",0,IF(OR(D28="",D28="dA"),IF(AND(F28>0,E28>0),(F28-E28),0),IF(D28="F",(F28-E28),H28)))) -> 0 | H28: =IF(OR(D28="KK",D28="F",D28="SU",D28="U"),0,Z28) -> 0.32638889 | I28: =IF(G28=H28," ",IF(G28>H28,"+","-")) -> - | J28: =IF(H28=G28," ",IF(H28>G28,(H28-G28),(G28-H28))) -> 0.32638889 | Q28: =IF(R28="","","-") | R28: =IF(AD28=0,"",AD28/-24) | T28: =IF(C28=" ","",IF(G28>0,G28+AD28/24,"")) | U28: =IF(OR(Z28>0,AND(Z28=0,T28<>"")),IF(AE28="","",IF(AE28=0,"",IF(AF28<0,"-","+"))),"") -> - | V28: =IF(OR(Z28>0,AND(Z28=0,T28<>"")),IF(AE28="","",IF(AG28<0,(AG28*(-1)),AG28)),"") -> 39 | W28: =IF(OR(Z28>0,AND(Z28=0,T28<>"")),IF(AE28="","",":"),"") -> : | X28: =IF(OR(Z28>0,AND(Z28=0,T28<>"")),IF(AE28="","",IF(AF28>0,PRODUCT(AH28,100),PRODUCT(AH28,-100))),"") -> 10 | Z28: =IF(C28=" "," ",IF(OR(TODAY()<C28,Stammdaten!$C$8>C28,AND(Stammdaten!$C$9>0,C28>Stammdaten!$C$9)),0,IF(WEEKDAY(C28)=$G$17,IF(OR($E$9="VZ",$E$9="Schicht"),$AH$17/24,IF($D$15<>"x",$AH$17/24,$G$15)),IF(WEEKDAY(C28)=$H$17,IF(OR($E$9="VZ",$E$9="Schicht"),$AH$17/24,IF($D$15<>"x",$AH$17/24,$H$15)),IF(WEEKDAY(C28)=$I$17,IF(OR($E$9="VZ",$E$9="Schicht"),$AH$17/24,IF($D$15<>"x",$AH$17/24,$I$15)),IF(WEEKDAY(C28)=$K$17,IF(OR($E$9="VZ",$E$9="Schicht"),$AH$17/24,IF($D$15<>"x",$AH$17/24,$K$15)),IF(WEEKDAY(C28)=$L$17,IF(OR($E$9="VZ",$E$9="Schicht"),$AH$17/24,IF($D$15<>"x",$AH$17/24,$L$15)),TIMEVALUE("0:00")))))))) -> 0.32638889 | AA28: =IF(I28="-",(-J28)*24,IF(I28="+",(+J28)*24,0)) -> -7.8333333 | AB28: =IF(L28>0,(L28-K28)+(N28-M28)+(P28-O28),TIMEVALUE("0:00")) -> 0 | AC28: =IF(G28="",0,IF(G28<=TIMEVALUE("6:30"),TIMEVALUE("0:00"),IF(G28>TIMEVALUE("9:45"),TIMEVALUE("0:45"),TIMEVALUE("0:30")))) -> 0 | AD28: =IF(OR(D28="BZ",D28="DB",D28="FZA",D28="K"),0,IF(AC28>AB28,-AC28*24,-AB28*24)) -> 0 | AE28: =IF(C28<>" ",AF28,"") -> -39.166667 | AF28: =SUM(AF27,AA28,AD28) -> -39.166667 | AG28: =ROUNDDOWN(ROUND(AF28,2),0) -> -39 | AH28: =SUM(AF28-AG28)/100*60 -> -0.1
B29: =IF(C29=" "," ",IF(WEEKDAY(C29)=1,"So",IF(WEEKDAY(C29)=7,"Sa",IF(WEEKDAY(C29)=2,"Mo",IF(WEEKDAY(C29)=3,"Di",IF(WEEKDAY(C29)=4,"Mi",IF(WEEKDAY(C29)=5,"Do",IF(WEEKDAY(C29)=6,"Fr","")))))))) -> Mi | C29: =IF(C28=" "," ",IF(MONTH(C28+1)<>MONTH(C28)," ",C28+1)) -> 44203 | G29: =IF(C29=" ","",IF(D29="FZA",0,IF(OR(D29="",D29="dA"),IF(AND(F29>0,E29>0),(F29-E29),0),IF(D29="F",(F29-E29),H29)))) -> 0 | H29: =IF(OR(D29="KK",D29="F",D29="SU",D29="U"),0,Z29) -> 0.32638889 | I29: =IF(G29=H29," ",IF(G29>H29,"+","-")) -> - | J29: =IF(H29=G29," ",IF(H29>G29,(H29-G29),(G29-H29))) -> 0.32638889 | Q29: =IF(R29="","","-") | R29: =IF(AD29=0,"",AD29/-24) | T29: =IF(C29=" ","",IF(G29>0,G29+AD29/24,"")) | U29: =IF(OR(Z29>0,AND(Z29=0,T29<>"")),IF(AE29="","",IF(AE29=0,"",IF(AF29<0,"-","+"))),"") -> - | V29: =IF(OR(Z29>0,AND(Z29=0,T29<>"")),IF(AE29="","",IF(AG29<0,(AG29*(-1)),AG29)),"") -> 47 | W29: =IF(OR(Z29>0,AND(Z29=0,T29<>"")),IF(AE29="","",":"),"") -> : | X29: =IF(OR(Z29>0,AND(Z29=0,T29<>"")),IF(AE29="","",IF(AF29>0,PRODUCT(AH29,100),PRODUCT(AH29,-100))),"") -> 4.2632564e-13 | Z29: =IF(C29=" "," ",IF(OR(TODAY()<C29,Stammdaten!$C$8>C29,AND(Stammdaten!$C$9>0,C29>Stammdaten!$C$9)),0,IF(WEEKDAY(C29)=$G$17,IF(OR($E$9="VZ",$E$9="Schicht"),$AH$17/24,IF($D$15<>"x",$AH$17/24,$G$15)),IF(WEEKDAY(C29)=$H$17,IF(OR($E$9="VZ",$E$9="Schicht"),$AH$17/24,IF($D$15<>"x",$AH$17/24,$H$15)),IF(WEEKDAY(C29)=$I$17,IF(OR($E$9="VZ",$E$9="Schicht"),$AH$17/24,IF($D$15<>"x",$AH$17/24,$I$15)),IF(WEEKDAY(C29)=$K$17,IF(OR($E$9="VZ",$E$9="Schicht"),$AH$17/24,IF($D$15<>"x",$AH$17/24,$K$15)),IF(WEEKDAY(C29)=$L$17,IF(OR($E$9="VZ",$E$9="Schicht"),$AH$17/24,IF($D$15<>"x",$AH$17/24,$L$15)),TIMEVALUE("0:00")))))))) -> 0.32638889 | AA29: =IF(I29="-",(-J29)*24,IF(I29="+",(+J29)*24,0)) -> -7.8333333 | AB29: =IF(L29>0,(L29-K29)+(N29-M29)+(P29-O29),TIMEVALUE("0:00")) -> 0 | AC29: =IF(G29="",0,IF(G29<=TIMEVALUE("6:30"),TIMEVALUE("0:00"),IF(G29>TIMEVALUE("9:45"),TIMEVALUE("0:45"),TIMEVALUE("0:30")))) -> 0 | AD29: =IF(OR(D29="BZ",D29="DB",D29="FZA",D29="K"),0,IF(AC29>AB29,-AC29*24,-AB29*24)) -> 0 | AE29: =IF(C29<>" ",AF29,"") -> -47 | AF29: =SUM(AF28,AA29,AD29) -> -47 | AG29: =ROUNDDOWN(ROUND(AF29,2),0) -> -47 | AH29: =SUM(AF29-AG29)/100*60 -> -4.2632564e-15
B30: =IF(C30=" "," ",IF(WEEKDAY(C30)=1,"So",IF(WEEKDAY(C30)=7,"Sa",IF(WEEKDAY(C30)=2,"Mo",IF(WEEKDAY(C30)=3,"Di",IF(WEEKDAY(C30)=4,"Mi",IF(WEEKDAY(C30)=5,"Do",IF(WEEKDAY(C30)=6,"Fr","")))))))) -> Do | C30: =IF(C29=" "," ",IF(MONTH(C29+1)<>MONTH(C29)," ",C29+1)) -> 44204 | G30: =IF(C30=" ","",IF(D30="FZA",0,IF(OR(D30="",D30="dA"),IF(AND(F30>0,E30>0),(F30-E30),0),IF(D30="F",(F30-E30),H30)))) -> 0 | H30: =IF(OR(D30="KK",D30="F",D30="SU",D30="U"),0,Z30) -> 0.32638889 | I30: =IF(G30=H30," ",IF(G30>H30,"+","-")) -> - | J30: =IF(H30=G30," ",IF(H30>G30,(H30-G30),(G30-H30))) -> 0.32638889 | Q30: =IF(R30="","","-") | R30: =IF(AD30=0,"",AD30/-24) | T30: =IF(C30=" ","",IF(G30>0,G30+AD30/24,"")) | U30: =IF(OR(Z30>0,AND(Z30=0,T30<>"")),IF(AE30="","",IF(AE30=0,"",IF(AF30<0,"-","+"))),"") -> - | V30: =IF(OR(Z30>0,AND(Z30=0,T30<>"")),IF(AE30="","",IF(AG30<0,(AG30*(-1)),AG30)),"") -> 54 | W30: =IF(OR(Z30>0,AND(Z30=0,T30<>"")),IF(AE30="","",":"),"") -> : | X30: =IF(OR(Z30>0,AND(Z30=0,T30<>"")),IF(AE30="","",IF(AF30>0,PRODUCT(AH30,100),PRODUCT(AH30,-100))),"") -> 50 | Z30: =IF(C30=" "," ",IF(OR(TODAY()<C30,Stammdaten!$C$8>C30,AND(Stammdaten!$C$9>0,C30>Stammdaten!$C$9)),0,IF(WEEKDAY(C30)=$G$17,IF(OR($E$9="VZ",$E$9="Schicht"),$AH$17/24,IF($D$15<>"x",$AH$17/24,$G$15)),IF(WEEKDAY(C30)=$H$17,IF(OR($E$9="VZ",$E$9="Schicht"),$AH$17/24,IF($D$15<>"x",$AH$17/24,$H$15)),IF(WEEKDAY(C30)=$I$17,IF(OR($E$9="VZ",$E$9="Schicht"),$AH$17/24,IF($D$15<>"x",$AH$17/24,$I$15)),IF(WEEKDAY(C30)=$K$17,IF(OR($E$9="VZ",$E$9="Schicht"),$AH$17/24,IF($D$15<>"x",$AH$17/24,$K$15)),IF(WEEKDAY(C30)=$L$17,IF(OR($E$9="VZ",$E$9="Schicht"),$AH$17/24,IF($D$15<>"x",$AH$17/24,$L$15)),TIMEVALUE("0:00")))))))) -> 0.32638889 | AA30: =IF(I30="-",(-J30)*24,IF(I30="+",(+J30)*24,0)) -> -7.8333333 | AB30: =IF(L30>0,(L30-K30)+(N30-M30)+(P30-O30),TIMEVALUE("0:00")) -> 0 | AC30: =IF(G30="",0,IF(G30<=TIMEVALUE("6:30"),TIMEVALUE("0:00"),IF(G30>TIMEVALUE("9:45"),TIMEVALUE("0:45"),TIMEVALUE("0:30")))) -> 0 | AD30: =IF(OR(D30="BZ",D30="DB",D30="FZA",D30="K"),0,IF(AC30>AB30,-AC30*24,-AB30*24)) -> 0 | AE30: =IF(C30<>" ",AF30,"") -> -54.833333 | AF30: =SUM(AF29,AA30,AD30) -> -54.833333 | AG30: =ROUNDDOWN(ROUND(AF30,2),0) -> -54 | AH30: =SUM(AF30-AG30)/100*60 -> -0.5
B31: =IF(C31=" "," ",IF(WEEKDAY(C31)=1,"So",IF(WEEKDAY(C31)=7,"Sa",IF(WEEKDAY(C31)=2,"Mo",IF(WEEKDAY(C31)=3,"Di",IF(WEEKDAY(C31)=4,"Mi",IF(WEEKDAY(C31)=5,"Do",IF(WEEKDAY(C31)=6,"Fr","")))))))) -> Fr | C31: =IF(C30=" "," ",IF(MONTH(C30+1)<>MONTH(C30)," ",C30+1)) -> 44205 | G31: =IF(C31=" ","",IF(D31="FZA",0,IF(OR(D31="",D31="dA"),IF(AND(F31>0,E31>0),(F31-E31),0),IF(D31="F",(F31-E31),H31)))) -> 0 | H31: =IF(OR(D31="KK",D31="F",D31="SU",D31="U"),0,Z31) -> 0.32638889 | I31: =IF(G31=H31," ",IF(G31>H31,"+","-")) -> - | J31: =IF(H31=G31," ",IF(H31>G31,(H31-G31),(G31-H31))) -> 0.32638889 | Q31: =IF(R31="","","-") | R31: =IF(AD31=0,"",AD31/-24) | T31: =IF(C31=" ","",IF(G31>0,G31+AD31/24,"")) | U31: =IF(OR(Z31>0,AND(Z31=0,T31<>"")),IF(AE31="","",IF(AE31=0,"",IF(AF31<0,"-","+"))),"") -> - | V31: =IF(OR(Z31>0,AND(Z31=0,T31<>"")),IF(AE31="","",IF(AG31<0,(AG31*(-1)),AG31)),"") -> 62 | W31: =IF(OR(Z31>0,AND(Z31=0,T31<>"")),IF(AE31="","",":"),"") -> : | X31: =IF(OR(Z31>0,AND(Z31=0,T31<>"")),IF(AE31="","",IF(AF31>0,PRODUCT(AH31,100),PRODUCT(AH31,-100))),"") -> 40 | Z31: =IF(C31=" "," ",IF(OR(TODAY()<C31,Stammdaten!$C$8>C31,AND(Stammdaten!$C$9>0,C31>Stammdaten!$C$9)),0,IF(WEEKDAY(C31)=$G$17,IF(OR($E$9="VZ",$E$9="Schicht"),$AH$17/24,IF($D$15<>"x",$AH$17/24,$G$15)),IF(WEEKDAY(C31)=$H$17,IF(OR($E$9="VZ",$E$9="Schicht"),$AH$17/24,IF($D$15<>"x",$AH$17/24,$H$15)),IF(WEEKDAY(C31)=$I$17,IF(OR($E$9="VZ",$E$9="Schicht"),$AH$17/24,IF($D$15<>"x",$AH$17/24,$I$15)),IF(WEEKDAY(C31)=$K$17,IF(OR($E$9="VZ",$E$9="Schicht"),$AH$17/24,IF($D$15<>"x",$AH$17/24,$K$15)),IF(WEEKDAY(C31)=$L$17,IF(OR($E$9="VZ",$E$9="Schicht"),$AH$17/24,IF($D$15<>"x",$AH$17/24,$L$15)),TIMEVALUE("0:00")))))))) -> 0.32638889 | AA31: =IF(I31="-",(-J31)*24,IF(I31="+",(+J31)*24,0)) -> -7.8333333 | AB31: =IF(L31>0,(L31-K31)+(N31-M31)+(P31-O31),TIMEVALUE("0:00")) -> 0 | AC31: =IF(G31="",0,IF(G31<=TIMEVALUE("6:30"),TIMEVALUE("0:00"),IF(G31>TIMEVALUE("9:45"),TIMEVALUE("0:45"),TIMEVALUE("0:30")))) -> 0 | AD31: =IF(OR(D31="BZ",D31="DB",D31="FZA",D31="K"),0,IF(AC31>AB31,-AC31*24,-AB31*24)) -> 0 | AE31: =IF(C31<>" ",AF31,"") -> -62.666667 | AF31: =SUM(AF30,AA31,AD31) -> -62.666667 | AG31: =ROUNDDOWN(ROUND(AF31,2),0) -> -62 | AH31: =SUM(AF31-AG31)/100*60 -> -0.4
B32: =IF(C32=" "," ",IF(WEEKDAY(C32)=1,"So",IF(WEEKDAY(C32)=7,"Sa",IF(WEEKDAY(C32)=2,"Mo",IF(WEEKDAY(C32)=3,"Di",IF(WEEKDAY(C32)=4,"Mi",IF(WEEKDAY(C32)=5,"Do",IF(WEEKDAY(C32)=6,"Fr","")))))))) -> Sa | C32: =IF(C31=" "," ",IF(MONTH(C31+1)<>MONTH(C31)," ",C31+1)) -> 44206 | G32: =IF(C32=" ","",IF(D32="FZA",0,IF(OR(D32="",D32="dA"),IF(AND(F32>0,E32>0),(F32-E32),0),IF(D32="F",(F32-E32),H32)))) -> 0 | H32: =IF(OR(D32="KK",D32="F",D32="SU",D32="U"),0,Z32) -> 0 | I32: =IF(G32=H32," ",IF(G32>H32,"+","-")) | J32: =IF(H32=G32," ",IF(H32>G32,(H32-G32),(G32-H32))) | Q32: =IF(R32="","","-") | R32: =IF(AD32=0,"",AD32/-24) | T32: =IF(C32=" ","",IF(G32>0,G32+AD32/24,"")) | U32: =IF(OR(Z32>0,AND(Z32=0,T32<>"")),IF(AE32="","",IF(AE32=0,"",IF(AF32<0,"-","+"))),"") | V32: =IF(OR(Z32>0,AND(Z32=0,T32<>"")),IF(AE32="","",IF(AG32<0,(AG32*(-1)),AG32)),"") | W32: =IF(OR(Z32>0,AND(Z32=0,T32<>"")),IF(AE32="","",":"),"") | X32: =IF(OR(Z32>0,AND(Z32=0,T32<>"")),IF(AE32="","",IF(AF32>0,PRODUCT(AH32,100),PRODUCT(AH32,-100))),"") | Z32: =IF(C32=" "," ",IF(OR(TODAY()<C32,Stammdaten!$C$8>C32,AND(Stammdaten!$C$9>0,C32>Stammdaten!$C$9)),0,IF(WEEKDAY(C32)=$G$17,IF(OR($E$9="VZ",$E$9="Schicht"),$AH$17/24,IF($D$15<>"x",$AH$17/24,$G$15)),IF(WEEKDAY(C32)=$H$17,IF(OR($E$9="VZ",$E$9="Schicht"),$AH$17/24,IF($D$15<>"x",$AH$17/24,$H$15)),IF(WEEKDAY(C32)=$I$17,IF(OR($E$9="VZ",$E$9="Schicht"),$AH$17/24,IF($D$15<>"x",$AH$17/24,$I$15)),IF(WEEKDAY(C32)=$K$17,IF(OR($E$9="VZ",$E$9="Schicht"),$AH$17/24,IF($D$15<>"x",$AH$17/24,$K$15)),IF(WEEKDAY(C32)=$L$17,IF(OR($E$9="VZ",$E$9="Schicht"),$AH$17/24,IF($D$15<>"x",$AH$17/24,$L$15)),TIMEVALUE("0:00")))))))) -> 0 | AA32: =IF(I32="-",(-J32)*24,IF(I32="+",(+J32)*24,0)) -> 0 | AB32: =IF(L32>0,(L32-K32)+(N32-M32)+(P32-O32),TIMEVALUE("0:00")) -> 0 | AC32: =IF(G32="",0,IF(G32<=TIMEVALUE("6:30"),TIMEVALUE("0:00"),IF(G32>TIMEVALUE("9:45"),TIMEVALUE("0:45"),TIMEVALUE("0:30")))) -> 0 | AD32: =IF(OR(D32="BZ",D32="DB",D32="FZA",D32="K"),0,IF(AC32>AB32,-AC32*24,-AB32*24)) -> 0 | AE32: =IF(C32<>" ",AF32,"") -> -62.666667 | AF32: =SUM(AF31,AA32,AD32) -> -62.666667 | AG32: =ROUNDDOWN(ROUND(AF32,2),0) -> -62 | AH32: =SUM(AF32-AG32)/100*60 -> -0.4
B33: =IF(C33=" "," ",IF(WEEKDAY(C33)=1,"So",IF(WEEKDAY(C33)=7,"Sa",IF(WEEKDAY(C33)=2,"Mo",IF(WEEKDAY(C33)=3,"Di",IF(WEEKDAY(C33)=4,"Mi",IF(WEEKDAY(C33)=5,"Do",IF(WEEKDAY(C33)=6,"Fr","")))))))) -> So | C33: =IF(C32=" "," ",IF(MONTH(C32+1)<>MONTH(C32)," ",C32+1)) -> 44207 | G33: =IF(C33=" ","",IF(D33="FZA",0,IF(OR(D33="",D33="dA"),IF(AND(F33>0,E33>0),(F33-E33),0),IF(D33="F",(F33-E33),H33)))) -> 0 | H33: =IF(OR(D33="KK",D33="F",D33="SU",D33="U"),0,Z33) -> 0 | I33: =IF(G33=H33," ",IF(G33>H33,"+","-")) | J33: =IF(H33=G33," ",IF(H33>G33,(H33-G33),(G33-H33))) | Q33: =IF(R33="","","-") | R33: =IF(AD33=0,"",AD33/-24) | T33: =IF(C33=" ","",IF(G33>0,G33+AD33/24,"")) | U33: =IF(OR(Z33>0,AND(Z33=0,T33<>"")),IF(AE33="","",IF(AE33=0,"",IF(AF33<0,"-","+"))),"") | V33: =IF(OR(Z33>0,AND(Z33=0,T33<>"")),IF(AE33="","",IF(AG33<0,(AG33*(-1)),AG33)),"") | W33: =IF(OR(Z33>0,AND(Z33=0,T33<>"")),IF(AE33="","",":"),"") | X33: =IF(OR(Z33>0,AND(Z33=0,T33<>"")),IF(AE33="","",IF(AF33>0,PRODUCT(AH33,100),PRODUCT(AH33,-100))),"") | Z33: =IF(C33=" "," ",IF(OR(TODAY()<C33,Stammdaten!$C$8>C33,AND(Stammdaten!$C$9>0,C33>Stammdaten!$C$9)),0,IF(WEEKDAY(C33)=$G$17,IF(OR($E$9="VZ",$E$9="Schicht"),$AH$17/24,IF($D$15<>"x",$AH$17/24,$G$15)),IF(WEEKDAY(C33)=$H$17,IF(OR($E$9="VZ",$E$9="Schicht"),$AH$17/24,IF($D$15<>"x",$AH$17/24,$H$15)),IF(WEEKDAY(C33)=$I$17,IF(OR($E$9="VZ",$E$9="Schicht"),$AH$17/24,IF($D$15<>"x",$AH$17/24,$I$15)),IF(WEEKDAY(C33)=$K$17,IF(OR($E$9="VZ",$E$9="Schicht"),$AH$17/24,IF($D$15<>"x",$AH$17/24,$K$15)),IF(WEEKDAY(C33)=$L$17,IF(OR($E$9="VZ",$E$9="Schicht"),$AH$17/24,IF($D$15<>"x",$AH$17/24,$L$15)),TIMEVALUE("0:00")))))))) -> 0 | AA33: =IF(I33="-",(-J33)*24,IF(I33="+",(+J33)*24,0)) -> 0 | AB33: =IF(L33>0,(L33-K33)+(N33-M33)+(P33-O33),TIMEVALUE("0:00")) -> 0 | AC33: =IF(G33="",0,IF(G33<=TIMEVALUE("6:30"),TIMEVALUE("0:00"),IF(G33>TIMEVALUE("9:45"),TIMEVALUE("0:45"),TIMEVALUE("0:30")))) -> 0 | AD33: =IF(OR(D33="BZ",D33="DB",D33="FZA",D33="K"),0,IF(AC33>AB33,-AC33*24,-AB33*24)) -> 0 | AE33: =IF(C33<>" ",AF33,"") -> -62.666667 | AF33: =SUM(AF32,AA33,AD33) -> -62.666667 | AG33: =ROUNDDOWN(ROUND(AF33,2),0) -> -62 | AH33: =SUM(AF33-AG33)/100*60 -> -0.4
B34: =IF(C34=" "," ",IF(WEEKDAY(C34)=1,"So",IF(WEEKDAY(C34)=7,"Sa",IF(WEEKDAY(C34)=2,"Mo",IF(WEEKDAY(C34)=3,"Di",IF(WEEKDAY(C34)=4,"Mi",IF(WEEKDAY(C34)=5,"Do",IF(WEEKDAY(C34)=6,"Fr","")))))))) -> Mo | C34: =IF(C33=" "," ",IF(MONTH(C33+1)<>MONTH(C33)," ",C33+1)) -> 44208 | G34: =IF(C34=" ","",IF(D34="FZA",0,IF(OR(D34="",D34="dA"),IF(AND(F34>0,E34>0),(F34-E34),0),IF(D34="F",(F34-E34),H34)))) -> 0 | H34: =IF(OR(D34="KK",D34="F",D34="SU",D34="U"),0,Z34) -> 0.32638889 | I34: =IF(G34=H34," ",IF(G34>H34,"+","-")) -> - | J34: =IF(H34=G34," ",IF(H34>G34,(H34-G34),(G34-H34))) -> 0.32638889 | Q34: =IF(R34="","","-") | R34: =IF(AD34=0,"",AD34/-24) | T34: =IF(C34=" ","",IF(G34>0,G34+AD34/24,"")) | U34: =IF(OR(Z34>0,AND(Z34=0,T34<>"")),IF(AE34="","",IF(AE34=0,"",IF(AF34<0,"-","+"))),"") -> - | V34: =IF(OR(Z34>0,AND(Z34=0,T34<>"")),IF(AE34="","",IF(AG34<0,(AG34*(-1)),AG34)),"") -> 70 | W34: =IF(OR(Z34>0,AND(Z34=0,T34<>"")),IF(AE34="","",":"),"") -> : | X34: =IF(OR(Z34>0,AND(Z34=0,T34<>"")),IF(AE34="","",IF(AF34>0,PRODUCT(AH34,100),PRODUCT(AH34,-100))),"") -> 30 | Z34: =IF(C34=" "," ",IF(OR(TODAY()<C34,Stammdaten!$C$8>C34,AND(Stammdaten!$C$9>0,C34>Stammdaten!$C$9)),0,IF(WEEKDAY(C34)=$G$17,IF(OR($E$9="VZ",$E$9="Schicht"),$AH$17/24,IF($D$15<>"x",$AH$17/24,$G$15)),IF(WEEKDAY(C34)=$H$17,IF(OR($E$9="VZ",$E$9="Schicht"),$AH$17/24,IF($D$15<>"x",$AH$17/24,$H$15)),IF(WEEKDAY(C34)=$I$17,IF(OR($E$9="VZ",$E$9="Schicht"),$AH$17/24,IF($D$15<>"x",$AH$17/24,$I$15)),IF(WEEKDAY(C34)=$K$17,IF(OR($E$9="VZ",$E$9="Schicht"),$AH$17/24,IF($D$15<>"x",$AH$17/24,$K$15)),IF(WEEKDAY(C34)=$L$17,IF(OR($E$9="VZ",$E$9="Schicht"),$AH$17/24,IF($D$15<>"x",$AH$17/24,$L$15)),TIMEVALUE("0:00")))))))) -> 0.32638889 | AA34: =IF(I34="-",(-J34)*24,IF(I34="+",(+J34)*24,0)) -> -7.8333333 | AB34: =IF(L34>0,(L34-K34)+(N34-M34)+(P34-O34),TIMEVALUE("0:00")) -> 0 | AC34: =IF(G34="",0,IF(G34<=TIMEVALUE("6:30"),TIMEVALUE("0:00"),IF(G34>TIMEVALUE("9:45"),TIMEVALUE("0:45"),TIMEVALUE("0:30")))) -> 0 | AD34: =IF(OR(D34="BZ",D34="DB",D34="FZA",D34="K"),0,IF(AC34>AB34,-AC34*24,-AB34*24)) -> 0 | AE34: =IF(C34<>" ",AF34,"") -> -70.5 | AF34: =SUM(AF33,AA34,AD34) -> -70.5 | AG34: =ROUNDDOWN(ROUND(AF34,2),0) -> -70 | AH34: =SUM(AF34-AG34)/100*60 -> -0.3
... B49: =IF(C49=" "," ",IF(WEEKDAY(C49)=1,"So",IF(WEEKDAY(C49)=7,"Sa",IF(WEEKDAY(C49)=2,"Mo",IF(WEEKDAY(C49)=3,"Di",IF(WEEKDAY(C49)=4,"Mi",IF(WEEKDAY(C49)=5,"Do",IF(WEEKDAY(C49)=6,"Fr","")))))))) -> Di | C49: =IF(C48=" "," ",IF(MONTH(C48+1)<>MONTH(C48)," ",C48+1)) -> 44223 | G49: =IF(C49=" ","",IF(D49="FZA",0,IF(OR(D49="",D49="dA"),IF(AND(F49>0,E49>0),(F49-E49),0),IF(D49="F",(F49-E49),H49)))) -> 0 | H49: =IF(OR(D49="KK",D49="F",D49="SU",D49="U"),0,Z49) -> 0.32638889 | I49: =IF(G49=H49," ",IF(G49>H49,"+","-")) -> - | J49: =IF(H49=G49," ",IF(H49>G49,(H49-G49),(G49-H49))) -> 0.32638889 | Q49: =IF(R49="","","-") | R49: =IF(AD49=0,"",AD49/-24) | T49: =IF(C49=" ","",IF(G49>0,G49+AD49/24,"")) | U49: =IF(OR(Z49>0,AND(Z49=0,T49<>"")),IF(AE49="","",IF(AE49=0,"",IF(AF49<0,"-","+"))),"") -> - | V49: =IF(OR(Z49>0,AND(Z49=0,T49<>"")),IF(AE49="","",IF(AG49<0,(AG49*(-1)),AG49)),"") -> 156 | W49: =IF(OR(Z49>0,AND(Z49=0,T49<>"")),IF(AE49="","",":"),"") -> : | X49: =IF(OR(Z49>0,AND(Z49=0,T49<>"")),IF(AE49="","",IF(AF49>0,PRODUCT(AH49,100),PRODUCT(AH49,-100))),"") -> 40 | Z49: =IF(C49=" "," ",IF(OR(TODAY()<C49,Stammdaten!$C$8>C49,AND(Stammdaten!$C$9>0,C49>Stammdaten!$C$9)),0,IF(WEEKDAY(C49)=$G$17,IF(OR($E$9="VZ",$E$9="Schicht"),$AH$17/24,IF($D$15<>"x",$AH$17/24,$G$15)),IF(WEEKDAY(C49)=$H$17,IF(OR($E$9="VZ",$E$9="Schicht"),$AH$17/24,IF($D$15<>"x",$AH$17/24,$H$15)),IF(WEEKDAY(C49)=$I$17,IF(OR($E$9="VZ",$E$9="Schicht"),$AH$17/24,IF($D$15<>"x",$AH$17/24,$I$15)),IF(WEEKDAY(C49)=$K$17,IF(OR($E$9="VZ",$E$9="Schicht"),$AH$17/24,IF($D$15<>"x",$AH$17/24,$K$15)),IF(WEEKDAY(C49)=$L$17,IF(OR($E$9="VZ",$E$9="Schicht"),$AH$17/24,IF($D$15<>"x",$AH$17/24,$L$15)),TIMEVALUE("0:00")))))))) -> 0.32638889 | AA49: =IF(I49="-",(-J49)*24,IF(I49="+",(+J49)*24,0)) -> -7.8333333 | AB49: =IF(L49>0,(L49-K49)+(N49-M49)+(P49-O49),TIMEVALUE("0:00")) -> 0 | AC49: =IF(G49="",0,IF(G49<=TIMEVALUE("6:30"),TIMEVALUE("0:00"),IF(G49>TIMEVALUE("9:45"),TIMEVALUE("0:45"),TIMEVALUE("0:30")))) -> 0 | AD49: =IF(OR(D49="BZ",D49="DB",D49="FZA",D49="K"),0,IF(AC49>AB49,-AC49*24,-AB49*24)) -> 0 | AE49: =IF(C49<>" ",AF49,"") -> -156.66667 | AF49: =SUM(AF48,AA49,AD49) -> -156.66667 | AG49: =ROUNDDOWN(ROUND(AF49,2),0) -> -156 | AH49: =SUM(AF49-AG49)/100*60 -> -0.4
B50: =IF(C50=" "," ",IF(WEEKDAY(C50)=1,"So",IF(WEEKDAY(C50)=7,"Sa",IF(WEEKDAY(C50)=2,"Mo",IF(WEEKDAY(C50)=3,"Di",IF(WEEKDAY(C50)=4,"Mi",IF(WEEKDAY(C50)=5,"Do",IF(WEEKDAY(C50)=6,"Fr","")))))))) -> Mi | C50: =IF(C49=" "," ",IF(MONTH(C49+1)<>MONTH(C49)," ",C49+1)) -> 44224 | G50: =IF(C50=" ","",IF(D50="FZA",0,IF(OR(D50="",D50="dA"),IF(AND(F50>0,E50>0),(F50-E50),0),IF(D50="F",(F50-E50),H50)))) -> 0 | H50: =IF(OR(D50="KK",D50="F",D50="SU",D50="U"),0,Z50) -> 0.32638889 | I50: =IF(C50=" ","",IF(G50=H50," ",IF(G50>H50,"+","-"))) -> - | J50: =IF(C50=" ","",IF(H50=G50," ",IF(H50>G50,(H50-G50),(G50-H50)))) -> 0.32638889 | Q50: =IF(R50="","","-") | R50: =IF(AD50=0,"",AD50/-24) | T50: =IF(C50=" ","",IF(G50>0,G50+AD50/24,"")) | U50: =IF(OR(Z50>0,AND(Z50=0,T50<>"")),IF(AE50="","",IF(AE50=0,"",IF(AF50<0,"-","+"))),"") -> - | V50: =IF(OR(Z50>0,AND(Z50=0,T50<>"")),IF(AE50="","",IF(AG50<0,(AG50*(-1)),AG50)),"") -> 164 | W50: =IF(OR(Z50>0,AND(Z50=0,T50<>"")),IF(AE50="","",":"),"") -> : | X50: =IF(OR(Z50>0,AND(Z50=0,T50<>"")),IF(AE50="","",IF(AF50>0,PRODUCT(AH50,100),PRODUCT(AH50,-100))),"") -> 30 | Z50: =IF(C50=" "," ",IF(OR(TODAY()<C50,Stammdaten!$C$8>C50,AND(Stammdaten!$C$9>0,C50>Stammdaten!$C$9)),0,IF(WEEKDAY(C50)=$G$17,IF(OR($E$9="VZ",$E$9="Schicht"),$AH$17/24,IF($D$15<>"x",$AH$17/24,$G$15)),IF(WEEKDAY(C50)=$H$17,IF(OR($E$9="VZ",$E$9="Schicht"),$AH$17/24,IF($D$15<>"x",$AH$17/24,$H$15)),IF(WEEKDAY(C50)=$I$17,IF(OR($E$9="VZ",$E$9="Schicht"),$AH$17/24,IF($D$15<>"x",$AH$17/24,$I$15)),IF(WEEKDAY(C50)=$K$17,IF(OR($E$9="VZ",$E$9="Schicht"),$AH$17/24,IF($D$15<>"x",$AH$17/24,$K$15)),IF(WEEKDAY(C50)=$L$17,IF(OR($E$9="VZ",$E$9="Schicht"),$AH$17/24,IF($D$15<>"x",$AH$17/24,$L$15)),TIMEVALUE("0:00")))))))) -> 0.32638889 | AA50: =IF(I50="-",(-J50)*24,IF(I50="+",(+J50)*24,0)) -> -7.8333333 | AB50: =IF(L50>0,(L50-K50)+(N50-M50)+(P50-O50),TIMEVALUE("0:00")) -> 0 | AC50: =IF(G50="",0,IF(G50<=TIMEVALUE("6:30"),TIMEVALUE("0:00"),IF(G50>TIMEVALUE("9:45"),TIMEVALUE("0:45"),TIMEVALUE("0:30")))) -> 0 | AD50: =IF(OR(D50="BZ",D50="DB",D50="FZA",D50="K"),0,IF(AC50>AB50,-AC50*24,-AB50*24)) -> 0 | AE50: =IF(C50<>" ",AF50,"") -> -164.5 | AF50: =SUM(AF49,AA50,AD50) -> -164.5 | AG50: =ROUNDDOWN(ROUND(AF50,2),0) -> -164 | AH50: =SUM(AF50-AG50)/100*60 -> -0.3
B51: =IF(C51=" "," ",IF(WEEKDAY(C51)=1,"So",IF(WEEKDAY(C51)=7,"Sa",IF(WEEKDAY(C51)=2,"Mo",IF(WEEKDAY(C51)=3,"Di",IF(WEEKDAY(C51)=4,"Mi",IF(WEEKDAY(C51)=5,"Do",IF(WEEKDAY(C51)=6,"Fr","")))))))) -> Do | C51: =IF(C50=" "," ",IF(MONTH(C50+1)<>MONTH(C50)," ",C50+1)) -> 44225 | G51: =IF(C51=" ","",IF(D51="FZA",0,IF(OR(D51="",D51="dA"),IF(AND(F51>0,E51>0),(F51-E51),0),IF(D51="F",(F51-E51),H51)))) -> 0 | H51: =IF(OR(D51="KK",D51="F",D51="SU",D51="U"),0,Z51) -> 0.32638889 | I51: =IF(C51=" ","",IF(G51=H51," ",IF(G51>H51,"+","-"))) -> - | J51: =IF(C51=" ","",IF(H51=G51," ",IF(H51>G51,(H51-G51),(G51-H51)))) -> 0.32638889 | Q51: =IF(R51="","","-") | R51: =IF(AD51=0,"",AD51/-24) | T51: =IF(C51=" ","",IF(G51>0,G51+AD51/24,"")) | U51: =IF(OR(Z51>0,AND(Z51=0,T51<>"")),IF(AE51="","",IF(AE51=0,"",IF(AF51<0,"-","+"))),"") -> - | V51: =IF(OR(Z51>0,AND(Z51=0,T51<>"")),IF(AE51="","",IF(AG51<0,(AG51*(-1)),AG51)),"") -> 172 | W51: =IF(OR(Z51>0,AND(Z51=0,T51<>"")),IF(AE51="","",":"),"") -> : | X51: =IF(OR(Z51>0,AND(Z51=0,T51<>"")),IF(AE51="","",IF(AF51>0,PRODUCT(AH51,100),PRODUCT(AH51,-100))),"") -> 20 | Z51: =IF(C51=" "," ",IF(OR(TODAY()<C51,Stammdaten!$C$8>C51,AND(Stammdaten!$C$9>0,C51>Stammdaten!$C$9)),0,IF(WEEKDAY(C51)=$G$17,IF(OR($E$9="VZ",$E$9="Schicht"),$AH$17/24,IF($D$15<>"x",$AH$17/24,$G$15)),IF(WEEKDAY(C51)=$H$17,IF(OR($E$9="VZ",$E$9="Schicht"),$AH$17/24,IF($D$15<>"x",$AH$17/24,$H$15)),IF(WEEKDAY(C51)=$I$17,IF(OR($E$9="VZ",$E$9="Schicht"),$AH$17/24,IF($D$15<>"x",$AH$17/24,$I$15)),IF(WEEKDAY(C51)=$K$17,IF(OR($E$9="VZ",$E$9="Schicht"),$AH$17/24,IF($D$15<>"x",$AH$17/24,$K$15)),IF(WEEKDAY(C51)=$L$17,IF(OR($E$9="VZ",$E$9="Schicht"),$AH$17/24,IF($D$15<>"x",$AH$17/24,$L$15)),TIMEVALUE("0:00")))))))) -> 0.32638889 | AA51: =IF(I51="-",(-J51)*24,IF(I51="+",(+J51)*24,0)) -> -7.8333333 | AB51: =IF(L51>0,(L51-K51)+(N51-M51)+(P51-O51),TIMEVALUE("0:00")) -> 0 | AC51: =IF(G51="",0,IF(G51<=TIMEVALUE("6:30"),TIMEVALUE("0:00"),IF(G51>TIMEVALUE("9:45"),TIMEVALUE("0:45"),TIMEVALUE("0:30")))) -> 0 | AD51: =IF(OR(D51="BZ",D51="DB",D51="FZA",D51="K"),0,IF(AC51>AB51,-AC51*24,-AB51*24)) -> 0 | AE51: =IF(C51<>" ",AF51,"") -> -172.33333 | AF51: =SUM(AF50,AA51,AD51) -> -172.33333 | AG51: =ROUNDDOWN(ROUND(AF51,2),0) -> -172 | AH51: =SUM(AF51-AG51)/100*60 -> -0.2
B52: =IF(C52=" "," ",IF(WEEKDAY(C52)=1,"So",IF(WEEKDAY(C52)=7,"Sa",IF(WEEKDAY(C52)=2,"Mo",IF(WEEKDAY(C52)=3,"Di",IF(WEEKDAY(C52)=4,"Mi",IF(WEEKDAY(C52)=5,"Do",IF(WEEKDAY(C52)=6,"Fr","")))))))) -> Fr | C52: =IF(C51=" "," ",IF(MONTH(C51+1)<>MONTH(C51)," ",C51+1)) -> 44226 | G52: =IF(C52=" ","",IF(D52="FZA",0,IF(OR(D52="",D52="dA"),IF(AND(F52>0,E52>0),(F52-E52),0),IF(D52="F",(F52-E52),H52)))) -> 0 | H52: =IF(OR(D52="KK",D52="F",D52="SU",D52="U"),0,Z52) -> 0.32638889 | I52: =IF(C52=" ","",IF(G52=H52," ",IF(G52>H52,"+","-"))) -> - | J52: =IF(C52=" ","",IF(H52=G52," ",IF(H52>G52,(H52-G52),(G52-H52)))) -> 0.32638889 | Q52: =IF(R52="","","-") | R52: =IF(AD52=0,"",AD52/-24) | T52: =IF(C52=" ","",IF(G52>0,G52+AD52/24,"")) | U52: =IF(OR(Z52>0,AND(Z52=0,T52<>"")),IF(AE52="","",IF(AE52=0,"",IF(AF52<0,"-","+"))),"") -> - | V52: =IF(OR(Z52>0,AND(Z52=0,T52<>"")),IF(AE52="","",IF(AG52<0,(AG52*(-1)),AG52)),"") -> 180 | W52: =IF(OR(Z52>0,AND(Z52=0,T52<>"")),IF(AE52="","",":"),"") -> : | X52: =IF(OR(Z52>0,AND(Z52=0,T52<>"")),IF(AE52="","",IF(AF52>0,PRODUCT(AH52,100),PRODUCT(AH52,-100))),"") -> 10 | Z52: =IF(C52=" "," ",IF(OR(TODAY()<C52,Stammdaten!$C$8>C52,AND(Stammdaten!$C$9>0,C52>Stammdaten!$C$9)),0,IF(WEEKDAY(C52)=$G$17,IF(OR($E$9="VZ",$E$9="Schicht"),$AH$17/24,IF($D$15<>"x",$AH$17/24,$G$15)),IF(WEEKDAY(C52)=$H$17,IF(OR($E$9="VZ",$E$9="Schicht"),$AH$17/24,IF($D$15<>"x",$AH$17/24,$H$15)),IF(WEEKDAY(C52)=$I$17,IF(OR($E$9="VZ",$E$9="Schicht"),$AH$17/24,IF($D$15<>"x",$AH$17/24,$I$15)),IF(WEEKDAY(C52)=$K$17,IF(OR($E$9="VZ",$E$9="Schicht"),$AH$17/24,IF($D$15<>"x",$AH$17/24,$K$15)),IF(WEEKDAY(C52)=$L$17,IF(OR($E$9="VZ",$E$9="Schicht"),$AH$17/24,IF($D$15<>"x",$AH$17/24,$L$15)),TIMEVALUE("0:00")))))))) -> 0.32638889 | AA52: =IF(I52="-",(-J52)*24,IF(I52="+",(+J52)*24,0)) -> -7.8333333 | AB52: =IF(L52>0,(L52-K52)+(N52-M52)+(P52-O52),TIMEVALUE("0:00")) -> 0 | AC52: =IF(G52="",0,IF(G52<=TIMEVALUE("6:30"),TIMEVALUE("0:00"),IF(G52>TIMEVALUE("9:45"),TIMEVALUE("0:45"),TIMEVALUE("0:30")))) -> 0 | AD52: =IF(OR(D52="BZ",D52="DB",D52="FZA",D52="K"),0,IF(AC52>AB52,-AC52*24,-AB52*24)) -> 0 | AE52: =IF(C52<>" ",AF52,"") -> -180.16667 | AF52: =SUM(AF51,AA52,AD52) -> -180.16667 | AG52: =ROUNDDOWN(ROUND(AF52,2),0) -> -180 | AH52: =SUM(AF52-AG52)/100*60 -> -0.1
V53: Std. | X53: Min.
B54: Information | S54: Arbeitszeitgutschrift1 | W54: :
B55: Krankheitstage | D55: =COUNTIF($D$22:$D$52,"K") -> 0 | S55: Übertrag | U55: =IF(AF52<0,"-","+") -> - | V55: =IF((AG52+V54)<0,(AG52+V54)*-1,(AG52+V54)) -> 180 | W55: : | X55: =IF((AH52+X54)<0,((AH52*100+X54)*(-1)),(AH52*100+X54)) -> 10
B56: Urlaubstage | D56: =COUNTIF($D$22:$D$52,"U") -> 0
B58: =IF($E$9="TZ",IF($V$55>$AA$14*24,"Hinweis: Zeitkontenspanne überschritten. Bitte Rücksprache mit Vorgesetzter/Vorgesetztem halten.",""),IF($V$55>40,"Hinweis: Zeitkontenspanne überschritten. Bitte Rücksprache mit Vorgesetzter/Vorgesetztem halten.","")) -> Hinweis: Zeitkontenspanne überschritten. Bitte Rücksprache mit Vorgesetzter/Vorgesetztem halten.
O61: geprüft am²
C64: Datum, Unterschrift Beschäftigte:r | O64: Name
O67: Unterschrift
B70: 1 vgl. Nr. 4 der Nutzungshinweise
B71: 2 vgl. Nr. 3 der Nutzungshinweise

Sheet 2
B2: A R B E I T S Z E I T N A C H W E I S
B3: UNIVERSITÄT BREMEN
B5: Name: | D5: =Stammdaten!C3&", "&Stammdaten!C4 -> , | J5: Monat | S5: Übertrag aus Vormonat | V5: Std. | X5: Min. | Z5: Achtung: zur Berechnung dieser Datei wurde umgestellt auf: Datei \ Optionen \ Erweitert \ Beim Berechnen dieser Arbeitsmappe \ 1904-Datumswerte verwenden Nur dann können negative (berechnete) Stunden angezeigt und verarbeitet werden.
B6: =Stammdaten!B5&":" -> Organisationseinheit: | D6: =Stammdaten!C5 -> 0 | J6: =DATE(Stammdaten!C6,2,1) -> 44227 | U6: =IF('1'!$AF$52<0,"-","+") -> - | V6: ='1'!$V$55 -> 180 | W6: : | X6: ='1'!$X$55 -> 10
B8: Status | E8: Arbeitszeitmodell | H8: =IF(E9="TZ","Wöchentl. Arbeitszeit bei TZ","")
B9: =Stammdaten!$C$7 -> tarifbeschäftigt TV-L | E9: VZ
E10: =IF(E9="TZ","bitte ggf. Wochenarbeitstage wählen u. Stundenverteilung anpassen","")
G12: =IF($E$9="VZ","Mo",IF(G13="x","Mo","-")) -> Mo | H12: =IF($E$9="VZ","Di",IF(H13="x","Di","-")) -> Di | I12: =IF($E$9="VZ","Mi",IF(I13="x","Mi","-")) -> Mi | K12: =IF($E$9="VZ","Do",IF(K13="x","Do","-")) -> Do | L12: =IF($E$9="VZ","Fr",IF(L13="x","Fr","-")) -> Fr | M12: Summe
D13: Stundenverteilung | G13: x | H13: x | I13: x | K13: x | L13: x | M13: =COUNTIF(G13:L13,"x") -> 5
E14: gleichmäßig | G14: =IF(OR($E$9="VZ",$E$9="Schicht"),$AD$17/24,IF($E$9="TZ",IF($D$15<>"x",IF(G$13="x",($J$9/COUNTIF($G$13:$L$13,"x")/24),""),""),"")) -> 0.32666667 | H14: =IF(OR($E$9="VZ",$E$9="Schicht"),$AD$17/24,IF($E$9="TZ",IF($D$15<>"x",IF(H$13="x",($J$9/COUNTIF($G$13:$L$13,"x")/24),""),""),"")) -> 0.32666667 | I14: =IF(OR($E$9="VZ",$E$9="Schicht"),$AD$17/24,IF($E$9="TZ",IF($D$15<>"x",IF(I$13="x",($J$9/COUNTIF($G$13:$L$13,"x")/24),""),""),"")) -> 0.32666667 | K14: =IF(OR($E$9="VZ",$E$9="Schicht"),$AD$17/24,IF($E$9="TZ",IF($D$15<>"x",IF(K$13="x",($J$9/COUNTIF($G$13:$L$13,"x")/24),""),""),"")) -> 0.32666667 | L14: =IF(OR($E$9="VZ",$E$9="Schicht"),$AD$17/24,IF($E$9="TZ",IF($D$15<>"x",IF(L$13="x",($J$9/COUNTIF($G$13:$L$13,"x")/24),""),""),"")) -> 0.32666667 | M14: =IF($D$15<>"x",SUM(G14:L14)*24,"") -> 39.2 | AA14: =IF($D$15="x",SUM(G15:L15),SUM(G14:L14)) -> 1.6333333
E15: ungleichmäßig | M15: =IF($D$15="x",SUMIFS(G15:L15,G13:L13,"x")*24,"")
C16: Arbeitstage im Monat
C17: =SUMPRODUCT(COUNTIF(B22:B52,G12:L12)) -> 20 | G17: =IF(E9="VZ",2,IF(G13="x",2,0)) -> 2 | H17: =IF(E9="VZ",3,IF(H13="x",3,0)) -> 3 | I17: =IF(E9="VZ",4,IF(I13="x",4,0)) -> 4 | K17: =IF(E9="VZ",5,IF(K13="x",5,0)) -> 5 | L17: =IF(E9="VZ",6,IF(L13="x",6,0)) -> 6 | Z17: =(X6/100) -> 0.1 | AA17: =COUNTIF($G$13:$L$13,"x") -> 5 | AC17: Regelm. tgl. Az. | AD17: =IF($E$9="VZ",IF($B$9="tarifbeschäftigt TV-L",39.2/5,IF($B$9="tarifbeschäftigt TVöD",39/5,IF($B$9="verbeamtet",40/5))),IF($E$9="Schicht",38.5/5,IF($E$9="TZ",IF($D$15<>"x",$J$9/$AA$17)))) -> 7.84 | AE17: =AD17/24 -> 0.32666667 | AF17: =TEXT(AE17,"H:MM") -> 7:50 | AG17: =TIMEVALUE(AF17) -> 0.32638889 | AH17: =AG17*24 -> 7.8333333
C18: =IF(AND($E$9="TZ",$AA14<>$J$9/24),"Fehler: Summe der Stundenverteilung stimmt nicht mit wöchentlicher Arbeitszeit überein!","")
C21: Datum | D21: Son-der- tage | E21: Anwesenheitszeit Kommt Geht Ist | H21: Soll- Arbeits- zeit | I21: Diff. Soll Anw.-Ist | K21: Erste Unterbrechung Beginn Ende | M21: Zweite Unterbrechung Beginn Ende | O21: Dritte Unterbrechung Beginn Ende | Q21: anzurechn. Pause bzw. Unterbr. | S21: Bemerkung (z.B. std.weiser FZA, mob. Arbeiten, Dienstreise) | T21: Ist-Arbeits-zeit | U21: Aufrechnung Gesamt in Std.:Min. | Z21: Soll- Arbeits zeit | AA21: Diff. Arbzeit Anw.Zeit | AB21: Ist Pause | AC21: Soll Pause | AD21: anzu rechn. Pause | AE21: Aufrechnung | AF21: =IF(U6="-",-V6-(Z17*100/60),V6+(Z17*100/60)) -> -180.16667 | AG21: Std. | AH21: Min
B22: =IF(C22=" "," ",IF(WEEKDAY(C22)=1,"So",IF(WEEKDAY(C22)=7,"Sa",IF(WEEKDAY(C22)=2,"Mo",IF(WEEKDAY(C22)=3,"Di",IF(WEEKDAY(C22)=4,"Mi",IF(WEEKDAY(C22)=5,"Do",IF(WEEKDAY(C22)=6,"Fr","")))))))) -> Sa | C22: =DATE(Stammdaten!C6,MONTH(J6),1) -> 44227 | G22: =IF(C22=" ","",IF(D22="FZA",0,IF(OR(D22="",D22="dA"),IF(AND(F22>0,E22>0),(F22-E22),0),IF(D22="F",(F22-E22),H22)))) -> 0 | H22: =IF(OR(D22="KK",D22="F",D22="SU",D22="U"),0,Z22) -> 0 | I22: =IF(G22=H22," ",IF(G22>H22,"+","-")) | J22: =IF(H22=G22," ",IF(H22>G22,(H22-G22),(G22-H22))) | Q22: =IF(R22="","","-") | R22: =IF(AD22=0,"",AD22/-24) | T22: =IF(C22=" ","",IF(G22>0,G22+AD22/24,"")) | U22: =IF(OR(Z22>0,AND(Z22=0,T22<>"")),IF(AE22="","",IF(AE22=0,"",IF(AF22<0,"-","+"))),"") | V22: =IF(OR(Z22>0,AND(Z22=0,T22<>"")),IF(AE22="","",IF(AG22<0,(AG22*(-1)),AG22)),"") | W22: =IF(OR(Z22>0,AND(Z22=0,T22<>"")),IF(AE22="","",":"),"") | X22: =IF(OR(Z22>0,AND(Z22=0,T22<>"")),IF(AE22="","",IF(AF22>0,PRODUCT(AH22,100),PRODUCT(AH22,-100))),"") | Z22: =IF(C22=" "," ",IF(OR(TODAY()<C22,Stammdaten!$C$8>C22,AND(Stammdaten!$C$9>0,C22>Stammdaten!$C$9)),0,IF(WEEKDAY(C22)=$G$17,IF(OR($E$9="VZ",$E$9="Schicht"),$AH$17/24,IF($D$15<>"x",$AH$17/24,$G$15)),IF(WEEKDAY(C22)=$H$17,IF(OR($E$9="VZ",$E$9="Schicht"),$AH$17/24,IF($D$15<>"x",$AH$17/24,$H$15)),IF(WEEKDAY(C22)=$I$17,IF(OR($E$9="VZ",$E$9="Schicht"),$AH$17/24,IF($D$15<>"x",$AH$17/24,$I$15)),IF(WEEKDAY(C22)=$K$17,IF(OR($E$9="VZ",$E$9="Schicht"),$AH$17/24,IF($D$15<>"x",$AH$17/24,$K$15)),IF(WEEKDAY(C22)=$L$17,IF(OR($E$9="VZ",$E$9="Schicht"),$AH$17/24,IF($D$15<>"x",$AH$17/24,$L$15)),TIMEVALUE("0:00")))))))) -> 0 | AA22: =IF(I22="-",(-J22)*24,IF(I22="+",(+J22)*24,0)) -> 0 | AB22: =IF(L22>0,(L22-K22)+(N22-M22)+(P22-O22),TIMEVALUE("0:00")) -> 0 | AC22: =IF(G22="",0,IF(G22<=TIMEVALUE("6:30"),TIMEVALUE("0:00"),IF(G22>TIMEVALUE("9:45"),TIMEVALUE("0:45"),TIMEVALUE("0:30")))) -> 0 | AD22: =IF(OR(D22="BZ",D22="DB",D22="FZA",D22="K"),0,IF(AC22>AB22,-AC22*24,-AB22*24)) -> 0 | AE22: =IF(C22<>" ",AF22,"") -> -180.16667 | AF22: =SUM(AF21,AA22,AD22) -> -180.16667 | AG22: =ROUNDDOWN(ROUND(AF22,2),0) -> -180 | AH22: =SUM(AF22-AG22)/100*60 -> -0.1
B23: =IF(C23=" "," ",IF(WEEKDAY(C23)=1,"So",IF(WEEKDAY(C23)=7,"Sa",IF(WEEKDAY(C23)=2,"Mo",IF(WEEKDAY(C23)=3,"Di",IF(WEEKDAY(C23)=4,"Mi",IF(WEEKDAY(C23)=5,"Do",IF(WEEKDAY(C23)=6,"Fr","")))))))) -> So | C23: =IF(C22=" "," ",IF(MONTH(C22+1)<>MONTH(C22)," ",C22+1)) -> 44228 | G23: =IF(C23=" ","",IF(D23="FZA",0,IF(OR(D23="",D23="dA"),IF(AND(F23>0,E23>0),(F23-E23),0),IF(D23="F",(F23-E23),H23)))) -> 0 | H23: =IF(OR(D23="KK",D23="F",D23="SU",D23="U"),0,Z23) -> 0 | I23: =IF(G23=H23," ",IF(G23>H23,"+","-")) | J23: =IF(H23=G23," ",IF(H23>G23,(H23-G23),(G23-H23))) | Q23: =IF(R23="","","-") | R23: =IF(AD23=0,"",AD23/-24) | T23: =IF(C23=" ","",IF(G23>0,G23+AD23/24,"")) | U23: =IF(OR(Z23>0,AND(Z23=0,T23<>"")),IF(AE23="","",IF(AE23=0,"",IF(AF23<0,"-","+"))),"") | V23: =IF(OR(Z23>0,AND(Z23=0,T23<>"")),IF(AE23="","",IF(AG23<0,(AG23*(-1)),AG23)),"") | W23: =IF(OR(Z23>0,AND(Z23=0,T23<>"")),IF(AE23="","",":"),"") | X23: =IF(OR(Z23>0,AND(Z23=0,T23<>"")),IF(AE23="","",IF(AF23>0,PRODUCT(AH23,100),PRODUCT(AH23,-100))),"") | Z23: =IF(C23=" "," ",IF(OR(TODAY()<C23,Stammdaten!$C$8>C23,AND(Stammdaten!$C$9>0,C23>Stammdaten!$C$9)),0,IF(WEEKDAY(C23)=$G$17,IF(OR($E$9="VZ",$E$9="Schicht"),$AH$17/24,IF($D$15<>"x",$AH$17/24,$G$15)),IF(WEEKDAY(C23)=$H$17,IF(OR($E$9="VZ",$E$9="Schicht"),$AH$17/24,IF($D$15<>"x",$AH$17/24,$H$15)),IF(WEEKDAY(C23)=$I$17,IF(OR($E$9="VZ",$E$9="Schicht"),$AH$17/24,IF($D$15<>"x",$AH$17/24,$I$15)),IF(WEEKDAY(C23)=$K$17,IF(OR($E$9="VZ",$E$9="Schicht"),$AH$17/24,IF($D$15<>"x",$AH$17/24,$K$15)),IF(WEEKDAY(C23)=$L$17,IF(OR($E$9="VZ",$E$9="Schicht"),$AH$17/24,IF($D$15<>"x",$AH$17/24,$L$15)),TIMEVALUE("0:00")))))))) -> 0 | AA23: =IF(I23="-",(-J23)*24,IF(I23="+",(+J23)*24,0)) -> 0 | AB23: =IF(L23>0,(L23-K23)+(N23-M23)+(P23-O23),TIMEVALUE("0:00")) -> 0 | AC23: =IF(G23="",0,IF(G23<=TIMEVALUE("6:30"),TIMEVALUE("0:00"),IF(G23>TIMEVALUE("9:45"),TIMEVALUE("0:45"),TIMEVALUE("0:30")))) -> 0 | AD23: =IF(OR(D23="BZ",D23="DB",D23="FZA",D23="K"),0,IF(AC23>AB23,-AC23*24,-AB23*24)) -> 0 | AE23: =IF(C23<>" ",AF23,"") -> -180.16667 | AF23: =SUM(AF22,AA23,AD23) -> -180.16667 | AG23: =ROUNDDOWN(ROUND(AF23,2),0) -> -180 | AH23: =SUM(AF23-AG23)/100*60 -> -0.1
B24: =IF(C24=" "," ",IF(WEEKDAY(C24)=1,"So",IF(WEEKDAY(C24)=7,"Sa",IF(WEEKDAY(C24)=2,"Mo",IF(WEEKDAY(C24)=3,"Di",IF(WEEKDAY(C24)=4,"Mi",IF(WEEKDAY(C24)=5,"Do",IF(WEEKDAY(C24)=6,"Fr","")))))))) -> Mo | C24: =IF(C23=" "," ",IF(MONTH(C23+1)<>MONTH(C23)," ",C23+1)) -> 44229 | G24: =IF(C24=" ","",IF(D24="FZA",0,IF(OR(D24="",D24="dA"),IF(AND(F24>0,E24>0),(F24-E24),0),IF(D24="F",(F24-E24),H24)))) -> 0 | H24: =IF(OR(D24="KK",D24="F",D24="SU",D24="U"),0,Z24) -> 0.32638889 | I24: =IF(G24=H24," ",IF(G24>H24,"+","-")) -> - | J24: =IF(H24=G24," ",IF(H24>G24,(H24-G24),(G24-H24))) -> 0.32638889 | Q24: =IF(R24="","","-") | R24: =IF(AD24=0,"",AD24/-24) | T24: =IF(C24=" ","",IF(G24>0,G24+AD24/24,"")) | U24: =IF(OR(Z24>0,AND(Z24=0,T24<>"")),IF(AE24="","",IF(AE24=0,"",IF(AF24<0,"-","+"))),"") -> - | V24: =IF(OR(Z24>0,AND(Z24=0,T24<>"")),IF(AE24="","",IF(AG24<0,(AG24*(-1)),AG24)),"") -> 188 | W24: =IF(OR(Z24>0,AND(Z24=0,T24<>"")),IF(AE24="","",":"),"") -> : | X24: =IF(OR(Z24>0,AND(Z24=0,T24<>"")),IF(AE24="","",IF(AF24>0,PRODUCT(AH24,100),PRODUCT(AH24,-100))),"") -> 3.4106051e-12 | Z24: =IF(C24=" "," ",IF(OR(TODAY()<C24,Stammdaten!$C$8>C24,AND(Stammdaten!$C$9>0,C24>Stammdaten!$C$9)),0,IF(WEEKDAY(C24)=$G$17,IF(OR($E$9="VZ",$E$9="Schicht"),$AH$17/24,IF($D$15<>"x",$AH$17/24,$G$15)),IF(WEEKDAY(C24)=$H$17,IF(OR($E$9="VZ",$E$9="Schicht"),$AH$17/24,IF($D$15<>"x",$AH$17/24,$H$15)),IF(WEEKDAY(C24)=$I$17,IF(OR($E$9="VZ",$E$9="Schicht"),$AH$17/24,IF($D$15<>"x",$AH$17/24,$I$15)),IF(WEEKDAY(C24)=$K$17,IF(OR($E$9="VZ",$E$9="Schicht"),$AH$17/24,IF($D$15<>"x",$AH$17/24,$K$15)),IF(WEEKDAY(C24)=$L$17,IF(OR($E$9="VZ",$E$9="Schicht"),$AH$17/24,IF($D$15<>"x",$AH$17/24,$L$15)),TIMEVALUE("0:00")))))))) -> 0.32638889 | AA24: =IF(I24="-",(-J24)*24,IF(I24="+",(+J24)*24,0)) -> -7.8333333 | AB24: =IF(L24>0,(L24-K24)+(N24-M24)+(P24-O24),TIMEVALUE("0:00")) -> 0 | AC24: =IF(G24="",0,IF(G24<=TIMEVALUE("6:30"),TIMEVALUE("0:00"),IF(G24>TIMEVALUE("9:45"),TIMEVALUE("0:45"),TIMEVALUE("0:30")))) -> 0 | AD24: =IF(OR(D24="BZ",D24="DB",D24="FZA",D24="K"),0,IF(AC24>AB24,-AC24*24,-AB24*24)) -> 0 | AE24: =IF(C24<>" ",AF24,"") -> -188 | AF24: =SUM(AF23,AA24,AD24) -> -188 | AG24: =ROUNDDOWN(ROUND(AF24,2),0) -> -188 | AH24: =SUM(AF24-AG24)/100*60 -> -3.4106051e-14
B25: =IF(C25=" "," ",IF(WEEKDAY(C25)=1,"So",IF(WEEKDAY(C25)=7,"Sa",IF(WEEKDAY(C25)=2,"Mo",IF(WEEKDAY(C25)=3,"Di",IF(WEEKDAY(C25)=4,"Mi",IF(WEEKDAY(C25)=5,"Do",IF(WEEKDAY(C25)=6,"Fr","")))))))) -> Di | C25: =IF(C24=" "," ",IF(MONTH(C24+1)<>MONTH(C24)," ",C24+1)) -> 44230 | G25: =IF(C25=" ","",IF(D25="FZA",0,IF(OR(D25="",D25="dA"),IF(AND(F25>0,E25>0),(F25-E25),0),IF(D25="F",(F25-E25),H25)))) -> 0 | H25: =IF(OR(D25="KK",D25="F",D25="SU",D25="U"),0,Z25) -> 0.32638889 | I25: =IF(G25=H25," ",IF(G25>H25,"+","-")) -> - | J25: =IF(H25=G25," ",IF(H25>G25,(H25-G25),(G25-H25))) -> 0.32638889 | Q25: =IF(R25="","","-") | R25: =IF(AD25=0,"",AD25/-24) | T25: =IF(C25=" ","",IF(G25>0,G25+AD25/24,"")) | U25: =IF(OR(Z25>0,AND(Z25=0,T25<>"")),IF(AE25="","",IF(AE25=0,"",IF(AF25<0,"-","+"))),"") -> - | V25: =IF(OR(Z25>0,AND(Z25=0,T25<>"")),IF(AE25="","",IF(AG25<0,(AG25*(-1)),AG25)),"") -> 195 | W25: =IF(OR(Z25>0,AND(Z25=0,T25<>"")),IF(AE25="","",":"),"") -> : | X25: =IF(OR(Z25>0,AND(Z25=0,T25<>"")),IF(AE25="","",IF(AF25>0,PRODUCT(AH25,100),PRODUCT(AH25,-100))),"") -> 50 | Z25: =IF(C25=" "," ",IF(OR(TODAY()<C25,Stammdaten!$C$8>C25,AND(Stammdaten!$C$9>0,C25>Stammdaten!$C$9)),0,IF(WEEKDAY(C25)=$G$17,IF(OR($E$9="VZ",$E$9="Schicht"),$AH$17/24,IF($D$15<>"x",$AH$17/24,$G$15)),IF(WEEKDAY(C25)=$H$17,IF(OR($E$9="VZ",$E$9="Schicht"),$AH$17/24,IF($D$15<>"x",$AH$17/24,$H$15)),IF(WEEKDAY(C25)=$I$17,IF(OR($E$9="VZ",$E$9="Schicht"),$AH$17/24,IF($D$15<>"x",$AH$17/24,$I$15)),IF(WEEKDAY(C25)=$K$17,IF(OR($E$9="VZ",$E$9="Schicht"),$AH$17/24,IF($D$15<>"x",$AH$17/24,$K$15)),IF(WEEKDAY(C25)=$L$17,IF(OR($E$9="VZ",$E$9="Schicht"),$AH$17/24,IF($D$15<>"x",$AH$17/24,$L$15)),TIMEVALUE("0:00")))))))) -> 0.32638889 | AA25: =IF(I25="-",(-J25)*24,IF(I25="+",(+J25)*24,0)) -> -7.8333333 | AB25: =IF(L25>0,(L25-K25)+(N25-M25)+(P25-O25),TIMEVALUE("0:00")) -> 0 | AC25: =IF(G25="",0,IF(G25<=TIMEVALUE("6:30"),TIMEVALUE("0:00"),IF(G25>TIMEVALUE("9:45"),TIMEVALUE("0:45"),TIMEVALUE("0:30")))) -> 0 | AD25: =IF(OR(D25="BZ",D25="DB",D25="FZA",D25="K"),0,IF(AC25>AB25,-AC25*24,-AB25*24)) -> 0 | AE25: =IF(C25<>" ",AF25,"") -> -195.83333 | AF25: =SUM(AF24,AA25,AD25) -> -195.83333 | AG25: =ROUNDDOWN(ROUND(AF25,2),0) -> -195 | AH25: =SUM(AF25-AG25)/100*60 -> -0.5
B26: =IF(C26=" "," ",IF(WEEKDAY(C26)=1,"So",IF(WEEKDAY(C26)=7,"Sa",IF(WEEKDAY(C26)=2,"Mo",IF(WEEKDAY(C26)=3,"Di",IF(WEEKDAY(C26)=4,"Mi",IF(WEEKDAY(C26)=5,"Do",IF(WEEKDAY(C26)=6,"Fr","")))))))) -> Mi | C26: =IF(C25=" "," ",IF(MONTH(C25+1)<>MONTH(C25)," ",C25+1)) -> 44231 | G26: =IF(C26=" ","",IF(D26="FZA",0,IF(OR(D26="",D26="dA"),IF(AND(F26>0,E26>0),(F26-E26),0),IF(D26="F",(F26-E26),H26)))) -> 0 | H26: =IF(OR(D26="KK",D26="F",D26="SU",D26="U"),0,Z26) -> 0.32638889 | I26: =IF(G26=H26," ",IF(G26>H26,"+","-")) -> - | J26: =IF(H26=G26," ",IF(H26>G26,(H26-G26),(G26-H26))) -> 0.32638889 | Q26: =IF(R26="","","-") | R26: =IF(AD26=0,"",AD26/-24) | T26: =IF(C26=" ","",IF(G26>0,G26+AD26/24,"")) | U26: =IF(OR(Z26>0,AND(Z26=0,T26<>"")),IF(AE26="","",IF(AE26=0,"",IF(AF26<0,"-","+"))),"") -> - | V26: =IF(OR(Z26>0,AND(Z26=0,T26<>"")),IF(AE26="","",IF(AG26<0,(AG26*(-1)),AG26)),"") -> 203 | W26: =IF(OR(Z26>0,AND(Z26=0,T26<>"")),IF(AE26="","",":"),"") -> : | X26: =IF(OR(Z26>0,AND(Z26=0,T26<>"")),IF(AE26="","",IF(AF26>0,PRODUCT(AH26,100),PRODUCT(AH26,-100))),"") -> 40 | Z26: =IF(C26=" "," ",IF(OR(TODAY()<C26,Stammdaten!$C$8>C26,AND(Stammdaten!$C$9>0,C26>Stammdaten!$C$9)),0,IF(WEEKDAY(C26)=$G$17,IF(OR($E$9="VZ",$E$9="Schicht"),$AH$17/24,IF($D$15<>"x",$AH$17/24,$G$15)),IF(WEEKDAY(C26)=$H$17,IF(OR($E$9="VZ",$E$9="Schicht"),$AH$17/24,IF($D$15<>"x",$AH$17/24,$H$15)),IF(WEEKDAY(C26)=$I$17,IF(OR($E$9="VZ",$E$9="Schicht"),$AH$17/24,IF($D$15<>"x",$AH$17/24,$I$15)),IF(WEEKDAY(C26)=$K$17,IF(OR($E$9="VZ",$E$9="Schicht"),$AH$17/24,IF($D$15<>"x",$AH$17/24,$K$15)),IF(WEEKDAY(C26)=$L$17,IF(OR($E$9="VZ",$E$9="Schicht"),$AH$17/24,IF($D$15<>"x",$AH$17/24,$L$15)),TIMEVALUE("0:00")))))))) -> 0.32638889 | AA26: =IF(I26="-",(-J26)*24,IF(I26="+",(+J26)*24,0)) -> -7.8333333 | AB26: =IF(L26>0,(L26-K26)+(N26-M26)+(P26-O26),TIMEVALUE("0:00")) -> 0 | AC26: =IF(G26="",0,IF(G26<=TIMEVALUE("6:30"),TIMEVALUE("0:00"),IF(G26>TIMEVALUE("9:45"),TIMEVALUE("0:45"),TIMEVALUE("0:30")))) -> 0 | AD26: =IF(OR(D26="BZ",D26="DB",D26="FZA",D26="K"),0,IF(AC26>AB26,-AC26*24,-AB26*24)) -> 0 | AE26: =IF(C26<>" ",AF26,"") -> -203.66667 | AF26: =SUM(AF25,AA26,AD26) -> -203.66667 | AG26: =ROUNDDOWN(ROUND(AF26,2),0) -> -203 | AH26: =SUM(AF26-AG26)/100*60 -> -0.4
B27: =IF(C27=" "," ",IF(WEEKDAY(C27)=1,"So",IF(WEEKDAY(C27)=7,"Sa",IF(WEEKDAY(C27)=2,"Mo",IF(WEEKDAY(C27)=3,"Di",IF(WEEKDAY(C27)=4,"Mi",IF(WEEKDAY(C27)=5,"Do",IF(WEEKDAY(C27)=6,"Fr","")))))))) -> Do | C27: =IF(C26=" "," ",IF(MONTH(C26+1)<>MONTH(C26)," ",C26+1)) -> 44232 | G27: =IF(C27=" ","",IF(D27="FZA",0,IF(OR(D27="",D27="dA"),IF(AND(F27>0,E27>0),(F27-E27),0),IF(D27="F",(F27-E27),H27)))) -> 0 | H27: =IF(OR(D27="KK",D27="F",D27="SU",D27="U"),0,Z27) -> 0.32638889 | I27: =IF(G27=H27," ",IF(G27>H27,"+","-")) -> - | J27: =IF(H27=G27," ",IF(H27>G27,(H27-G27),(G27-H27))) -> 0.32638889 | Q27: =IF(R27="","","-") | R27: =IF(AD27=0,"",AD27/-24) | T27: =IF(C27=" ","",IF(G27>0,G27+AD27/24,"")) | U27: =IF(OR(Z27>0,AND(Z27=0,T27<>"")),IF(AE27="","",IF(AE27=0,"",IF(AF27<0,"-","+"))),"") -> - | V27: =IF(OR(Z27>0,AND(Z27=0,T27<>"")),IF(AE27="","",IF(AG27<0,(AG27*(-1)),AG27)),"") -> 211 | W27: =IF(OR(Z27>0,AND(Z27=0,T27<>"")),IF(AE27="","",":"),"") -> : | X27: =IF(OR(Z27>0,AND(Z27=0,T27<>"")),IF(AE27="","",IF(AF27>0,PRODUCT(AH27,100),PRODUCT(AH27,-100))),"") -> 30 | Z27: =IF(C27=" "," ",IF(OR(TODAY()<C27,Stammdaten!$C$8>C27,AND(Stammdaten!$C$9>0,C27>Stammdaten!$C$9)),0,IF(WEEKDAY(C27)=$G$17,IF(OR($E$9="VZ",$E$9="Schicht"),$AH$17/24,IF($D$15<>"x",$AH$17/24,$G$15)),IF(WEEKDAY(C27)=$H$17,IF(OR($E$9="VZ",$E$9="Schicht"),$AH$17/24,IF($D$15<>"x",$AH$17/24,$H$15)),IF(WEEKDAY(C27)=$I$17,IF(OR($E$9="VZ",$E$9="Schicht"),$AH$17/24,IF($D$15<>"x",$AH$17/24,$I$15)),IF(WEEKDAY(C27)=$K$17,IF(OR($E$9="VZ",$E$9="Schicht"),$AH$17/24,IF($D$15<>"x",$AH$17/24,$K$15)),IF(WEEKDAY(C27)=$L$17,IF(OR($E$9="VZ",$E$9="Schicht"),$AH$17/24,IF($D$15<>"x",$AH$17/24,$L$15)),TIMEVALUE("0:00")))))))) -> 0.32638889 | AA27: =IF(I27="-",(-J27)*24,IF(I27="+",(+J27)*24,0)) -> -7.8333333 | AB27: =IF(L27>0,(L27-K27)+(N27-M27)+(P27-O27),TIMEVALUE("0:00")) -> 0 | AC27: =IF(G27="",0,IF(G27<=TIMEVALUE("6:30"),TIMEVALUE("0:00"),IF(G27>TIMEVALUE("9:45"),TIMEVALUE("0:45"),TIMEVALUE("0:30")))) -> 0 | AD27: =IF(OR(D27="BZ",D27="DB",D27="FZA",D27="K"),0,IF(AC27>AB27,-AC27*24,-AB27*24)) -> 0 | AE27: =IF(C27<>" ",AF27,"") -> -211.5 | AF27: =SUM(AF26,AA27,AD27) -> -211.5 | AG27: =ROUNDDOWN(ROUND(AF27,2),0) -> -211 | AH27: =SUM(AF27-AG27)/100*60 -> -0.3
B28: =IF(C28=" "," ",IF(WEEKDAY(C28)=1,"So",IF(WEEKDAY(C28)=7,"Sa",IF(WEEKDAY(C28)=2,"Mo",IF(WEEKDAY(C28)=3,"Di",IF(WEEKDAY(C28)=4,"Mi",IF(WEEKDAY(C28)=5,"Do",IF(WEEKDAY(C28)=6,"Fr","")))))))) -> Fr | C28: =IF(C27=" "," ",IF(MONTH(C27+1)<>MONTH(C27)," ",C27+1)) -> 44233 | G28: =IF(C28=" ","",IF(D28="FZA",0,IF(OR(D28="",D28="dA"),IF(AND(F28>0,E28>0),(F28-E28),0),IF(D28="F",(F28-E28),H28)))) -> 0 | H28: =IF(OR(D28="KK",D28="F",D28="SU",D28="U"),0,Z28) -> 0.32638889 | I28: =IF(G28=H28," ",IF(G28>H28,"+","-")) -> - | J28: =IF(H28=G28," ",IF(H28>G28,(H28-G28),(G28-H28))) -> 0.32638889 | Q28: =IF(R28="","","-") | R28: =IF(AD28=0,"",AD28/-24) | T28: =IF(C28=" ","",IF(G28>0,G28+AD28/24,"")) | U28: =IF(OR(Z28>0,AND(Z28=0,T28<>"")),IF(AE28="","",IF(AE28=0,"",IF(AF28<0,"-","+"))),"") -> - | V28: =IF(OR(Z28>0,AND(Z28=0,T28<>"")),IF(AE28="","",IF(AG28<0,(AG28*(-1)),AG28)),"") -> 219 | W28: =IF(OR(Z28>0,AND(Z28=0,T28<>"")),IF(AE28="","",":"),"") -> : | X28: =IF(OR(Z28>0,AND(Z28=0,T28<>"")),IF(AE28="","",IF(AF28>0,PRODUCT(AH28,100),PRODUCT(AH28,-100))),"") -> 20 | Z28: =IF(C28=" "," ",IF(OR(TODAY()<C28,Stammdaten!$C$8>C28,AND(Stammdaten!$C$9>0,C28>Stammdaten!$C$9)),0,IF(WEEKDAY(C28)=$G$17,IF(OR($E$9="VZ",$E$9="Schicht"),$AH$17/24,IF($D$15<>"x",$AH$17/24,$G$15)),IF(WEEKDAY(C28)=$H$17,IF(OR($E$9="VZ",$E$9="Schicht"),$AH$17/24,IF($D$15<>"x",$AH$17/24,$H$15)),IF(WEEKDAY(C28)=$I$17,IF(OR($E$9="VZ",$E$9="Schicht"),$AH$17/24,IF($D$15<>"x",$AH$17/24,$I$15)),IF(WEEKDAY(C28)=$K$17,IF(OR($E$9="VZ",$E$9="Schicht"),$AH$17/24,IF($D$15<>"x",$AH$17/24,$K$15)),IF(WEEKDAY(C28)=$L$17,IF(OR($E$9="VZ",$E$9="Schicht"),$AH$17/24,IF($D$15<>"x",$AH$17/24,$L$15)),TIMEVALUE("0:00")))))))) -> 0.32638889 | AA28: =IF(I28="-",(-J28)*24,IF(I28="+",(+J28)*24,0)) -> -7.8333333 | AB28: =IF(L28>0,(L28-K28)+(N28-M28)+(P28-O28),TIMEVALUE("0:00")) -> 0 | AC28: =IF(G28="",0,IF(G28<=TIMEVALUE("6:30"),TIMEVALUE("0:00"),IF(G28>TIMEVALUE("9:45"),TIMEVALUE("0:45"),TIMEVALUE("0:30")))) -> 0 | AD28: =IF(OR(D28="BZ",D28="DB",D28="FZA",D28="K"),0,IF(AC28>AB28,-AC28*24,-AB28*24)) -> 0 | AE28: =IF(C28<>" ",AF28,"") -> -219.33333 | AF28: =SUM(AF27,AA28,AD28) -> -219.33333 | AG28: =ROUNDDOWN(ROUND(AF28,2),0) -> -219 | AH28: =SUM(AF28-AG28)/100*60 -> -0.2
B29: =IF(C29=" "," ",IF(WEEKDAY(C29)=1,"So",IF(WEEKDAY(C29)=7,"Sa",IF(WEEKDAY(C29)=2,"Mo",IF(WEEKDAY(C29)=3,"Di",IF(WEEKDAY(C29)=4,"Mi",IF(WEEKDAY(C29)=5,"Do",IF(WEEKDAY(C29)=6,"Fr","")))))))) -> Sa | C29: =IF(C28=" "," ",IF(MONTH(C28+1)<>MONTH(C28)," ",C28+1)) -> 44234 | G29: =IF(C29=" ","",IF(D29="FZA",0,IF(OR(D29="",D29="dA"),IF(AND(F29>0,E29>0),(F29-E29),0),IF(D29="F",(F29-E29),H29)))) -> 0 | H29: =IF(OR(D29="KK",D29="F",D29="SU",D29="U"),0,Z29) -> 0 | I29: =IF(G29=H29," ",IF(G29>H29,"+","-")) | J29: =IF(H29=G29," ",IF(H29>G29,(H29-G29),(G29-H29))) | Q29: =IF(R29="","","-") | R29: =IF(AD29=0,"",AD29/-24) | T29: =IF(C29=" ","",IF(G29>0,G29+AD29/24,"")) | U29: =IF(OR(Z29>0,AND(Z29=0,T29<>"")),IF(AE29="","",IF(AE29=0,"",IF(AF29<0,"-","+"))),"") | V29: =IF(OR(Z29>0,AND(Z29=0,T29<>"")),IF(AE29="","",IF(AG29<0,(AG29*(-1)),AG29)),"") | W29: =IF(OR(Z29>0,AND(Z29=0,T29<>"")),IF(AE29="","",":"),"") | X29: =IF(OR(Z29>0,AND(Z29=0,T29<>"")),IF(AE29="","",IF(AF29>0,PRODUCT(AH29,100),PRODUCT(AH29,-100))),"") | Z29: =IF(C29=" "," ",IF(OR(TODAY()<C29,Stammdaten!$C$8>C29,AND(Stammdaten!$C$9>0,C29>Stammdaten!$C$9)),0,IF(WEEKDAY(C29)=$G$17,IF(OR($E$9="VZ",$E$9="Schicht"),$AH$17/24,IF($D$15<>"x",$AH$17/24,$G$15)),IF(WEEKDAY(C29)=$H$17,IF(OR($E$9="VZ",$E$9="Schicht"),$AH$17/24,IF($D$15<>"x",$AH$17/24,$H$15)),IF(WEEKDAY(C29)=$I$17,IF(OR($E$9="VZ",$E$9="Schicht"),$AH$17/24,IF($D$15<>"x",$AH$17/24,$I$15)),IF(WEEKDAY(C29)=$K$17,IF(OR($E$9="VZ",$E$9="Schicht"),$AH$17/24,IF($D$15<>"x",$AH$17/24,$K$15)),IF(WEEKDAY(C29)=$L$17,IF(OR($E$9="VZ",$E$9="Schicht"),$AH$17/24,IF($D$15<>"x",$AH$17/24,$L$15)),TIMEVALUE("0:00")))))))) -> 0 | AA29: =IF(I29="-",(-J29)*24,IF(I29="+",(+J29)*24,0)) -> 0 | AB29: =IF(L29>0,(L29-K29)+(N29-M29)+(P29-O29),TIMEVALUE("0:00")) -> 0 | AC29: =IF(G29="",0,IF(G29<=TIMEVALUE("6:30"),TIMEVALUE("0:00"),IF(G29>TIMEVALUE("9:45"),TIMEVALUE("0:45"),TIMEVALUE("0:30")))) -> 0 | AD29: =IF(OR(D29="BZ",D29="DB",D29="FZA",D29="K"),0,IF(AC29>AB29,-AC29*24,-AB29*24)) -> 0 | AE29: =IF(C29<>" ",AF29,"") -> -219.33333 | AF29: =SUM(AF28,AA29,AD29) -> -219.33333 | AG29: =ROUNDDOWN(ROUND(AF29,2),0) -> -219 | AH29: =SUM(AF29-AG29)/100*60 -> -0.2
B30: =IF(C30=" "," ",IF(WEEKDAY(C30)=1,"So",IF(WEEKDAY(C30)=7,"Sa",IF(WEEKDAY(C30)=2,"Mo",IF(WEEKDAY(C30)=3,"Di",IF(WEEKDAY(C30)=4,"Mi",IF(WEEKDAY(C30)=5,"Do",IF(WEEKDAY(C30)=6,"Fr","")))))))) -> So | C30: =IF(C29=" "," ",IF(MONTH(C29+1)<>MONTH(C29)," ",C29+1)) -> 44235 | G30: =IF(C30=" ","",IF(D30="FZA",0,IF(OR(D30="",D30="dA"),IF(AND(F30>0,E30>0),(F30-E30),0),IF(D30="F",(F30-E30),H30)))) -> 0 | H30: =IF(OR(D30="KK",D30="F",D30="SU",D30="U"),0,Z30) -> 0 | I30: =IF(G30=H30," ",IF(G30>H30,"+","-")) | J30: =IF(H30=G30," ",IF(H30>G30,(H30-G30),(G30-H30))) | Q30: =IF(R30="","","-") | R30: =IF(AD30=0,"",AD30/-24) | T30: =IF(C30=" ","",IF(G30>0,G30+AD30/24,"")) | U30: =IF(OR(Z30>0,AND(Z30=0,T30<>"")),IF(AE30="","",IF(AE30=0,"",IF(AF30<0,"-","+"))),"") | V30: =IF(OR(Z30>0,AND(Z30=0,T30<>"")),IF(AE30="","",IF(AG30<0,(AG30*(-1)),AG30)),"") | W30: =IF(OR(Z30>0,AND(Z30=0,T30<>"")),IF(AE30="","",":"),"") | X30: =IF(OR(Z30>0,AND(Z30=0,T30<>"")),IF(AE30="","",IF(AF30>0,PRODUCT(AH30,100),PRODUCT(AH30,-100))),"") | Z30: =IF(C30=" "," ",IF(OR(TODAY()<C30,Stammdaten!$C$8>C30,AND(Stammdaten!$C$9>0,C30>Stammdaten!$C$9)),0,IF(WEEKDAY(C30)=$G$17,IF(OR($E$9="VZ",$E$9="Schicht"),$AH$17/24,IF($D$15<>"x",$AH$17/24,$G$15)),IF(WEEKDAY(C30)=$H$17,IF(OR($E$9="VZ",$E$9="Schicht"),$AH$17/24,IF($D$15<>"x",$AH$17/24,$H$15)),IF(WEEKDAY(C30)=$I$17,IF(OR($E$9="VZ",$E$9="Schicht"),$AH$17/24,IF($D$15<>"x",$AH$17/24,$I$15)),IF(WEEKDAY(C30)=$K$17,IF(OR($E$9="VZ",$E$9="Schicht"),$AH$17/24,IF($D$15<>"x",$AH$17/24,$K$15)),IF(WEEKDAY(C30)=$L$17,IF(OR($E$9="VZ",$E$9="Schicht"),$AH$17/24,IF($D$15<>"x",$AH$17/24,$L$15)),TIMEVALUE("0:00")))))))) -> 0 | AA30: =IF(I30="-",(-J30)*24,IF(I30="+",(+J30)*24,0)) -> 0 | AB30: =IF(L30>0,(L30-K30)+(N30-M30)+(P30-O30),TIMEVALUE("0:00")) -> 0 | AC30: =IF(G30="",0,IF(G30<=TIMEVALUE("6:30"),TIMEVALUE("0:00"),IF(G30>TIMEVALUE("9:45"),TIMEVALUE("0:45"),TIMEVALUE("0:30")))) -> 0 | AD30: =IF(OR(D30="BZ",D30="DB",D30="FZA",D30="K"),0,IF(AC30>AB30,-AC30*24,-AB30*24)) -> 0 | AE30: =IF(C30<>" ",AF30,"") -> -219.33333 | AF30: =SUM(AF29,AA30,AD30) -> -219.33333 | AG30: =ROUNDDOWN(ROUND(AF30,2),0) -> -219 | AH30: =SUM(AF30-AG30)/100*60 -> -0.2
B31: =IF(C31=" "," ",IF(WEEKDAY(C31)=1,"So",IF(WEEKDAY(C31)=7,"Sa",IF(WEEKDAY(C31)=2,"Mo",IF(WEEKDAY(C31)=3,"Di",IF(WEEKDAY(C31)=4,"Mi",IF(WEEKDAY(C31)=5,"Do",IF(WEEKDAY(C31)=6,"Fr","")))))))) -> Mo | C31: =IF(C30=" "," ",IF(MONTH(C30+1)<>MONTH(C30)," ",C30+1)) -> 44236 | G31: =IF(C31=" ","",IF(D31="FZA",0,IF(OR(D31="",D31="dA"),IF(AND(F31>0,E31>0),(F31-E31),0),IF(D31="F",(F31-E31),H31)))) -> 0 | H31: =IF(OR(D31="KK",D31="F",D31="SU",D31="U"),0,Z31) -> 0.32638889 | I31: =IF(G31=H31," ",IF(G31>H31,"+","-")) -> - | J31: =IF(H31=G31," ",IF(H31>G31,(H31-G31),(G31-H31))) -> 0.32638889 | Q31: =IF(R31="","","-") | R31: =IF(AD31=0,"",AD31/-24) | T31: =IF(C31=" ","",IF(G31>0,G31+AD31/24,"")) | U31: =IF(OR(Z31>0,AND(Z31=0,T31<>"")),IF(AE31="","",IF(AE31=0,"",IF(AF31<0,"-","+"))),"") -> - | V31: =IF(OR(Z31>0,AND(Z31=0,T31<>"")),IF(AE31="","",IF(AG31<0,(AG31*(-1)),AG31)),"") -> 227 | W31: =IF(OR(Z31>0,AND(Z31=0,T31<>"")),IF(AE31="","",":"),"") -> : | X31: =IF(OR(Z31>0,AND(Z31=0,T31<>"")),IF(AE31="","",IF(AF31>0,PRODUCT(AH31,100),PRODUCT(AH31,-100))),"") -> 10 | Z31: =IF(C31=" "," ",IF(OR(TODAY()<C31,Stammdaten!$C$8>C31,AND(Stammdaten!$C$9>0,C31>Stammdaten!$C$9)),0,IF(WEEKDAY(C31)=$G$17,IF(OR($E$9="VZ",$E$9="Schicht"),$AH$17/24,IF($D$15<>"x",$AH$17/24,$G$15)),IF(WEEKDAY(C31)=$H$17,IF(OR($E$9="VZ",$E$9="Schicht"),$AH$17/24,IF($D$15<>"x",$AH$17/24,$H$15)),IF(WEEKDAY(C31)=$I$17,IF(OR($E$9="VZ",$E$9="Schicht"),$AH$17/24,IF($D$15<>"x",$AH$17/24,$I$15)),IF(WEEKDAY(C31)=$K$17,IF(OR($E$9="VZ",$E$9="Schicht"),$AH$17/24,IF($D$15<>"x",$AH$17/24,$K$15)),IF(WEEKDAY(C31)=$L$17,IF(OR($E$9="VZ",$E$9="Schicht"),$AH$17/24,IF($D$15<>"x",$AH$17/24,$L$15)),TIMEVALUE("0:00")))))))) -> 0.32638889 | AA31: =IF(I31="-",(-J31)*24,IF(I31="+",(+J31)*24,0)) -> -7.8333333 | AB31: =IF(L31>0,(L31-K31)+(N31-M31)+(P31-O31),TIMEVALUE("0:00")) -> 0 | AC31: =IF(G31="",0,IF(G31<=TIMEVALUE("6:30"),TIMEVALUE("0:00"),IF(G31>TIMEVALUE("9:45"),TIMEVALUE("0:45"),TIMEVALUE("0:30")))) -> 0 | AD31: =IF(OR(D31="BZ",D31="DB",D31="FZA",D31="K"),0,IF(AC31>AB31,-AC31*24,-AB31*24)) -> 0 | AE31: =IF(C31<>" ",AF31,"") -> -227.16667 | AF31: =SUM(AF30,AA31,AD31) -> -227.16667 | AG31: =ROUNDDOWN(ROUND(AF31,2),0) -> -227 | AH31: =SUM(AF31-AG31)/100*60 -> -0.1
B32: =IF(C32=" "," ",IF(WEEKDAY(C32)=1,"So",IF(WEEKDAY(C32)=7,"Sa",IF(WEEKDAY(C32)=2,"Mo",IF(WEEKDAY(C32)=3,"Di",IF(WEEKDAY(C32)=4,"Mi",IF(WEEKDAY(C32)=5,"Do",IF(WEEKDAY(C32)=6,"Fr","")))))))) -> Di | C32: =IF(C31=" "," ",IF(MONTH(C31+1)<>MONTH(C31)," ",C31+1)) -> 44237 | G32: =IF(C32=" ","",IF(D32="FZA",0,IF(OR(D32="",D32="dA"),IF(AND(F32>0,E32>0),(F32-E32),0),IF(D32="F",(F32-E32),H32)))) -> 0 | H32: =IF(OR(D32="KK",D32="F",D32="SU",D32="U"),0,Z32) -> 0.32638889 | I32: =IF(G32=H32," ",IF(G32>H32,"+","-")) -> - | J32: =IF(H32=G32," ",IF(H32>G32,(H32-G32),(G32-H32))) -> 0.32638889 | Q32: =IF(R32="","","-") | R32: =IF(AD32=0,"",AD32/-24) | T32: =IF(C32=" ","",IF(G32>0,G32+AD32/24,"")) | U32: =IF(OR(Z32>0,AND(Z32=0,T32<>"")),IF(AE32="","",IF(AE32=0,"",IF(AF32<0,"-","+"))),"") -> - | V32: =IF(OR(Z32>0,AND(Z32=0,T32<>"")),IF(AE32="","",IF(AG32<0,(AG32*(-1)),AG32)),"") -> 235 | W32: =IF(OR(Z32>0,AND(Z32=0,T32<>"")),IF(AE32="","",":"),"") -> : | X32: =IF(OR(Z32>0,AND(Z32=0,T32<>"")),IF(AE32="","",IF(AF32>0,PRODUCT(AH32,100),PRODUCT(AH32,-100))),"") -> 6.8212103e-12 | Z32: =IF(C32=" "," ",IF(OR(TODAY()<C32,Stammdaten!$C$8>C32,AND(Stammdaten!$C$9>0,C32>Stammdaten!$C$9)),0,IF(WEEKDAY(C32)=$G$17,IF(OR($E$9="VZ",$E$9="Schicht"),$AH$17/24,IF($D$15<>"x",$AH$17/24,$G$15)),IF(WEEKDAY(C32)=$H$17,IF(OR($E$9="VZ",$E$9="Schicht"),$AH$17/24,IF($D$15<>"x",$AH$17/24,$H$15)),IF(WEEKDAY(C32)=$I$17,IF(OR($E$9="VZ",$E$9="Schicht"),$AH$17/24,IF($D$15<>"x",$AH$17/24,$I$15)),IF(WEEKDAY(C32)=$K$17,IF(OR($E$9="VZ",$E$9="Schicht"),$AH$17/24,IF($D$15<>"x",$AH$17/24,$K$15)),IF(WEEKDAY(C32)=$L$17,IF(OR($E$9="VZ",$E$9="Schicht"),$AH$17/24,IF($D$15<>"x",$AH$17/24,$L$15)),TIMEVALUE("0:00")))))))) -> 0.32638889 | AA32: =IF(I32="-",(-J32)*24,IF(I32="+",(+J32)*24,0)) -> -7.8333333 | AB32: =IF(L32>0,(L32-K32)+(N32-M32)+(P32-O32),TIMEVALUE("0:00")) -> 0 | AC32: =IF(G32="",0,IF(G32<=TIMEVALUE("6:30"),TIMEVALUE("0:00"),IF(G32>TIMEVALUE("9:45"),TIMEVALUE("0:45"),TIMEVALUE("0:30")))) -> 0 | AD32: =IF(OR(D32="BZ",D32="DB",D32="FZA",D32="K"),0,IF(AC32>AB32,-AC32*24,-AB32*24)) -> 0 | AE32: =IF(C32<>" ",AF32,"") -> -235 | AF32: =SUM(AF31,AA32,AD32) -> -235 | AG32: =ROUNDDOWN(ROUND(AF32,2),0) -> -235 | AH32: =SUM(AF32-AG32)/100*60 -> -6.8212103e-14
B33: =IF(C33=" "," ",IF(WEEKDAY(C33)=1,"So",IF(WEEKDAY(C33)=7,"Sa",IF(WEEKDAY(C33)=2,"Mo",IF(WEEKDAY(C33)=3,"Di",IF(WEEKDAY(C33)=4,"Mi",IF(WEEKDAY(C33)=5,"Do",IF(WEEKDAY(C33)=6,"Fr","")))))))) -> Mi | C33: =IF(C32=" "," ",IF(MONTH(C32+1)<>MONTH(C32)," ",C32+1)) -> 44238 | G33: =IF(C33=" ","",IF(D33="FZA",0,IF(OR(D33="",D33="dA"),IF(AND(F33>0,E33>0),(F33-E33),0),IF(D33="F",(F33-E33),H33)))) -> 0 | H33: =IF(OR(D33="KK",D33="F",D33="SU",D33="U"),0,Z33) -> 0.32638889 | I33: =IF(G33=H33," ",IF(G33>H33,"+","-")) -> - | J33: =IF(H33=G33," ",IF(H33>G33,(H33-G33),(G33-H33))) -> 0.32638889 | Q33: =IF(R33="","","-") | R33: =IF(AD33=0,"",AD33/-24) | T33: =IF(C33=" ","",IF(G33>0,G33+AD33/24,"")) | U33: =IF(OR(Z33>0,AND(Z33=0,T33<>"")),IF(AE33="","",IF(AE33=0,"",IF(AF33<0,"-","+"))),"") -> - | V33: =IF(OR(Z33>0,AND(Z33=0,T33<>"")),IF(AE33="","",IF(AG33<0,(AG33*(-1)),AG33)),"") -> 242 | W33: =IF(OR(Z33>0,AND(Z33=0,T33<>"")),IF(AE33="","",":"),"") -> : | X33: =IF(OR(Z33>0,AND(Z33=0,T33<>"")),IF(AE33="","",IF(AF33>0,PRODUCT(AH33,100),PRODUCT(AH33,-100))),"") -> 50 | Z33: =IF(C33=" "," ",IF(OR(TODAY()<C33,Stammdaten!$C$8>C33,AND(Stammdaten!$C$9>0,C33>Stammdaten!$C$9)),0,IF(WEEKDAY(C33)=$G$17,IF(OR($E$9="VZ",$E$9="Schicht"),$AH$17/24,IF($D$15<>"x",$AH$17/24,$G$15)),IF(WEEKDAY(C33)=$H$17,IF(OR($E$9="VZ",$E$9="Schicht"),$AH$17/24,IF($D$15<>"x",$AH$17/24,$H$15)),IF(WEEKDAY(C33)=$I$17,IF(OR($E$9="VZ",$E$9="Schicht"),$AH$17/24,IF($D$15<>"x",$AH$17/24,$I$15)),IF(WEEKDAY(C33)=$K$17,IF(OR($E$9="VZ",$E$9="Schicht"),$AH$17/24,IF($D$15<>"x",$AH$17/24,$K$15)),IF(WEEKDAY(C33)=$L$17,IF(OR($E$9="VZ",$E$9="Schicht"),$AH$17/24,IF($D$15<>"x",$AH$17/24,$L$15)),TIMEVALUE("0:00")))))))) -> 0.32638889 | AA33: =IF(I33="-",(-J33)*24,IF(I33="+",(+J33)*24,0)) -> -7.8333333 | AB33: =IF(L33>0,(L33-K33)+(N33-M33)+(P33-O33),TIMEVALUE("0:00")) -> 0 | AC33: =IF(G33="",0,IF(G33<=TIMEVALUE("6:30"),TIMEVALUE("0:00"),IF(G33>TIMEVALUE("9:45"),TIMEVALUE("0:45"),TIMEVALUE("0:30")))) -> 0 | AD33: =IF(OR(D33="BZ",D33="DB",D33="FZA",D33="K"),0,IF(AC33>AB33,-AC33*24,-AB33*24)) -> 0 | AE33: =IF(C33<>" ",AF33,"") -> -242.83333 | AF33: =SUM(AF32,AA33,AD33) -> -242.83333 | AG33: =ROUNDDOWN(ROUND(AF33,2),0) -> -242 | AH33: =SUM(AF33-AG33)/100*60 -> -0.5
B34: =IF(C34=" "," ",IF(WEEKDAY(C34)=1,"So",IF(WEEKDAY(C34)=7,"Sa",IF(WEEKDAY(C34)=2,"Mo",IF(WEEKDAY(C34)=3,"Di",IF(WEEKDAY(C34)=4,"Mi",IF(WEEKDAY(C34)=5,"Do",IF(WEEKDAY(C34)=6,"Fr","")))))))) -> Do | C34: =IF(C33=" "," ",IF(MONTH(C33+1)<>MONTH(C33)," ",C33+1)) -> 44239 | G34: =IF(C34=" ","",IF(D34="FZA",0,IF(OR(D34="",D34="dA"),IF(AND(F34>0,E34>0),(F34-E34),0),IF(D34="F",(F34-E34),H34)))) -> 0 | H34: =IF(OR(D34="KK",D34="F",D34="SU",D34="U"),0,Z34) -> 0.32638889 | I34: =IF(G34=H34," ",IF(G34>H34,"+","-")) -> - | J34: =IF(H34=G34," ",IF(H34>G34,(H34-G34),(G34-H34))) -> 0.32638889 | Q34: =IF(R34="","","-") | R34: =IF(AD34=0,"",AD34/-24) | T34: =IF(C34=" ","",IF(G34>0,G34+AD34/24,"")) | U34: =IF(OR(Z34>0,AND(Z34=0,T34<>"")),IF(AE34="","",IF(AE34=0,"",IF(AF34<0,"-","+"))),"") -> - | V34: =IF(OR(Z34>0,AND(Z34=0,T34<>"")),IF(AE34="","",IF(AG34<0,(AG34*(-1)),AG34)),"") -> 250 | W34: =IF(OR(Z34>0,AND(Z34=0,T34<>"")),IF(AE34="","",":"),"") -> : | X34: =IF(OR(Z34>0,AND(Z34=0,T34<>"")),IF(AE34="","",IF(AF34>0,PRODUCT(AH34,100),PRODUCT(AH34,-100))),"") -> 40 | Z34: =IF(C34=" "," ",IF(OR(TODAY()<C34,Stammdaten!$C$8>C34,AND(Stammdaten!$C$9>0,C34>Stammdaten!$C$9)),0,IF(WEEKDAY(C34)=$G$17,IF(OR($E$9="VZ",$E$9="Schicht"),$AH$17/24,IF($D$15<>"x",$AH$17/24,$G$15)),IF(WEEKDAY(C34)=$H$17,IF(OR($E$9="VZ",$E$9="Schicht"),$AH$17/24,IF($D$15<>"x",$AH$17/24,$H$15)),IF(WEEKDAY(C34)=$I$17,IF(OR($E$9="VZ",$E$9="Schicht"),$AH$17/24,IF($D$15<>"x",$AH$17/24,$I$15)),IF(WEEKDAY(C34)=$K$17,IF(OR($E$9="VZ",$E$9="Schicht"),$AH$17/24,IF($D$15<>"x",$AH$17/24,$K$15)),IF(WEEKDAY(C34)=$L$17,IF(OR($E$9="VZ",$E$9="Schicht"),$AH$17/24,IF($D$15<>"x",$AH$17/24,$L$15)),TIMEVALUE("0:00")))))))) -> 0.32638889 | AA34: =IF(I34="-",(-J34)*24,IF(I34="+",(+J34)*24,0)) -> -7.8333333 | AB34: =IF(L34>0,(L34-K34)+(N34-M34)+(P34-O34),TIMEVALUE("0:00")) -> 0 | AC34: =IF(G34="",0,IF(G34<=TIMEVALUE("6:30"),TIMEVALUE("0:00"),IF(G34>TIMEVALUE("9:45"),TIMEVALUE("0:45"),TIMEVALUE("0:30")))) -> 0 | AD34: =IF(OR(D34="BZ",D34="DB",D34="FZA",D34="K"),0,IF(AC34>AB34,-AC34*24,-AB34*24)) -> 0 | AE34: =IF(C34<>" ",AF34,"") -> -250.66667 | AF34: =SUM(AF33,AA34,AD34) -> -250.66667 | AG34: =ROUNDDOWN(ROUND(AF34,2),0) -> -250 | AH34: =SUM(AF34-AG34)/100*60 -> -0.4
... B49: =IF(C49=" "," ",IF(WEEKDAY(C49)=1,"So",IF(WEEKDAY(C49)=7,"Sa",IF(WEEKDAY(C49)=2,"Mo",IF(WEEKDAY(C49)=3,"Di",IF(WEEKDAY(C49)=4,"Mi",IF(WEEKDAY(C49)=5,"Do",IF(WEEKDAY(C49)=6,"Fr","")))))))) -> Fr | C49: =IF(C48=" "," ",IF(MONTH(C48+1)<>MONTH(C48)," ",C48+1)) -> 44254 | G49: =IF(C49=" ","",IF(D49="FZA",0,IF(OR(D49="",D49="dA"),IF(AND(F49>0,E49>0),(F49-E49),0),IF(D49="F",(F49-E49),H49)))) -> 0 | H49: =IF(OR(D49="KK",D49="F",D49="SU",D49="U"),0,Z49) -> 0.32638889 | I49: =IF(G49=H49," ",IF(G49>H49,"+","-")) -> - | J49: =IF(H49=G49," ",IF(H49>G49,(H49-G49),(G49-H49))) -> 0.32638889 | Q49: =IF(R49="","","-") | R49: =IF(AD49=0,"",AD49/-24) | T49: =IF(C49=" ","",IF(G49>0,G49+AD49/24,"")) | U49: =IF(OR(Z49>0,AND(Z49=0,T49<>"")),IF(AE49="","",IF(AE49=0,"",IF(AF49<0,"-","+"))),"") -> - | V49: =IF(OR(Z49>0,AND(Z49=0,T49<>"")),IF(AE49="","",IF(AG49<0,(AG49*(-1)),AG49)),"") -> 336 | W49: =IF(OR(Z49>0,AND(Z49=0,T49<>"")),IF(AE49="","",":"),"") -> : | X49: =IF(OR(Z49>0,AND(Z49=0,T49<>"")),IF(AE49="","",IF(AF49>0,PRODUCT(AH49,100),PRODUCT(AH49,-100))),"") -> 50 | Z49: =IF(C49=" "," ",IF(OR(TODAY()<C49,Stammdaten!$C$8>C49,AND(Stammdaten!$C$9>0,C49>Stammdaten!$C$9)),0,IF(WEEKDAY(C49)=$G$17,IF(OR($E$9="VZ",$E$9="Schicht"),$AH$17/24,IF($D$15<>"x",$AH$17/24,$G$15)),IF(WEEKDAY(C49)=$H$17,IF(OR($E$9="VZ",$E$9="Schicht"),$AH$17/24,IF($D$15<>"x",$AH$17/24,$H$15)),IF(WEEKDAY(C49)=$I$17,IF(OR($E$9="VZ",$E$9="Schicht"),$AH$17/24,IF($D$15<>"x",$AH$17/24,$I$15)),IF(WEEKDAY(C49)=$K$17,IF(OR($E$9="VZ",$E$9="Schicht"),$AH$17/24,IF($D$15<>"x",$AH$17/24,$K$15)),IF(WEEKDAY(C49)=$L$17,IF(OR($E$9="VZ",$E$9="Schicht"),$AH$17/24,IF($D$15<>"x",$AH$17/24,$L$15)),TIMEVALUE("0:00")))))))) -> 0.32638889 | AA49: =IF(I49="-",(-J49)*24,IF(I49="+",(+J49)*24,0)) -> -7.8333333 | AB49: =IF(L49>0,(L49-K49)+(N49-M49)+(P49-O49),TIMEVALUE("0:00")) -> 0 | AC49: =IF(G49="",0,IF(G49<=TIMEVALUE("6:30"),TIMEVALUE("0:00"),IF(G49>TIMEVALUE("9:45"),TIMEVALUE("0:45"),TIMEVALUE("0:30")))) -> 0 | AD49: =IF(OR(D49="BZ",D49="DB",D49="FZA",D49="K"),0,IF(AC49>AB49,-AC49*24,-AB49*24)) -> 0 | AE49: =IF(C49<>" ",AF49,"") -> -336.83333 | AF49: =SUM(AF48,AA49,AD49) -> -336.83333 | AG49: =ROUNDDOWN(ROUND(AF49,2),0) -> -336 | AH49: =SUM(AF49-AG49)/100*60 -> -0.5
B50: =IF(C50=" "," ",IF(WEEKDAY(C50)=1,"So",IF(WEEKDAY(C50)=7,"Sa",IF(WEEKDAY(C50)=2,"Mo",IF(WEEKDAY(C50)=3,"Di",IF(WEEKDAY(C50)=4,"Mi",IF(WEEKDAY(C50)=5,"Do",IF(WEEKDAY(C50)=6,"Fr","")))))))) | C50: =IF(C49=" "," ",IF(MONTH(C49+1)<>MONTH(C49)," ",C49+1)) | G50: =IF(C50=" ","",IF(D50="FZA",0,IF(OR(D50="",D50="dA"),IF(AND(F50>0,E50>0),(F50-E50),0),IF(D50="F",(F50-E50),H50)))) | H50: =IF(OR(D50="KK",D50="F",D50="SU",D50="U"),0,Z50) | I50: =IF(C50=" ","",IF(G50=H50," ",IF(G50>H50,"+","-"))) | J50: =IF(C50=" ","",IF(H50=G50," ",IF(H50>G50,(H50-G50),(G50-H50)))) | Q50: =IF(R50="","","-") | R50: =IF(AD50=0,"",AD50/-24) | T50: =IF(C50=" ","",IF(G50>0,G50+AD50/24,"")) | U50: =IF(OR(Z50>0,AND(Z50=0,T50<>"")),IF(AE50="","",IF(AE50=0,"",IF(AF50<0,"-","+"))),"") | V50: =IF(OR(Z50>0,AND(Z50=0,T50<>"")),IF(AE50="","",IF(AG50<0,(AG50*(-1)),AG50)),"") | W50: =IF(OR(Z50>0,AND(Z50=0,T50<>"")),IF(AE50="","",":"),"") | X50: =IF(OR(Z50>0,AND(Z50=0,T50<>"")),IF(AE50="","",IF(AF50>0,PRODUCT(AH50,100),PRODUCT(AH50,-100))),"") | Z50: =IF(C50=" "," ",IF(OR(TODAY()<C50,Stammdaten!$C$8>C50,AND(Stammdaten!$C$9>0,C50>Stammdaten!$C$9)),0,IF(WEEKDAY(C50)=$G$17,IF(OR($E$9="VZ",$E$9="Schicht"),$AH$17/24,IF($D$15<>"x",$AH$17/24,$G$15)),IF(WEEKDAY(C50)=$H$17,IF(OR($E$9="VZ",$E$9="Schicht"),$AH$17/24,IF($D$15<>"x",$AH$17/24,$H$15)),IF(WEEKDAY(C50)=$I$17,IF(OR($E$9="VZ",$E$9="Schicht"),$AH$17/24,IF($D$15<>"x",$AH$17/24,$I$15)),IF(WEEKDAY(C50)=$K$17,IF(OR($E$9="VZ",$E$9="Schicht"),$AH$17/24,IF($D$15<>"x",$AH$17/24,$K$15)),IF(WEEKDAY(C50)=$L$17,IF(OR($E$9="VZ",$E$9="Schicht"),$AH$17/24,IF($D$15<>"x",$AH$17/24,$L$15)),TIMEVALUE("0:00")))))))) | AA50: =IF(I50="-",(-J50)*24,IF(I50="+",(+J50)*24,0)) -> 0 | AB50: =IF(L50>0,(L50-K50)+(N50-M50)+(P50-O50),TIMEVALUE("0:00")) -> 0 | AC50: =IF(G50="",0,IF(G50<=TIMEVALUE("6:30"),TIMEVALUE("0:00"),IF(G50>TIMEVALUE("9:45"),TIMEVALUE("0:45"),TIMEVALUE("0:30")))) -> 0 | AD50: =IF(OR(D50="BZ",D50="DB",D50="FZA",D50="K"),0,IF(AC50>AB50,-AC50*24,-AB50*24)) -> 0 | AE50: =IF(C50<>" ",AF50,"") | AF50: =SUM(AF49,AA50,AD50) -> -336.83333 | AG50: =ROUNDDOWN(ROUND(AF50,2),0) -> -336 | AH50: =SUM(AF50-AG50)/100*60 -> -0.5
B51: =IF(C51=" "," ",IF(WEEKDAY(C51)=1,"So",IF(WEEKDAY(C51)=7,"Sa",IF(WEEKDAY(C51)=2,"Mo",IF(WEEKDAY(C51)=3,"Di",IF(WEEKDAY(C51)=4,"Mi",IF(WEEKDAY(C51)=5,"Do",IF(WEEKDAY(C51)=6,"Fr","")))))))) | C51: =IF(C50=" "," ",IF(MONTH(C50+1)<>MONTH(C50)," ",C50+1)) | G51: =IF(C51=" ","",IF(D51="FZA",0,IF(OR(D51="",D51="dA"),IF(AND(F51>0,E51>0),(F51-E51),0),IF(D51="F",(F51-E51),H51)))) | H51: =IF(OR(D51="KK",D51="F",D51="SU",D51="U"),0,Z51) | I51: =IF(C51=" ","",IF(G51=H51," ",IF(G51>H51,"+","-"))) | J51: =IF(C51=" ","",IF(H51=G51," ",IF(H51>G51,(H51-G51),(G51-H51)))) | Q51: =IF(R51="","","-") | R51: =IF(AD51=0,"",AD51/-24) | T51: =IF(C51=" ","",IF(G51>0,G51+AD51/24,"")) | U51: =IF(OR(Z51>0,AND(Z51=0,T51<>"")),IF(AE51="","",IF(AE51=0,"",IF(AF51<0,"-","+"))),"") | V51: =IF(OR(Z51>0,AND(Z51=0,T51<>"")),IF(AE51="","",IF(AG51<0,(AG51*(-1)),AG51)),"") | W51: =IF(OR(Z51>0,AND(Z51=0,T51<>"")),IF(AE51="","",":"),"") | X51: =IF(OR(Z51>0,AND(Z51=0,T51<>"")),IF(AE51="","",IF(AF51>0,PRODUCT(AH51,100),PRODUCT(AH51,-100))),"") | Z51: =IF(C51=" "," ",IF(OR(TODAY()<C51,Stammdaten!$C$8>C51,AND(Stammdaten!$C$9>0,C51>Stammdaten!$C$9)),0,IF(WEEKDAY(C51)=$G$17,IF(OR($E$9="VZ",$E$9="Schicht"),$AH$17/24,IF($D$15<>"x",$AH$17/24,$G$15)),IF(WEEKDAY(C51)=$H$17,IF(OR($E$9="VZ",$E$9="Schicht"),$AH$17/24,IF($D$15<>"x",$AH$17/24,$H$15)),IF(WEEKDAY(C51)=$I$17,IF(OR($E$9="VZ",$E$9="Schicht"),$AH$17/24,IF($D$15<>"x",$AH$17/24,$I$15)),IF(WEEKDAY(C51)=$K$17,IF(OR($E$9="VZ",$E$9="Schicht"),$AH$17/24,IF($D$15<>"x",$AH$17/24,$K$15)),IF(WEEKDAY(C51)=$L$17,IF(OR($E$9="VZ",$E$9="Schicht"),$AH$17/24,IF($D$15<>"x",$AH$17/24,$L$15)),TIMEVALUE("0:00")))))))) | AA51: =IF(I51="-",(-J51)*24,IF(I51="+",(+J51)*24,0)) -> 0 | AB51: =IF(L51>0,(L51-K51)+(N51-M51)+(P51-O51),TIMEVALUE("0:00")) -> 0 | AC51: =IF(G51="",0,IF(G51<=TIMEVALUE("6:30"),TIMEVALUE("0:00"),IF(G51>TIMEVALUE("9:45"),TIMEVALUE("0:45"),TIMEVALUE("0:30")))) -> 0 | AD51: =IF(OR(D51="BZ",D51="DB",D51="FZA",D51="K"),0,IF(AC51>AB51,-AC51*24,-AB51*24)) -> 0 | AE51: =IF(C51<>" ",AF51,"") | AF51: =SUM(AF50,AA51,AD51) -> -336.83333 | AG51: =ROUNDDOWN(ROUND(AF51,2),0) -> -336 | AH51: =SUM(AF51-AG51)/100*60 -> -0.5
B52: =IF(C52=" "," ",IF(WEEKDAY(C52)=1,"So",IF(WEEKDAY(C52)=7,"Sa",IF(WEEKDAY(C52)=2,"Mo",IF(WEEKDAY(C52)=3,"Di",IF(WEEKDAY(C52)=4,"Mi",IF(WEEKDAY(C52)=5,"Do",IF(WEEKDAY(C52)=6,"Fr","")))))))) | C52: =IF(C51=" "," ",IF(MONTH(C51+1)<>MONTH(C51)," ",C51+1)) | G52: =IF(C52=" ","",IF(D52="FZA",0,IF(OR(D52="",D52="dA"),IF(AND(F52>0,E52>0),(F52-E52),0),IF(D52="F",(F52-E52),H52)))) | H52: =IF(OR(D52="KK",D52="F",D52="SU",D52="U"),0,Z52) | I52: =IF(C52=" ","",IF(G52=H52," ",IF(G52>H52,"+","-"))) | J52: =IF(C52=" ","",IF(H52=G52," ",IF(H52>G52,(H52-G52),(G52-H52)))) | Q52: =IF(R52="","","-") | R52: =IF(AD52=0,"",AD52/-24) | T52: =IF(C52=" ","",IF(G52>0,G52+AD52/24,"")) | U52: =IF(OR(Z52>0,AND(Z52=0,T52<>"")),IF(AE52="","",IF(AE52=0,"",IF(AF52<0,"-","+"))),"") | V52: =IF(OR(Z52>0,AND(Z52=0,T52<>"")),IF(AE52="","",IF(AG52<0,(AG52*(-1)),AG52)),"") | W52: =IF(OR(Z52>0,AND(Z52=0,T52<>"")),IF(AE52="","",":"),"") | X52: =IF(OR(Z52>0,AND(Z52=0,T52<>"")),IF(AE52="","",IF(AF52>0,PRODUCT(AH52,100),PRODUCT(AH52,-100))),"") | Z52: =IF(C52=" "," ",IF(OR(TODAY()<C52,Stammdaten!$C$8>C52,AND(Stammdaten!$C$9>0,C52>Stammdaten!$C$9)),0,IF(WEEKDAY(C52)=$G$17,IF(OR($E$9="VZ",$E$9="Schicht"),$AH$17/24,IF($D$15<>"x",$AH$17/24,$G$15)),IF(WEEKDAY(C52)=$H$17,IF(OR($E$9="VZ",$E$9="Schicht"),$AH$17/24,IF($D$15<>"x",$AH$17/24,$H$15)),IF(WEEKDAY(C52)=$I$17,IF(OR($E$9="VZ",$E$9="Schicht"),$AH$17/24,IF($D$15<>"x",$AH$17/24,$I$15)),IF(WEEKDAY(C52)=$K$17,IF(OR($E$9="VZ",$E$9="Schicht"),$AH$17/24,IF($D$15<>"x",$AH$17/24,$K$15)),IF(WEEKDAY(C52)=$L$17,IF(OR($E$9="VZ",$E$9="Schicht"),$AH$17/24,IF($D$15<>"x",$AH$17/24,$L$15)),TIMEVALUE("0:00")))))))) | AA52: =IF(I52="-",(-J52)*24,IF(I52="+",(+J52)*24,0)) -> 0 | AB52: =IF(L52>0,(L52-K52)+(N52-M52)+(P52-O52),TIMEVALUE("0:00")) -> 0 | AC52: =IF(G52="",0,IF(G52<=TIMEVALUE("6:30"),TIMEVALUE("0:00"),IF(G52>TIMEVALUE("9:45"),TIMEVALUE("0:45"),TIMEVALUE("0:30")))) -> 0 | AD52: =IF(OR(D52="BZ",D52="DB",D52="FZA",D52="K"),0,IF(AC52>AB52,-AC52*24,-AB52*24)) -> 0 | AE52: =IF(C52<>" ",AF52,"") | AF52: =SUM(AF51,AA52,AD52) -> -336.83333 | AG52: =ROUNDDOWN(ROUND(AF52,2),0) -> -336 | AH52: =SUM(AF52-AG52)/100*60 -> -0.5
V53: Std. | X53: Min.
B54: Information | S54: Arbeitszeitgutschrift1 | W54: :
B55: Krankheitstage | D55: =COUNTIF($D$22:$D$52,"K") -> 0 | S55: Übertrag | U55: =IF(AF52<0,"-","+") -> - | V55: =IF((AG52+V54)<0,(AG52+V54)*-1,(AG52+V54)) -> 336 | W55: : | X55: =IF((AH52+X54)<0,((AH52*100+X54)*(-1)),(AH52*100+X54)) -> 50
B56: Urlaubstage | D56: =COUNTIF($D$22:$D$52,"U") -> 0
B58: =IF($E$9="TZ",IF($V$55>$AA$14*24,"Hinweis: Zeitkontenspanne überschritten. Bitte Rücksprache mit Vorgesetzter/Vorgesetztem halten.",""),IF($V$55>40,"Hinweis: Zeitkontenspanne überschritten. Bitte Rücksprache mit Vorgesetzter/Vorgesetztem halten.","")) -> Hinweis: Zeitkontenspanne überschritten. Bitte Rücksprache mit Vorgesetzter/Vorgesetztem halten.
O61: geprüft am²
C64: Datum, Unterschrift Beschäftigte:r | O64: Name
O67: Unterschrift
B70: 1 vgl. Nr. 4 der Nutzungshinweise
B71: 2 vgl. Nr. 3 der Nutzungshinweise

Sheet 3
B2: A R B E I T S Z E I T N A C H W E I S
B3: UNIVERSITÄT BREMEN
B5: Name: | D5: =Stammdaten!C3&", "&Stammdaten!C4 -> , | J5: Monat | S5: Übertrag aus Vormonat | V5: Std. | X5: Min. | Z5: Achtung: zur Berechnung dieser Datei wurde umgestellt auf: Datei \ Optionen \ Erweitert \ Beim Berechnen dieser Arbeitsmappe \ 1904-Datumswerte verwenden Nur dann können negative (berechnete) Stunden angezeigt und verarbeitet werden.
B6: =Stammdaten!B5&":" -> Organisationseinheit: | D6: =Stammdaten!C5 -> 0 | J6: =DATE(Stammdaten!C6,3,1) -> 44255 | U6: =IF('2'!$AF$52<0,"-","+") -> - | V6: ='2'!$V$55 -> 336 | W6: : | X6: ='2'!$X$55 -> 50
B8: Status | E8: Arbeitszeitmodell | H8: =IF(E9="TZ","Wöchentl. Arbeitszeit bei TZ","")
B9: =Stammdaten!$C$7 -> tarifbeschäftigt TV-L | E9: VZ
E10: =IF(E9="TZ","bitte ggf. Wochenarbeitstage wählen u. Stundenverteilung anpassen","")
G12: =IF($E$9="VZ","Mo",IF(G13="x","Mo","-")) -> Mo | H12: =IF($E$9="VZ","Di",IF(H13="x","Di","-")) -> Di | I12: =IF($E$9="VZ","Mi",IF(I13="x","Mi","-")) -> Mi | K12: =IF($E$9="VZ","Do",IF(K13="x","Do","-")) -> Do | L12: =IF($E$9="VZ","Fr",IF(L13="x","Fr","-")) -> Fr | M12: Summe
D13: Stundenverteilung | G13: x | H13: x | I13: x | K13: x | L13: x | M13: =COUNTIF(G13:L13,"x") -> 5
E14: gleichmäßig | G14: =IF(OR($E$9="VZ",$E$9="Schicht"),$AD$17/24,IF($E$9="TZ",IF($D$15<>"x",IF(G$13="x",($J$9/COUNTIF($G$13:$L$13,"x")/24),""),""),"")) -> 0.32666667 | H14: =IF(OR($E$9="VZ",$E$9="Schicht"),$AD$17/24,IF($E$9="TZ",IF($D$15<>"x",IF(H$13="x",($J$9/COUNTIF($G$13:$L$13,"x")/24),""),""),"")) -> 0.32666667 | I14: =IF(OR($E$9="VZ",$E$9="Schicht"),$AD$17/24,IF($E$9="TZ",IF($D$15<>"x",IF(I$13="x",($J$9/COUNTIF($G$13:$L$13,"x")/24),""),""),"")) -> 0.32666667 | K14: =IF(OR($E$9="VZ",$E$9="Schicht"),$AD$17/24,IF($E$9="TZ",IF($D$15<>"x",IF(K$13="x",($J$9/COUNTIF($G$13:$L$13,"x")/24),""),""),"")) -> 0.32666667 | L14: =IF(OR($E$9="VZ",$E$9="Schicht"),$AD$17/24,IF($E$9="TZ",IF($D$15<>"x",IF(L$13="x",($J$9/COUNTIF($G$13:$L$13,"x")/24),""),""),"")) -> 0.32666667 | M14: =IF($D$15<>"x",SUM(G14:L14)*24,"") -> 39.2 | AA14: =IF($D$15="x",SUM(G15:L15),SUM(G14:L14)) -> 1.6333333
E15: ungleichmäßig | M15: =IF($D$15="x",SUMIFS(G15:L15,G13:L13,"x")*24,"")
C16: Arbeitstage im Monat
C17: =SUMPRODUCT(COUNTIF(B22:B52,G12:L12)) -> 21 | G17: =IF(E9="VZ",2,IF(G13="x",2,0)) -> 2 | H17: =IF(E9="VZ",3,IF(H13="x",3,0)) -> 3 | I17: =IF(E9="VZ",4,IF(I13="x",4,0)) -> 4 | K17: =IF(E9="VZ",5,IF(K13="x",5,0)) -> 5 | L17: =IF(E9="VZ",6,IF(L13="x",6,0)) -> 6 | Z17: =(X6/100) -> 0.5 | AA17: =COUNTIF($G$13:$L$13,"x") -> 5 | AC17: Regelm. tgl. Az. | AD17: =IF($E$9="VZ",IF($B$9="tarifbeschäftigt TV-L",39.2/5,IF($B$9="tarifbeschäftigt TVöD",39/5,IF($B$9="verbeamtet",40/5))),IF($E$9="Schicht",38.5/5,IF($E$9="TZ",IF($D$15<>"x",$J$9/$AA$17)))) -> 7.84 | AE17: =AD17/24 -> 0.32666667 | AF17: =TEXT(AE17,"H:MM") -> 7:50 | AG17: =TIMEVALUE(AF17) -> 0.32638889 | AH17: =AG17*24 -> 7.8333333
C18: =IF(AND($E$9="TZ",$AA14<>$J$9/24),"Fehler: Summe der Stundenverteilung stimmt nicht mit wöchentlicher Arbeitszeit überein!","")
C21: Datum | D21: Son-der- tage | E21: Anwesenheitszeit Kommt Geht Ist | H21: Soll- Arbeits- zeit | I21: Diff. Soll Anw.-Ist | K21: Erste Unterbrechung Beginn Ende | M21: Zweite Unterbrechung Beginn Ende | O21: Dritte Unterbrechung Beginn Ende | Q21: anzurechn. Pause bzw. Unterbr. | S21: Bemerkung (z.B. std.weiser FZA, mob. Arbeiten, Dienstreise) | T21: Ist-Arbeits-zeit | U21: Aufrechnung Gesamt in Std.:Min. | Z21: Soll- Arbeits zeit | AA21: Diff. Arbzeit Anw.Zeit | AB21: Ist Pause | AC21: Soll Pause | AD21: anzu rechn. Pause | AE21: Aufrechnung | AF21: =IF(U6="-",-V6-(Z17*100/60),V6+(Z17*100/60)) -> -336.83333 | AG21: Std. | AH21: Min
B22: =IF(C22=" "," ",IF(WEEKDAY(C22)=1,"So",IF(WEEKDAY(C22)=7,"Sa",IF(WEEKDAY(C22)=2,"Mo",IF(WEEKDAY(C22)=3,"Di",IF(WEEKDAY(C22)=4,"Mi",IF(WEEKDAY(C22)=5,"Do",IF(WEEKDAY(C22)=6,"Fr","")))))))) -> Sa | C22: =DATE(Stammdaten!C6,MONTH(J6),1) -> 44255 | G22: =IF(C22=" ","",IF(D22="FZA",0,IF(OR(D22="",D22="dA"),IF(AND(F22>0,E22>0),(F22-E22),0),IF(D22="F",(F22-E22),H22)))) -> 0 | H22: =IF(OR(D22="KK",D22="F",D22="SU",D22="U"),0,Z22) -> 0 | I22: =IF(G22=H22," ",IF(G22>H22,"+","-")) | J22: =IF(H22=G22," ",IF(H22>G22,(H22-G22),(G22-H22))) | Q22: =IF(R22="","","-") | R22: =IF(AD22=0,"",AD22/-24) | T22: =IF(C22=" ","",IF(G22>0,G22+AD22/24,"")) | U22: =IF(OR(Z22>0,AND(Z22=0,T22<>"")),IF(AE22="","",IF(AE22=0,"",IF(AF22<0,"-","+"))),"") | V22: =IF(OR(Z22>0,AND(Z22=0,T22<>"")),IF(AE22="","",IF(AG22<0,(AG22*(-1)),AG22)),"") | W22: =IF(OR(Z22>0,AND(Z22=0,T22<>"")),IF(AE22="","",":"),"") | X22: =IF(OR(Z22>0,AND(Z22=0,T22<>"")),IF(AE22="","",IF(AF22>0,PRODUCT(AH22,100),PRODUCT(AH22,-100))),"") | Z22: =IF(C22=" "," ",IF(OR(TODAY()<C22,Stammdaten!$C$8>C22,AND(Stammdaten!$C$9>0,C22>Stammdaten!$C$9)),0,IF(WEEKDAY(C22)=$G$17,IF(OR($E$9="VZ",$E$9="Schicht"),$AH$17/24,IF($D$15<>"x",$AH$17/24,$G$15)),IF(WEEKDAY(C22)=$H$17,IF(OR($E$9="VZ",$E$9="Schicht"),$AH$17/24,IF($D$15<>"x",$AH$17/24,$H$15)),IF(WEEKDAY(C22)=$I$17,IF(OR($E$9="VZ",$E$9="Schicht"),$AH$17/24,IF($D$15<>"x",$AH$17/24,$I$15)),IF(WEEKDAY(C22)=$K$17,IF(OR($E$9="VZ",$E$9="Schicht"),$AH$17/24,IF($D$15<>"x",$AH$17/24,$K$15)),IF(WEEKDAY(C22)=$L$17,IF(OR($E$9="VZ",$E$9="Schicht"),$AH$17/24,IF($D$15<>"x",$AH$17/24,$L$15)),TIMEVALUE("0:00")))))))) -> 0 | AA22: =IF(I22="-",(-J22)*24,IF(I22="+",(+J22)*24,0)) -> 0 | AB22: =IF(L22>0,(L22-K22)+(N22-M22)+(P22-O22),TIMEVALUE("0:00")) -> 0 | AC22: =IF(G22="",0,IF(G22<=TIMEVALUE("6:30"),TIMEVALUE("0:00"),IF(G22>TIMEVALUE("9:45"),TIMEVALUE("0:45"),TIMEVALUE("0:30")))) -> 0 | AD22: =IF(OR(D22="BZ",D22="DB",D22="FZA",D22="K"),0,IF(AC22>AB22,-AC22*24,-AB22*24)) -> 0 | AE22: =IF(C22<>" ",AF22,"") -> -336.83333 | AF22: =SUM(AF21,AA22,AD22) -> -336.83333 | AG22: =ROUNDDOWN(ROUND(AF22,2),0) -> -336 | AH22: =SUM(AF22-AG22)/100*60 -> -0.5
B23: =IF(C23=" "," ",IF(WEEKDAY(C23)=1,"So",IF(WEEKDAY(C23)=7,"Sa",IF(WEEKDAY(C23)=2,"Mo",IF(WEEKDAY(C23)=3,"Di",IF(WEEKDAY(C23)=4,"Mi",IF(WEEKDAY(C23)=5,"Do",IF(WEEKDAY(C23)=6,"Fr","")))))))) -> So | C23: =IF(C22=" "," ",IF(MONTH(C22+1)<>MONTH(C22)," ",C22+1)) -> 44256 | G23: =IF(C23=" ","",IF(D23="FZA",0,IF(OR(D23="",D23="dA"),IF(AND(F23>0,E23>0),(F23-E23),0),IF(D23="F",(F23-E23),H23)))) -> 0 | H23: =IF(OR(D23="KK",D23="F",D23="SU",D23="U"),0,Z23) -> 0 | I23: =IF(G23=H23," ",IF(G23>H23,"+","-")) | J23: =IF(H23=G23," ",IF(H23>G23,(H23-G23),(G23-H23))) | Q23: =IF(R23="","","-") | R23: =IF(AD23=0,"",AD23/-24) | T23: =IF(C23=" ","",IF(G23>0,G23+AD23/24,"")) | U23: =IF(OR(Z23>0,AND(Z23=0,T23<>"")),IF(AE23="","",IF(AE23=0,"",IF(AF23<0,"-","+"))),"") | V23: =IF(OR(Z23>0,AND(Z23=0,T23<>"")),IF(AE23="","",IF(AG23<0,(AG23*(-1)),AG23)),"") | W23: =IF(OR(Z23>0,AND(Z23=0,T23<>"")),IF(AE23="","",":"),"") | X23: =IF(OR(Z23>0,AND(Z23=0,T23<>"")),IF(AE23="","",IF(AF23>0,PRODUCT(AH23,100),PRODUCT(AH23,-100))),"") | Z23: =IF(C23=" "," ",IF(OR(TODAY()<C23,Stammdaten!$C$8>C23,AND(Stammdaten!$C$9>0,C23>Stammdaten!$C$9)),0,IF(WEEKDAY(C23)=$G$17,IF(OR($E$9="VZ",$E$9="Schicht"),$AH$17/24,IF($D$15<>"x",$AH$17/24,$G$15)),IF(WEEKDAY(C23)=$H$17,IF(OR($E$9="VZ",$E$9="Schicht"),$AH$17/24,IF($D$15<>"x",$AH$17/24,$H$15)),IF(WEEKDAY(C23)=$I$17,IF(OR($E$9="VZ",$E$9="Schicht"),$AH$17/24,IF($D$15<>"x",$AH$17/24,$I$15)),IF(WEEKDAY(C23)=$K$17,IF(OR($E$9="VZ",$E$9="Schicht"),$AH$17/24,IF($D$15<>"x",$AH$17/24,$K$15)),IF(WEEKDAY(C23)=$L$17,IF(OR($E$9="VZ",$E$9="Schicht"),$AH$17/24,IF($D$15<>"x",$AH$17/24,$L$15)),TIMEVALUE("0:00")))))))) -> 0 | AA23: =IF(I23="-",(-J23)*24,IF(I23="+",(+J23)*24,0)) -> 0 | AB23: =IF(L23>0,(L23-K23)+(N23-M23)+(P23-O23),TIMEVALUE("0:00")) -> 0 | AC23: =IF(G23="",0,IF(G23<=TIMEVALUE("6:30"),TIMEVALUE("0:00"),IF(G23>TIMEVALUE("9:45"),TIMEVALUE("0:45"),TIMEVALUE("0:30")))) -> 0 | AD23: =IF(OR(D23="BZ",D23="DB",D23="FZA",D23="K"),0,IF(AC23>AB23,-AC23*24,-AB23*24)) -> 0 | AE23: =IF(C23<>" ",AF23,"") -> -336.83333 | AF23: =SUM(AF22,AA23,AD23) -> -336.83333 | AG23: =ROUNDDOWN(ROUND(AF23,2),0) -> -336 | AH23: =SUM(AF23-AG23)/100*60 -> -0.5
B24: =IF(C24=" "," ",IF(WEEKDAY(C24)=1,"So",IF(WEEKDAY(C24)=7,"Sa",IF(WEEKDAY(C24)=2,"Mo",IF(WEEKDAY(C24)=3,"Di",IF(WEEKDAY(C24)=4,"Mi",IF(WEEKDAY(C24)=5,"Do",IF(WEEKDAY(C24)=6,"Fr","")))))))) -> Mo | C24: =IF(C23=" "," ",IF(MONTH(C23+1)<>MONTH(C23)," ",C23+1)) -> 44257 | G24: =IF(C24=" ","",IF(D24="FZA",0,IF(OR(D24="",D24="dA"),IF(AND(F24>0,E24>0),(F24-E24),0),IF(D24="F",(F24-E24),H24)))) -> 0 | H24: =IF(OR(D24="KK",D24="F",D24="SU",D24="U"),0,Z24) -> 0.32638889 | I24: =IF(G24=H24," ",IF(G24>H24,"+","-")) -> - | J24: =IF(H24=G24," ",IF(H24>G24,(H24-G24),(G24-H24))) -> 0.32638889 | Q24: =IF(R24="","","-") | R24: =IF(AD24=0,"",AD24/-24) | T24: =IF(C24=" ","",IF(G24>0,G24+AD24/24,"")) | U24: =IF(OR(Z24>0,AND(Z24=0,T24<>"")),IF(AE24="","",IF(AE24=0,"",IF(AF24<0,"-","+"))),"") -> - | V24: =IF(OR(Z24>0,AND(Z24=0,T24<>"")),IF(AE24="","",IF(AG24<0,(AG24*(-1)),AG24)),"") -> 344 | W24: =IF(OR(Z24>0,AND(Z24=0,T24<>"")),IF(AE24="","",":"),"") -> : | X24: =IF(OR(Z24>0,AND(Z24=0,T24<>"")),IF(AE24="","",IF(AF24>0,PRODUCT(AH24,100),PRODUCT(AH24,-100))),"") -> 40 | Z24: =IF(C24=" "," ",IF(OR(TODAY()<C24,Stammdaten!$C$8>C24,AND(Stammdaten!$C$9>0,C24>Stammdaten!$C$9)),0,IF(WEEKDAY(C24)=$G$17,IF(OR($E$9="VZ",$E$9="Schicht"),$AH$17/24,IF($D$15<>"x",$AH$17/24,$G$15)),IF(WEEKDAY(C24)=$H$17,IF(OR($E$9="VZ",$E$9="Schicht"),$AH$17/24,IF($D$15<>"x",$AH$17/24,$H$15)),IF(WEEKDAY(C24)=$I$17,IF(OR($E$9="VZ",$E$9="Schicht"),$AH$17/24,IF($D$15<>"x",$AH$17/24,$I$15)),IF(WEEKDAY(C24)=$K$17,IF(OR($E$9="VZ",$E$9="Schicht"),$AH$17/24,IF($D$15<>"x",$AH$17/24,$K$15)),IF(WEEKDAY(C24)=$L$17,IF(OR($E$9="VZ",$E$9="Schicht"),$AH$17/24,IF($D$15<>"x",$AH$17/24,$L$15)),TIMEVALUE("0:00")))))))) -> 0.32638889 | AA24: =IF(I24="-",(-J24)*24,IF(I24="+",(+J24)*24,0)) -> -7.8333333 | AB24: =IF(L24>0,(L24-K24)+(N24-M24)+(P24-O24),TIMEVALUE("0:00")) -> 0 | AC24: =IF(G24="",0,IF(G24<=TIMEVALUE("6:30"),TIMEVALUE("0:00"),IF(G24>TIMEVALUE("9:45"),TIMEVALUE("0:45"),TIMEVALUE("0:30")))) -> 0 | AD24: =IF(OR(D24="BZ",D24="DB",D24="FZA",D24="K"),0,IF(AC24>AB24,-AC24*24,-AB24*24)) -> 0 | AE24: =IF(C24<>" ",AF24,"") -> -344.66667 | AF24: =SUM(AF23,AA24,AD24) -> -344.66667 | AG24: =ROUNDDOWN(ROUND(AF24,2),0) -> -344 | AH24: =SUM(AF24-AG24)/100*60 -> -0.4
B25: =IF(C25=" "," ",IF(WEEKDAY(C25)=1,"So",IF(WEEKDAY(C25)=7,"Sa",IF(WEEKDAY(C25)=2,"Mo",IF(WEEKDAY(C25)=3,"Di",IF(WEEKDAY(C25)=4,"Mi",IF(WEEKDAY(C25)=5,"Do",IF(WEEKDAY(C25)=6,"Fr","")))))))) -> Di | C25: =IF(C24=" "," ",IF(MONTH(C24+1)<>MONTH(C24)," ",C24+1)) -> 44258 | G25: =IF(C25=" ","",IF(D25="FZA",0,IF(OR(D25="",D25="dA"),IF(AND(F25>0,E25>0),(F25-E25),0),IF(D25="F",(F25-E25),H25)))) -> 0 | H25: =IF(OR(D25="KK",D25="F",D25="SU",D25="U"),0,Z25) -> 0.32638889 | I25: =IF(G25=H25," ",IF(G25>H25,"+","-")) -> - | J25: =IF(H25=G25," ",IF(H25>G25,(H25-G25),(G25-H25))) -> 0.32638889 | Q25: =IF(R25="","","-") | R25: =IF(AD25=0,"",AD25/-24) | T25: =IF(C25=" ","",IF(G25>0,G25+AD25/24,"")) | U25: =IF(OR(Z25>0,AND(Z25=0,T25<>"")),IF(AE25="","",IF(AE25=0,"",IF(AF25<0,"-","+"))),"") -> - | V25: =IF(OR(Z25>0,AND(Z25=0,T25<>"")),IF(AE25="","",IF(AG25<0,(AG25*(-1)),AG25)),"") -> 352 | W25: =IF(OR(Z25>0,AND(Z25=0,T25<>"")),IF(AE25="","",":"),"") -> : | X25: =IF(OR(Z25>0,AND(Z25=0,T25<>"")),IF(AE25="","",IF(AF25>0,PRODUCT(AH25,100),PRODUCT(AH25,-100))),"") -> 30 | Z25: =IF(C25=" "," ",IF(OR(TODAY()<C25,Stammdaten!$C$8>C25,AND(Stammdaten!$C$9>0,C25>Stammdaten!$C$9)),0,IF(WEEKDAY(C25)=$G$17,IF(OR($E$9="VZ",$E$9="Schicht"),$AH$17/24,IF($D$15<>"x",$AH$17/24,$G$15)),IF(WEEKDAY(C25)=$H$17,IF(OR($E$9="VZ",$E$9="Schicht"),$AH$17/24,IF($D$15<>"x",$AH$17/24,$H$15)),IF(WEEKDAY(C25)=$I$17,IF(OR($E$9="VZ",$E$9="Schicht"),$AH$17/24,IF($D$15<>"x",$AH$17/24,$I$15)),IF(WEEKDAY(C25)=$K$17,IF(OR($E$9="VZ",$E$9="Schicht"),$AH$17/24,IF($D$15<>"x",$AH$17/24,$K$15)),IF(WEEKDAY(C25)=$L$17,IF(OR($E$9="VZ",$E$9="Schicht"),$AH$17/24,IF($D$15<>"x",$AH$17/24,$L$15)),TIMEVALUE("0:00")))))))) -> 0.32638889 | AA25: =IF(I25="-",(-J25)*24,IF(I25="+",(+J25)*24,0)) -> -7.8333333 | AB25: =IF(L25>0,(L25-K25)+(N25-M25)+(P25-O25),TIMEVALUE("0:00")) -> 0 | AC25: =IF(G25="",0,IF(G25<=TIMEVALUE("6:30"),TIMEVALUE("0:00"),IF(G25>TIMEVALUE("9:45"),TIMEVALUE("0:45"),TIMEVALUE("0:30")))) -> 0 | AD25: =IF(OR(D25="BZ",D25="DB",D25="FZA",D25="K"),0,IF(AC25>AB25,-AC25*24,-AB25*24)) -> 0 | AE25: =IF(C25<>" ",AF25,"") -> -352.5 | AF25: =SUM(AF24,AA25,AD25) -> -352.5 | AG25: =ROUNDDOWN(ROUND(AF25,2),0) -> -352 | AH25: =SUM(AF25-AG25)/100*60 -> -0.3
B26: =IF(C26=" "," ",IF(WEEKDAY(C26)=1,"So",IF(WEEKDAY(C26)=7,"Sa",IF(WEEKDAY(C26)=2,"Mo",IF(WEEKDAY(C26)=3,"Di",IF(WEEKDAY(C26)=4,"Mi",IF(WEEKDAY(C26)=5,"Do",IF(WEEKDAY(C26)=6,"Fr","")))))))) -> Mi | C26: =IF(C25=" "," ",IF(MONTH(C25+1)<>MONTH(C25)," ",C25+1)) -> 44259 | G26: =IF(C26=" ","",IF(D26="FZA",0,IF(OR(D26="",D26="dA"),IF(AND(F26>0,E26>0),(F26-E26),0),IF(D26="F",(F26-E26),H26)))) -> 0 | H26: =IF(OR(D26="KK",D26="F",D26="SU",D26="U"),0,Z26) -> 0.32638889 | I26: =IF(G26=H26," ",IF(G26>H26,"+","-")) -> - | J26: =IF(H26=G26," ",IF(H26>G26,(H26-G26),(G26-H26))) -> 0.32638889 | Q26: =IF(R26="","","-") | R26: =IF(AD26=0,"",AD26/-24) | T26: =IF(C26=" ","",IF(G26>0,G26+AD26/24,"")) | U26: =IF(OR(Z26>0,AND(Z26=0,T26<>"")),IF(AE26="","",IF(AE26=0,"",IF(AF26<0,"-","+"))),"") -> - | V26: =IF(OR(Z26>0,AND(Z26=0,T26<>"")),IF(AE26="","",IF(AG26<0,(AG26*(-1)),AG26)),"") -> 360 | W26: =IF(OR(Z26>0,AND(Z26=0,T26<>"")),IF(AE26="","",":"),"") -> : | X26: =IF(OR(Z26>0,AND(Z26=0,T26<>"")),IF(AE26="","",IF(AF26>0,PRODUCT(AH26,100),PRODUCT(AH26,-100))),"") -> 20 | Z26: =IF(C26=" "," ",IF(OR(TODAY()<C26,Stammdaten!$C$8>C26,AND(Stammdaten!$C$9>0,C26>Stammdaten!$C$9)),0,IF(WEEKDAY(C26)=$G$17,IF(OR($E$9="VZ",$E$9="Schicht"),$AH$17/24,IF($D$15<>"x",$AH$17/24,$G$15)),IF(WEEKDAY(C26)=$H$17,IF(OR($E$9="VZ",$E$9="Schicht"),$AH$17/24,IF($D$15<>"x",$AH$17/24,$H$15)),IF(WEEKDAY(C26)=$I$17,IF(OR($E$9="VZ",$E$9="Schicht"),$AH$17/24,IF($D$15<>"x",$AH$17/24,$I$15)),IF(WEEKDAY(C26)=$K$17,IF(OR($E$9="VZ",$E$9="Schicht"),$AH$17/24,IF($D$15<>"x",$AH$17/24,$K$15)),IF(WEEKDAY(C26)=$L$17,IF(OR($E$9="VZ",$E$9="Schicht"),$AH$17/24,IF($D$15<>"x",$AH$17/24,$L$15)),TIMEVALUE("0:00")))))))) -> 0.32638889 | AA26: =IF(I26="-",(-J26)*24,IF(I26="+",(+J26)*24,0)) -> -7.8333333 | AB26: =IF(L26>0,(L26-K26)+(N26-M26)+(P26-O26),TIMEVALUE("0:00")) -> 0 | AC26: =IF(G26="",0,IF(G26<=TIMEVALUE("6:30"),TIMEVALUE("0:00"),IF(G26>TIMEVALUE("9:45"),TIMEVALUE("0:45"),TIMEVALUE("0:30")))) -> 0 | AD26: =IF(OR(D26="BZ",D26="DB",D26="FZA",D26="K"),0,IF(AC26>AB26,-AC26*24,-AB26*24)) -> 0 | AE26: =IF(C26<>" ",AF26,"") -> -360.33333 | AF26: =SUM(AF25,AA26,AD26) -> -360.33333 | AG26: =ROUNDDOWN(ROUND(AF26,2),0) -> -360 | AH26: =SUM(AF26-AG26)/100*60 -> -0.2
B27: =IF(C27=" "," ",IF(WEEKDAY(C27)=1,"So",IF(WEEKDAY(C27)=7,"Sa",IF(WEEKDAY(C27)=2,"Mo",IF(WEEKDAY(C27)=3,"Di",IF(WEEKDAY(C27)=4,"Mi",IF(WEEKDAY(C27)=5,"Do",IF(WEEKDAY(C27)=6,"Fr","")))))))) -> Do | C27: =IF(C26=" "," ",IF(MONTH(C26+1)<>MONTH(C26)," ",C26+1)) -> 44260 | G27: =IF(C27=" ","",IF(D27="FZA",0,IF(OR(D27="",D27="dA"),IF(AND(F27>0,E27>0),(F27-E27),0),IF(D27="F",(F27-E27),H27)))) -> 0 | H27: =IF(OR(D27="KK",D27="F",D27="SU",D27="U"),0,Z27) -> 0.32638889 | I27: =IF(G27=H27," ",IF(G27>H27,"+","-")) -> - | J27: =IF(H27=G27," ",IF(H27>G27,(H27-G27),(G27-H27))) -> 0.32638889 | Q27: =IF(R27="","","-") | R27: =IF(AD27=0,"",AD27/-24) | T27: =IF(C27=" ","",IF(G27>0,G27+AD27/24,"")) | U27: =IF(OR(Z27>0,AND(Z27=0,T27<>"")),IF(AE27="","",IF(AE27=0,"",IF(AF27<0,"-","+"))),"") -> - | V27: =IF(OR(Z27>0,AND(Z27=0,T27<>"")),IF(AE27="","",IF(AG27<0,(AG27*(-1)),AG27)),"") -> 368 | W27: =IF(OR(Z27>0,AND(Z27=0,T27<>"")),IF(AE27="","",":"),"") -> : | X27: =IF(OR(Z27>0,AND(Z27=0,T27<>"")),IF(AE27="","",IF(AF27>0,PRODUCT(AH27,100),PRODUCT(AH27,-100))),"") -> 10 | Z27: =IF(C27=" "," ",IF(OR(TODAY()<C27,Stammdaten!$C$8>C27,AND(Stammdaten!$C$9>0,C27>Stammdaten!$C$9)),0,IF(WEEKDAY(C27)=$G$17,IF(OR($E$9="VZ",$E$9="Schicht"),$AH$17/24,IF($D$15<>"x",$AH$17/24,$G$15)),IF(WEEKDAY(C27)=$H$17,IF(OR($E$9="VZ",$E$9="Schicht"),$AH$17/24,IF($D$15<>"x",$AH$17/24,$H$15)),IF(WEEKDAY(C27)=$I$17,IF(OR($E$9="VZ",$E$9="Schicht"),$AH$17/24,IF($D$15<>"x",$AH$17/24,$I$15)),IF(WEEKDAY(C27)=$K$17,IF(OR($E$9="VZ",$E$9="Schicht"),$AH$17/24,IF($D$15<>"x",$AH$17/24,$K$15)),IF(WEEKDAY(C27)=$L$17,IF(OR($E$9="VZ",$E$9="Schicht"),$AH$17/24,IF($D$15<>"x",$AH$17/24,$L$15)),TIMEVALUE("0:00")))))))) -> 0.32638889 | AA27: =IF(I27="-",(-J27)*24,IF(I27="+",(+J27)*24,0)) -> -7.8333333 | AB27: =IF(L27>0,(L27-K27)+(N27-M27)+(P27-O27),TIMEVALUE("0:00")) -> 0 | AC27: =IF(G27="",0,IF(G27<=TIMEVALUE("6:30"),TIMEVALUE("0:00"),IF(G27>TIMEVALUE("9:45"),TIMEVALUE("0:45"),TIMEVALUE("0:30")))) -> 0 | AD27: =IF(OR(D27="BZ",D27="DB",D27="FZA",D27="K"),0,IF(AC27>AB27,-AC27*24,-AB27*24)) -> 0 | AE27: =IF(C27<>" ",AF27,"") -> -368.16667 | AF27: =SUM(AF26,AA27,AD27) -> -368.16667 | AG27: =ROUNDDOWN(ROUND(AF27,2),0) -> -368 | AH27: =SUM(AF27-AG27)/100*60 -> -0.1
B28: =IF(C28=" "," ",IF(WEEKDAY(C28)=1,"So",IF(WEEKDAY(C28)=7,"Sa",IF(WEEKDAY(C28)=2,"Mo",IF(WEEKDAY(C28)=3,"Di",IF(WEEKDAY(C28)=4,"Mi",IF(WEEKDAY(C28)=5,"Do",IF(WEEKDAY(C28)=6,"Fr","")))))))) -> Fr | C28: =IF(C27=" "," ",IF(MONTH(C27+1)<>MONTH(C27)," ",C27+1)) -> 44261 | G28: =IF(C28=" ","",IF(D28="FZA",0,IF(OR(D28="",D28="dA"),IF(AND(F28>0,E28>0),(F28-E28),0),IF(D28="F",(F28-E28),H28)))) -> 0 | H28: =IF(OR(D28="KK",D28="F",D28="SU",D28="U"),0,Z28) -> 0.32638889 | I28: =IF(G28=H28," ",IF(G28>H28,"+","-")) -> - | J28: =IF(H28=G28," ",IF(H28>G28,(H28-G28),(G28-H28))) -> 0.32638889 | Q28: =IF(R28="","","-") | R28: =IF(AD28=0,"",AD28/-24) | T28: =IF(C28=" ","",IF(G28>0,G28+AD28/24,"")) | U28: =IF(OR(Z28>0,AND(Z28=0,T28<>"")),IF(AE28="","",IF(AE28=0,"",IF(AF28<0,"-","+"))),"") -> - | V28: =IF(OR(Z28>0,AND(Z28=0,T28<>"")),IF(AE28="","",IF(AG28<0,(AG28*(-1)),AG28)),"") -> 376 | W28: =IF(OR(Z28>0,AND(Z28=0,T28<>"")),IF(AE28="","",":"),"") -> : | X28: =IF(OR(Z28>0,AND(Z28=0,T28<>"")),IF(AE28="","",IF(AF28>0,PRODUCT(AH28,100),PRODUCT(AH28,-100))),"") -> -1.0231815e-11 | Z28: =IF(C28=" "," ",IF(OR(TODAY()<C28,Stammdaten!$C$8>C28,AND(Stammdaten!$C$9>0,C28>Stammdaten!$C$9)),0,IF(WEEKDAY(C28)=$G$17,IF(OR($E$9="VZ",$E$9="Schicht"),$AH$17/24,IF($D$15<>"x",$AH$17/24,$G$15)),IF(WEEKDAY(C28)=$H$17,IF(OR($E$9="VZ",$E$9="Schicht"),$AH$17/24,IF($D$15<>"x",$AH$17/24,$H$15)),IF(WEEKDAY(C28)=$I$17,IF(OR($E$9="VZ",$E$9="Schicht"),$AH$17/24,IF($D$15<>"x",$AH$17/24,$I$15)),IF(WEEKDAY(C28)=$K$17,IF(OR($E$9="VZ",$E$9="Schicht"),$AH$17/24,IF($D$15<>"x",$AH$17/24,$K$15)),IF(WEEKDAY(C28)=$L$17,IF(OR($E$9="VZ",$E$9="Schicht"),$AH$17/24,IF($D$15<>"x",$AH$17/24,$L$15)),TIMEVALUE("0:00")))))))) -> 0.32638889 | AA28: =IF(I28="-",(-J28)*24,IF(I28="+",(+J28)*24,0)) -> -7.8333333 | AB28: =IF(L28>0,(L28-K28)+(N28-M28)+(P28-O28),TIMEVALUE("0:00")) -> 0 | AC28: =IF(G28="",0,IF(G28<=TIMEVALUE("6:30"),TIMEVALUE("0:00"),IF(G28>TIMEVALUE("9:45"),TIMEVALUE("0:45"),TIMEVALUE("0:30")))) -> 0 | AD28: =IF(OR(D28="BZ",D28="DB",D28="FZA",D28="K"),0,IF(AC28>AB28,-AC28*24,-AB28*24)) -> 0 | AE28: =IF(C28<>" ",AF28,"") -> -376 | AF28: =SUM(AF27,AA28,AD28) -> -376 | AG28: =ROUNDDOWN(ROUND(AF28,2),0) -> -376 | AH28: =SUM(AF28-AG28)/100*60 -> 1.0231815e-13
B29: =IF(C29=" "," ",IF(WEEKDAY(C29)=1,"So",IF(WEEKDAY(C29)=7,"Sa",IF(WEEKDAY(C29)=2,"Mo",IF(WEEKDAY(C29)=3,"Di",IF(WEEKDAY(C29)=4,"Mi",IF(WEEKDAY(C29)=5,"Do",IF(WEEKDAY(C29)=6,"Fr","")))))))) -> Sa | C29: =IF(C28=" "," ",IF(MONTH(C28+1)<>MONTH(C28)," ",C28+1)) -> 44262 | G29: =IF(C29=" ","",IF(D29="FZA",0,IF(OR(D29="",D29="dA"),IF(AND(F29>0,E29>0),(F29-E29),0),IF(D29="F",(F29-E29),H29)))) -> 0 | H29: =IF(OR(D29="KK",D29="F",D29="SU",D29="U"),0,Z29) -> 0 | I29: =IF(G29=H29," ",IF(G29>H29,"+","-")) | J29: =IF(H29=G29," ",IF(H29>G29,(H29-G29),(G29-H29))) | Q29: =IF(R29="","","-") | R29: =IF(AD29=0,"",AD29/-24) | T29: =IF(C29=" ","",IF(G29>0,G29+AD29/24,"")) | U29: =IF(OR(Z29>0,AND(Z29=0,T29<>"")),IF(AE29="","",IF(AE29=0,"",IF(AF29<0,"-","+"))),"") | V29: =IF(OR(Z29>0,AND(Z29=0,T29<>"")),IF(AE29="","",IF(AG29<0,(AG29*(-1)),AG29)),"") | W29: =IF(OR(Z29>0,AND(Z29=0,T29<>"")),IF(AE29="","",":"),"") | X29: =IF(OR(Z29>0,AND(Z29=0,T29<>"")),IF(AE29="","",IF(AF29>0,PRODUCT(AH29,100),PRODUCT(AH29,-100))),"") | Z29: =IF(C29=" "," ",IF(OR(TODAY()<C29,Stammdaten!$C$8>C29,AND(Stammdaten!$C$9>0,C29>Stammdaten!$C$9)),0,IF(WEEKDAY(C29)=$G$17,IF(OR($E$9="VZ",$E$9="Schicht"),$AH$17/24,IF($D$15<>"x",$AH$17/24,$G$15)),IF(WEEKDAY(C29)=$H$17,IF(OR($E$9="VZ",$E$9="Schicht"),$AH$17/24,IF($D$15<>"x",$AH$17/24,$H$15)),IF(WEEKDAY(C29)=$I$17,IF(OR($E$9="VZ",$E$9="Schicht"),$AH$17/24,IF($D$15<>"x",$AH$17/24,$I$15)),IF(WEEKDAY(C29)=$K$17,IF(OR($E$9="VZ",$E$9="Schicht"),$AH$17/24,IF($D$15<>"x",$AH$17/24,$K$15)),IF(WEEKDAY(C29)=$L$17,IF(OR($E$9="VZ",$E$9="Schicht"),$AH$17/24,IF($D$15<>"x",$AH$17/24,$L$15)),TIMEVALUE("0:00")))))))) -> 0 | AA29: =IF(I29="-",(-J29)*24,IF(I29="+",(+J29)*24,0)) -> 0 | AB29: =IF(L29>0,(L29-K29)+(N29-M29)+(P29-O29),TIMEVALUE("0:00")) -> 0 | AC29: =IF(G29="",0,IF(G29<=TIMEVALUE("6:30"),TIMEVALUE("0:00"),IF(G29>TIMEVALUE("9:45"),TIMEVALUE("0:45"),TIMEVALUE("0:30")))) -> 0 | AD29: =IF(OR(D29="BZ",D29="DB",D29="FZA",D29="K"),0,IF(AC29>AB29,-AC29*24,-AB29*24)) -> 0 | AE29: =IF(C29<>" ",AF29,"") -> -376 | AF29: =SUM(AF28,AA29,AD29) -> -376 | AG29: =ROUNDDOWN(ROUND(AF29,2),0) -> -376 | AH29: =SUM(AF29-AG29)/100*60 -> 1.0231815e-13
B30: =IF(C30=" "," ",IF(WEEKDAY(C30)=1,"So",IF(WEEKDAY(C30)=7,"Sa",IF(WEEKDAY(C30)=2,"Mo",IF(WEEKDAY(C30)=3,"Di",IF(WEEKDAY(C30)=4,"Mi",IF(WEEKDAY(C30)=5,"Do",IF(WEEKDAY(C30)=6,"Fr","")))))))) -> So | C30: =IF(C29=" "," ",IF(MONTH(C29+1)<>MONTH(C29)," ",C29+1)) -> 44263 | G30: =IF(C30=" ","",IF(D30="FZA",0,IF(OR(D30="",D30="dA"),IF(AND(F30>0,E30>0),(F30-E30),0),IF(D30="F",(F30-E30),H30)))) -> 0 | H30: =IF(OR(D30="KK",D30="F",D30="SU",D30="U"),0,Z30) -> 0 | I30: =IF(G30=H30," ",IF(G30>H30,"+","-")) | J30: =IF(H30=G30," ",IF(H30>G30,(H30-G30),(G30-H30))) | Q30: =IF(R30="","","-") | R30: =IF(AD30=0,"",AD30/-24) | T30: =IF(C30=" ","",IF(G30>0,G30+AD30/24,"")) | U30: =IF(OR(Z30>0,AND(Z30=0,T30<>"")),IF(AE30="","",IF(AE30=0,"",IF(AF30<0,"-","+"))),"") | V30: =IF(OR(Z30>0,AND(Z30=0,T30<>"")),IF(AE30="","",IF(AG30<0,(AG30*(-1)),AG30)),"") | W30: =IF(OR(Z30>0,AND(Z30=0,T30<>"")),IF(AE30="","",":"),"") | X30: =IF(OR(Z30>0,AND(Z30=0,T30<>"")),IF(AE30="","",IF(AF30>0,PRODUCT(AH30,100),PRODUCT(AH30,-100))),"") | Z30: =IF(C30=" "," ",IF(OR(TODAY()<C30,Stammdaten!$C$8>C30,AND(Stammdaten!$C$9>0,C30>Stammdaten!$C$9)),0,IF(WEEKDAY(C30)=$G$17,IF(OR($E$9="VZ",$E$9="Schicht"),$AH$17/24,IF($D$15<>"x",$AH$17/24,$G$15)),IF(WEEKDAY(C30)=$H$17,IF(OR($E$9="VZ",$E$9="Schicht"),$AH$17/24,IF($D$15<>"x",$AH$17/24,$H$15)),IF(WEEKDAY(C30)=$I$17,IF(OR($E$9="VZ",$E$9="Schicht"),$AH$17/24,IF($D$15<>"x",$AH$17/24,$I$15)),IF(WEEKDAY(C30)=$K$17,IF(OR($E$9="VZ",$E$9="Schicht"),$AH$17/24,IF($D$15<>"x",$AH$17/24,$K$15)),IF(WEEKDAY(C30)=$L$17,IF(OR($E$9="VZ",$E$9="Schicht"),$AH$17/24,IF($D$15<>"x",$AH$17/24,$L$15)),TIMEVALUE("0:00")))))))) -> 0 | AA30: =IF(I30="-",(-J30)*24,IF(I30="+",(+J30)*24,0)) -> 0 | AB30: =IF(L30>0,(L30-K30)+(N30-M30)+(P30-O30),TIMEVALUE("0:00")) -> 0 | AC30: =IF(G30="",0,IF(G30<=TIMEVALUE("6:30"),TIMEVALUE("0:00"),IF(G30>TIMEVALUE("9:45"),TIMEVALUE("0:45"),TIMEVALUE("0:30")))) -> 0 | AD30: =IF(OR(D30="BZ",D30="DB",D30="FZA",D30="K"),0,IF(AC30>AB30,-AC30*24,-AB30*24)) -> 0 | AE30: =IF(C30<>" ",AF30,"") -> -376 | AF30: =SUM(AF29,AA30,AD30) -> -376 | AG30: =ROUNDDOWN(ROUND(AF30,2),0) -> -376 | AH30: =SUM(AF30-AG30)/100*60 -> 1.0231815e-13
B31: =IF(C31=" "," ",IF(WEEKDAY(C31)=1,"So",IF(WEEKDAY(C31)=7,"Sa",IF(WEEKDAY(C31)=2,"Mo",IF(WEEKDAY(C31)=3,"Di",IF(WEEKDAY(C31)=4,"Mi",IF(WEEKDAY(C31)=5,"Do",IF(WEEKDAY(C31)=6,"Fr","")))))))) -> Mo | C31: =IF(C30=" "," ",IF(MONTH(C30+1)<>MONTH(C30)," ",C30+1)) -> 44264 | G31: =IF(C31=" ","",IF(D31="FZA",0,IF(OR(D31="",D31="dA"),IF(AND(F31>0,E31>0),(F31-E31),0),IF(D31="F",(F31-E31),H31)))) -> 0 | H31: =IF(OR(D31="KK",D31="F",D31="SU",D31="U"),0,Z31) -> 0.32638889 | I31: =IF(G31=H31," ",IF(G31>H31,"+","-")) -> - | J31: =IF(H31=G31," ",IF(H31>G31,(H31-G31),(G31-H31))) -> 0.32638889 | Q31: =IF(R31="","","-") | R31: =IF(AD31=0,"",AD31/-24) | T31: =IF(C31=" ","",IF(G31>0,G31+AD31/24,"")) | U31: =IF(OR(Z31>0,AND(Z31=0,T31<>"")),IF(AE31="","",IF(AE31=0,"",IF(AF31<0,"-","+"))),"") -> - | V31: =IF(OR(Z31>0,AND(Z31=0,T31<>"")),IF(AE31="","",IF(AG31<0,(AG31*(-1)),AG31)),"") -> 383 | W31: =IF(OR(Z31>0,AND(Z31=0,T31<>"")),IF(AE31="","",":"),"") -> : | X31: =IF(OR(Z31>0,AND(Z31=0,T31<>"")),IF(AE31="","",IF(AF31>0,PRODUCT(AH31,100),PRODUCT(AH31,-100))),"") -> 50 | Z31: =IF(C31=" "," ",IF(OR(TODAY()<C31,Stammdaten!$C$8>C31,AND(Stammdaten!$C$9>0,C31>Stammdaten!$C$9)),0,IF(WEEKDAY(C31)=$G$17,IF(OR($E$9="VZ",$E$9="Schicht"),$AH$17/24,IF($D$15<>"x",$AH$17/24,$G$15)),IF(WEEKDAY(C31)=$H$17,IF(OR($E$9="VZ",$E$9="Schicht"),$AH$17/24,IF($D$15<>"x",$AH$17/24,$H$15)),IF(WEEKDAY(C31)=$I$17,IF(OR($E$9="VZ",$E$9="Schicht"),$AH$17/24,IF($D$15<>"x",$AH$17/24,$I$15)),IF(WEEKDAY(C31)=$K$17,IF(OR($E$9="VZ",$E$9="Schicht"),$AH$17/24,IF($D$15<>"x",$AH$17/24,$K$15)),IF(WEEKDAY(C31)=$L$17,IF(OR($E$9="VZ",$E$9="Schicht"),$AH$17/24,IF($D$15<>"x",$AH$17/24,$L$15)),TIMEVALUE("0:00")))))))) -> 0.32638889 | AA31: =IF(I31="-",(-J31)*24,IF(I31="+",(+J31)*24,0)) -> -7.8333333 | AB31: =IF(L31>0,(L31-K31)+(N31-M31)+(P31-O31),TIMEVALUE("0:00")) -> 0 | AC31: =IF(G31="",0,IF(G31<=TIMEVALUE("6:30"),TIMEVALUE("0:00"),IF(G31>TIMEVALUE("9:45"),TIMEVALUE("0:45"),TIMEVALUE("0:30")))) -> 0 | AD31: =IF(OR(D31="BZ",D31="DB",D31="FZA",D31="K"),0,IF(AC31>AB31,-AC31*24,-AB31*24)) -> 0 | AE31: =IF(C31<>" ",AF31,"") -> -383.83333 | AF31: =SUM(AF30,AA31,AD31) -> -383.83333 | AG31: =ROUNDDOWN(ROUND(AF31,2),0) -> -383 | AH31: =SUM(AF31-AG31)/100*60 -> -0.5
B32: =IF(C32=" "," ",IF(WEEKDAY(C32)=1,"So",IF(WEEKDAY(C32)=7,"Sa",IF(WEEKDAY(C32)=2,"Mo",IF(WEEKDAY(C32)=3,"Di",IF(WEEKDAY(C32)=4,"Mi",IF(WEEKDAY(C32)=5,"Do",IF(WEEKDAY(C32)=6,"Fr","")))))))) -> Di | C32: =IF(C31=" "," ",IF(MONTH(C31+1)<>MONTH(C31)," ",C31+1)) -> 44265 | G32: =IF(C32=" ","",IF(D32="FZA",0,IF(OR(D32="",D32="dA"),IF(AND(F32>0,E32>0),(F32-E32),0),IF(D32="F",(F32-E32),H32)))) -> 0 | H32: =IF(OR(D32="KK",D32="F",D32="SU",D32="U"),0,Z32) -> 0.32638889 | I32: =IF(G32=H32," ",IF(G32>H32,"+","-")) -> - | J32: =IF(H32=G32," ",IF(H32>G32,(H32-G32),(G32-H32))) -> 0.32638889 | Q32: =IF(R32="","","-") | R32: =IF(AD32=0,"",AD32/-24) | T32: =IF(C32=" ","",IF(G32>0,G32+AD32/24,"")) | U32: =IF(OR(Z32>0,AND(Z32=0,T32<>"")),IF(AE32="","",IF(AE32=0,"",IF(AF32<0,"-","+"))),"") -> - | V32: =IF(OR(Z32>0,AND(Z32=0,T32<>"")),IF(AE32="","",IF(AG32<0,(AG32*(-1)),AG32)),"") -> 391 | W32: =IF(OR(Z32>0,AND(Z32=0,T32<>"")),IF(AE32="","",":"),"") -> : | X32: =IF(OR(Z32>0,AND(Z32=0,T32<>"")),IF(AE32="","",IF(AF32>0,PRODUCT(AH32,100),PRODUCT(AH32,-100))),"") -> 40 | Z32: =IF(C32=" "," ",IF(OR(TODAY()<C32,Stammdaten!$C$8>C32,AND(Stammdaten!$C$9>0,C32>Stammdaten!$C$9)),0,IF(WEEKDAY(C32)=$G$17,IF(OR($E$9="VZ",$E$9="Schicht"),$AH$17/24,IF($D$15<>"x",$AH$17/24,$G$15)),IF(WEEKDAY(C32)=$H$17,IF(OR($E$9="VZ",$E$9="Schicht"),$AH$17/24,IF($D$15<>"x",$AH$17/24,$H$15)),IF(WEEKDAY(C32)=$I$17,IF(OR($E$9="VZ",$E$9="Schicht"),$AH$17/24,IF($D$15<>"x",$AH$17/24,$I$15)),IF(WEEKDAY(C32)=$K$17,IF(OR($E$9="VZ",$E$9="Schicht"),$AH$17/24,IF($D$15<>"x",$AH$17/24,$K$15)),IF(WEEKDAY(C32)=$L$17,IF(OR($E$9="VZ",$E$9="Schicht"),$AH$17/24,IF($D$15<>"x",$AH$17/24,$L$15)),TIMEVALUE("0:00")))))))) -> 0.32638889 | AA32: =IF(I32="-",(-J32)*24,IF(I32="+",(+J32)*24,0)) -> -7.8333333 | AB32: =IF(L32>0,(L32-K32)+(N32-M32)+(P32-O32),TIMEVALUE("0:00")) -> 0 | AC32: =IF(G32="",0,IF(G32<=TIMEVALUE("6:30"),TIMEVALUE("0:00"),IF(G32>TIMEVALUE("9:45"),TIMEVALUE("0:45"),TIMEVALUE("0:30")))) -> 0 | AD32: =IF(OR(D32="BZ",D32="DB",D32="FZA",D32="K"),0,IF(AC32>AB32,-AC32*24,-AB32*24)) -> 0 | AE32: =IF(C32<>" ",AF32,"") -> -391.66667 | AF32: =SUM(AF31,AA32,AD32) -> -391.66667 | AG32: =ROUNDDOWN(ROUND(AF32,2),0) -> -391 | AH32: =SUM(AF32-AG32)/100*60 -> -0.4
B33: =IF(C33=" "," ",IF(WEEKDAY(C33)=1,"So",IF(WEEKDAY(C33)=7,"Sa",IF(WEEKDAY(C33)=2,"Mo",IF(WEEKDAY(C33)=3,"Di",IF(WEEKDAY(C33)=4,"Mi",IF(WEEKDAY(C33)=5,"Do",IF(WEEKDAY(C33)=6,"Fr","")))))))) -> Mi | C33: =IF(C32=" "," ",IF(MONTH(C32+1)<>MONTH(C32)," ",C32+1)) -> 44266 | G33: =IF(C33=" ","",IF(D33="FZA",0,IF(OR(D33="",D33="dA"),IF(AND(F33>0,E33>0),(F33-E33),0),IF(D33="F",(F33-E33),H33)))) -> 0 | H33: =IF(OR(D33="KK",D33="F",D33="SU",D33="U"),0,Z33) -> 0.32638889 | I33: =IF(G33=H33," ",IF(G33>H33,"+","-")) -> - | J33: =IF(H33=G33," ",IF(H33>G33,(H33-G33),(G33-H33))) -> 0.32638889 | Q33: =IF(R33="","","-") | R33: =IF(AD33=0,"",AD33/-24) | T33: =IF(C33=" ","",IF(G33>0,G33+AD33/24,"")) | U33: =IF(OR(Z33>0,AND(Z33=0,T33<>"")),IF(AE33="","",IF(AE33=0,"",IF(AF33<0,"-","+"))),"") -> - | V33: =IF(OR(Z33>0,AND(Z33=0,T33<>"")),IF(AE33="","",IF(AG33<0,(AG33*(-1)),AG33)),"") -> 399 | W33: =IF(OR(Z33>0,AND(Z33=0,T33<>"")),IF(AE33="","",":"),"") -> : | X33: =IF(OR(Z33>0,AND(Z33=0,T33<>"")),IF(AE33="","",IF(AF33>0,PRODUCT(AH33,100),PRODUCT(AH33,-100))),"") -> 30 | Z33: =IF(C33=" "," ",IF(OR(TODAY()<C33,Stammdaten!$C$8>C33,AND(Stammdaten!$C$9>0,C33>Stammdaten!$C$9)),0,IF(WEEKDAY(C33)=$G$17,IF(OR($E$9="VZ",$E$9="Schicht"),$AH$17/24,IF($D$15<>"x",$AH$17/24,$G$15)),IF(WEEKDAY(C33)=$H$17,IF(OR($E$9="VZ",$E$9="Schicht"),$AH$17/24,IF($D$15<>"x",$AH$17/24,$H$15)),IF(WEEKDAY(C33)=$I$17,IF(OR($E$9="VZ",$E$9="Schicht"),$AH$17/24,IF($D$15<>"x",$AH$17/24,$I$15)),IF(WEEKDAY(C33)=$K$17,IF(OR($E$9="VZ",$E$9="Schicht"),$AH$17/24,IF($D$15<>"x",$AH$17/24,$K$15)),IF(WEEKDAY(C33)=$L$17,IF(OR($E$9="VZ",$E$9="Schicht"),$AH$17/24,IF($D$15<>"x",$AH$17/24,$L$15)),TIMEVALUE("0:00")))))))) -> 0.32638889 | AA33: =IF(I33="-",(-J33)*24,IF(I33="+",(+J33)*24,0)) -> -7.8333333 | AB33: =IF(L33>0,(L33-K33)+(N33-M33)+(P33-O33),TIMEVALUE("0:00")) -> 0 | AC33: =IF(G33="",0,IF(G33<=TIMEVALUE("6:30"),TIMEVALUE("0:00"),IF(G33>TIMEVALUE("9:45"),TIMEVALUE("0:45"),TIMEVALUE("0:30")))) -> 0 | AD33: =IF(OR(D33="BZ",D33="DB",D33="FZA",D33="K"),0,IF(AC33>AB33,-AC33*24,-AB33*24)) -> 0 | AE33: =IF(C33<>" ",AF33,"") -> -399.5 | AF33: =SUM(AF32,AA33,AD33) -> -399.5 | AG33: =ROUNDDOWN(ROUND(AF33,2),0) -> -399 | AH33: =SUM(AF33-AG33)/100*60 -> -0.3
B34: =IF(C34=" "," ",IF(WEEKDAY(C34)=1,"So",IF(WEEKDAY(C34)=7,"Sa",IF(WEEKDAY(C34)=2,"Mo",IF(WEEKDAY(C34)=3,"Di",IF(WEEKDAY(C34)=4,"Mi",IF(WEEKDAY(C34)=5,"Do",IF(WEEKDAY(C34)=6,"Fr","")))))))) -> Do | C34: =IF(C33=" "," ",IF(MONTH(C33+1)<>MONTH(C33)," ",C33+1)) -> 44267 | G34: =IF(C34=" ","",IF(D34="FZA",0,IF(OR(D34="",D34="dA"),IF(AND(F34>0,E34>0),(F34-E34),0),IF(D34="F",(F34-E34),H34)))) -> 0 | H34: =IF(OR(D34="KK",D34="F",D34="SU",D34="U"),0,Z34) -> 0.32638889 | I34: =IF(G34=H34," ",IF(G34>H34,"+","-")) -> - | J34: =IF(H34=G34," ",IF(H34>G34,(H34-G34),(G34-H34))) -> 0.32638889 | Q34: =IF(R34="","","-") | R34: =IF(AD34=0,"",AD34/-24) | T34: =IF(C34=" ","",IF(G34>0,G34+AD34/24,"")) | U34: =IF(OR(Z34>0,AND(Z34=0,T34<>"")),IF(AE34="","",IF(AE34=0,"",IF(AF34<0,"-","+"))),"") -> - | V34: =IF(OR(Z34>0,AND(Z34=0,T34<>"")),IF(AE34="","",IF(AG34<0,(AG34*(-1)),AG34)),"") -> 407 | W34: =IF(OR(Z34>0,AND(Z34=0,T34<>"")),IF(AE34="","",":"),"") -> : | X34: =IF(OR(Z34>0,AND(Z34=0,T34<>"")),IF(AE34="","",IF(AF34>0,PRODUCT(AH34,100),PRODUCT(AH34,-100))),"") -> 20 | Z34: =IF(C34=" "," ",IF(OR(TODAY()<C34,Stammdaten!$C$8>C34,AND(Stammdaten!$C$9>0,C34>Stammdaten!$C$9)),0,IF(WEEKDAY(C34)=$G$17,IF(OR($E$9="VZ",$E$9="Schicht"),$AH$17/24,IF($D$15<>"x",$AH$17/24,$G$15)),IF(WEEKDAY(C34)=$H$17,IF(OR($E$9="VZ",$E$9="Schicht"),$AH$17/24,IF($D$15<>"x",$AH$17/24,$H$15)),IF(WEEKDAY(C34)=$I$17,IF(OR($E$9="VZ",$E$9="Schicht"),$AH$17/24,IF($D$15<>"x",$AH$17/24,$I$15)),IF(WEEKDAY(C34)=$K$17,IF(OR($E$9="VZ",$E$9="Schicht"),$AH$17/24,IF($D$15<>"x",$AH$17/24,$K$15)),IF(WEEKDAY(C34)=$L$17,IF(OR($E$9="VZ",$E$9="Schicht"),$AH$17/24,IF($D$15<>"x",$AH$17/24,$L$15)),TIMEVALUE("0:00")))))))) -> 0.32638889 | AA34: =IF(I34="-",(-J34)*24,IF(I34="+",(+J34)*24,0)) -> -7.8333333 | AB34: =IF(L34>0,(L34-K34)+(N34-M34)+(P34-O34),TIMEVALUE("0:00")) -> 0 | AC34: =IF(G34="",0,IF(G34<=TIMEVALUE("6:30"),TIMEVALUE("0:00"),IF(G34>TIMEVALUE("9:45"),TIMEVALUE("0:45"),TIMEVALUE("0:30")))) -> 0 | AD34: =IF(OR(D34="BZ",D34="DB",D34="FZA",D34="K"),0,IF(AC34>AB34,-AC34*24,-AB34*24)) -> 0 | AE34: =IF(C34<>" ",AF34,"") -> -407.33333 | AF34: =SUM(AF33,AA34,AD34) -> -407.33333 | AG34: =ROUNDDOWN(ROUND(AF34,2),0) -> -407 | AH34: =SUM(AF34-AG34)/100*60 -> -0.2
... B49: =IF(C49=" "," ",IF(WEEKDAY(C49)=1,"So",IF(WEEKDAY(C49)=7,"Sa",IF(WEEKDAY(C49)=2,"Mo",IF(WEEKDAY(C49)=3,"Di",IF(WEEKDAY(C49)=4,"Mi",IF(WEEKDAY(C49)=5,"Do",IF(WEEKDAY(C49)=6,"Fr","")))))))) -> Fr | C49: =IF(C48=" "," ",IF(MONTH(C48+1)<>MONTH(C48)," ",C48+1)) -> 44282 | G49: =IF(C49=" ","",IF(D49="FZA",0,IF(OR(D49="",D49="dA"),IF(AND(F49>0,E49>0),(F49-E49),0),IF(D49="F",(F49-E49),H49)))) -> 0 | H49: =IF(OR(D49="KK",D49="F",D49="SU",D49="U"),0,Z49) -> 0.32638889 | I49: =IF(G49=H49," ",IF(G49>H49,"+","-")) -> - | J49: =IF(H49=G49," ",IF(H49>G49,(H49-G49),(G49-H49))) -> 0.32638889 | Q49: =IF(R49="","","-") | R49: =IF(AD49=0,"",AD49/-24) | T49: =IF(C49=" ","",IF(G49>0,G49+AD49/24,"")) | U49: =IF(OR(Z49>0,AND(Z49=0,T49<>"")),IF(AE49="","",IF(AE49=0,"",IF(AF49<0,"-","+"))),"") -> - | V49: =IF(OR(Z49>0,AND(Z49=0,T49<>"")),IF(AE49="","",IF(AG49<0,(AG49*(-1)),AG49)),"") -> 493 | W49: =IF(OR(Z49>0,AND(Z49=0,T49<>"")),IF(AE49="","",":"),"") -> : | X49: =IF(OR(Z49>0,AND(Z49=0,T49<>"")),IF(AE49="","",IF(AF49>0,PRODUCT(AH49,100),PRODUCT(AH49,-100))),"") -> 30 | Z49: =IF(C49=" "," ",IF(OR(TODAY()<C49,Stammdaten!$C$8>C49,AND(Stammdaten!$C$9>0,C49>Stammdaten!$C$9)),0,IF(WEEKDAY(C49)=$G$17,IF(OR($E$9="VZ",$E$9="Schicht"),$AH$17/24,IF($D$15<>"x",$AH$17/24,$G$15)),IF(WEEKDAY(C49)=$H$17,IF(OR($E$9="VZ",$E$9="Schicht"),$AH$17/24,IF($D$15<>"x",$AH$17/24,$H$15)),IF(WEEKDAY(C49)=$I$17,IF(OR($E$9="VZ",$E$9="Schicht"),$AH$17/24,IF($D$15<>"x",$AH$17/24,$I$15)),IF(WEEKDAY(C49)=$K$17,IF(OR($E$9="VZ",$E$9="Schicht"),$AH$17/24,IF($D$15<>"x",$AH$17/24,$K$15)),IF(WEEKDAY(C49)=$L$17,IF(OR($E$9="VZ",$E$9="Schicht"),$AH$17/24,IF($D$15<>"x",$AH$17/24,$L$15)),TIMEVALUE("0:00")))))))) -> 0.32638889 | AA49: =IF(I49="-",(-J49)*24,IF(I49="+",(+J49)*24,0)) -> -7.8333333 | AB49: =IF(L49>0,(L49-K49)+(N49-M49)+(P49-O49),TIMEVALUE("0:00")) -> 0 | AC49: =IF(G49="",0,IF(G49<=TIMEVALUE("6:30"),TIMEVALUE("0:00"),IF(G49>TIMEVALUE("9:45"),TIMEVALUE("0:45"),TIMEVALUE("0:30")))) -> 0 | AD49: =IF(OR(D49="BZ",D49="DB",D49="FZA",D49="K"),0,IF(AC49>AB49,-AC49*24,-AB49*24)) -> 0 | AE49: =IF(C49<>" ",AF49,"") -> -493.5 | AF49: =SUM(AF48,AA49,AD49) -> -493.5 | AG49: =ROUNDDOWN(ROUND(AF49,2),0) -> -493 | AH49: =SUM(AF49-AG49)/100*60 -> -0.3
B50: =IF(C50=" "," ",IF(WEEKDAY(C50)=1,"So",IF(WEEKDAY(C50)=7,"Sa",IF(WEEKDAY(C50)=2,"Mo",IF(WEEKDAY(C50)=3,"Di",IF(WEEKDAY(C50)=4,"Mi",IF(WEEKDAY(C50)=5,"Do",IF(WEEKDAY(C50)=6,"Fr","")))))))) -> Sa | C50: =IF(C49=" "," ",IF(MONTH(C49+1)<>MONTH(C49)," ",C49+1)) -> 44283 | G50: =IF(C50=" ","",IF(D50="FZA",0,IF(OR(D50="",D50="dA"),IF(AND(F50>0,E50>0),(F50-E50),0),IF(D50="F",(F50-E50),H50)))) -> 0 | H50: =IF(OR(D50="KK",D50="F",D50="SU",D50="U"),0,Z50) -> 0 | I50: =IF(C50=" ","",IF(G50=H50," ",IF(G50>H50,"+","-"))) | J50: =IF(C50=" ","",IF(H50=G50," ",IF(H50>G50,(H50-G50),(G50-H50)))) | Q50: =IF(R50="","","-") | R50: =IF(AD50=0,"",AD50/-24) | T50: =IF(C50=" ","",IF(G50>0,G50+AD50/24,"")) | U50: =IF(OR(Z50>0,AND(Z50=0,T50<>"")),IF(AE50="","",IF(AE50=0,"",IF(AF50<0,"-","+"))),"") | V50: =IF(OR(Z50>0,AND(Z50=0,T50<>"")),IF(AE50="","",IF(AG50<0,(AG50*(-1)),AG50)),"") | W50: =IF(OR(Z50>0,AND(Z50=0,T50<>"")),IF(AE50="","",":"),"") | X50: =IF(OR(Z50>0,AND(Z50=0,T50<>"")),IF(AE50="","",IF(AF50>0,PRODUCT(AH50,100),PRODUCT(AH50,-100))),"") | Z50: =IF(C50=" "," ",IF(OR(TODAY()<C50,Stammdaten!$C$8>C50,AND(Stammdaten!$C$9>0,C50>Stammdaten!$C$9)),0,IF(WEEKDAY(C50)=$G$17,IF(OR($E$9="VZ",$E$9="Schicht"),$AH$17/24,IF($D$15<>"x",$AH$17/24,$G$15)),IF(WEEKDAY(C50)=$H$17,IF(OR($E$9="VZ",$E$9="Schicht"),$AH$17/24,IF($D$15<>"x",$AH$17/24,$H$15)),IF(WEEKDAY(C50)=$I$17,IF(OR($E$9="VZ",$E$9="Schicht"),$AH$17/24,IF($D$15<>"x",$AH$17/24,$I$15)),IF(WEEKDAY(C50)=$K$17,IF(OR($E$9="VZ",$E$9="Schicht"),$AH$17/24,IF($D$15<>"x",$AH$17/24,$K$15)),IF(WEEKDAY(C50)=$L$17,IF(OR($E$9="VZ",$E$9="Schicht"),$AH$17/24,IF($D$15<>"x",$AH$17/24,$L$15)),TIMEVALUE("0:00")))))))) -> 0 | AA50: =IF(I50="-",(-J50)*24,IF(I50="+",(+J50)*24,0)) -> 0 | AB50: =IF(L50>0,(L50-K50)+(N50-M50)+(P50-O50),TIMEVALUE("0:00")) -> 0 | AC50: =IF(G50="",0,IF(G50<=TIMEVALUE("6:30"),TIMEVALUE("0:00"),IF(G50>TIMEVALUE("9:45"),TIMEVALUE("0:45"),TIMEVALUE("0:30")))) -> 0 | AD50: =IF(OR(D50="BZ",D50="DB",D50="FZA",D50="K"),0,IF(AC50>AB50,-AC50*24,-AB50*24)) -> 0 | AE50: =IF(C50<>" ",AF50,"") -> -493.5 | AF50: =SUM(AF49,AA50,AD50) -> -493.5 | AG50: =ROUNDDOWN(ROUND(AF50,2),0) -> -493 | AH50: =SUM(AF50-AG50)/100*60 -> -0.3
B51: =IF(C51=" "," ",IF(WEEKDAY(C51)=1,"So",IF(WEEKDAY(C51)=7,"Sa",IF(WEEKDAY(C51)=2,"Mo",IF(WEEKDAY(C51)=3,"Di",IF(WEEKDAY(C51)=4,"Mi",IF(WEEKDAY(C51)=5,"Do",IF(WEEKDAY(C51)=6,"Fr","")))))))) -> So | C51: =IF(C50=" "," ",IF(MONTH(C50+1)<>MONTH(C50)," ",C50+1)) -> 44284 | G51: =IF(C51=" ","",IF(D51="FZA",0,IF(OR(D51="",D51="dA"),IF(AND(F51>0,E51>0),(F51-E51),0),IF(D51="F",(F51-E51),H51)))) -> 0 | H51: =IF(OR(D51="KK",D51="F",D51="SU",D51="U"),0,Z51) -> 0 | I51: =IF(C51=" ","",IF(G51=H51," ",IF(G51>H51,"+","-"))) | J51: =IF(C51=" ","",IF(H51=G51," ",IF(H51>G51,(H51-G51),(G51-H51)))) | Q51: =IF(R51="","","-") | R51: =IF(AD51=0,"",AD51/-24) | T51: =IF(C51=" ","",IF(G51>0,G51+AD51/24,"")) | U51: =IF(OR(Z51>0,AND(Z51=0,T51<>"")),IF(AE51="","",IF(AE51=0,"",IF(AF51<0,"-","+"))),"") | V51: =IF(OR(Z51>0,AND(Z51=0,T51<>"")),IF(AE51="","",IF(AG51<0,(AG51*(-1)),AG51)),"") | W51: =IF(OR(Z51>0,AND(Z51=0,T51<>"")),IF(AE51="","",":"),"") | X51: =IF(OR(Z51>0,AND(Z51=0,T51<>"")),IF(AE51="","",IF(AF51>0,PRODUCT(AH51,100),PRODUCT(AH51,-100))),"") | Z51: =IF(C51=" "," ",IF(OR(TODAY()<C51,Stammdaten!$C$8>C51,AND(Stammdaten!$C$9>0,C51>Stammdaten!$C$9)),0,IF(WEEKDAY(C51)=$G$17,IF(OR($E$9="VZ",$E$9="Schicht"),$AH$17/24,IF($D$15<>"x",$AH$17/24,$G$15)),IF(WEEKDAY(C51)=$H$17,IF(OR($E$9="VZ",$E$9="Schicht"),$AH$17/24,IF($D$15<>"x",$AH$17/24,$H$15)),IF(WEEKDAY(C51)=$I$17,IF(OR($E$9="VZ",$E$9="Schicht"),$AH$17/24,IF($D$15<>"x",$AH$17/24,$I$15)),IF(WEEKDAY(C51)=$K$17,IF(OR($E$9="VZ",$E$9="Schicht"),$AH$17/24,IF($D$15<>"x",$AH$17/24,$K$15)),IF(WEEKDAY(C51)=$L$17,IF(OR($E$9="VZ",$E$9="Schicht"),$AH$17/24,IF($D$15<>"x",$AH$17/24,$L$15)),TIMEVALUE("0:00")))))))) -> 0 | AA51: =IF(I51="-",(-J51)*24,IF(I51="+",(+J51)*24,0)) -> 0 | AB51: =IF(L51>0,(L51-K51)+(N51-M51)+(P51-O51),TIMEVALUE("0:00")) -> 0 | AC51: =IF(G51="",0,IF(G51<=TIMEVALUE("6:30"),TIMEVALUE("0:00"),IF(G51>TIMEVALUE("9:45"),TIMEVALUE("0:45"),TIMEVALUE("0:30")))) -> 0 | AD51: =IF(OR(D51="BZ",D51="DB",D51="FZA",D51="K"),0,IF(AC51>AB51,-AC51*24,-AB51*24)) -> 0 | AE51: =IF(C51<>" ",AF51,"") -> -493.5 | AF51: =SUM(AF50,AA51,AD51) -> -493.5 | AG51: =ROUNDDOWN(ROUND(AF51,2),0) -> -493 | AH51: =SUM(AF51-AG51)/100*60 -> -0.3
B52: =IF(C52=" "," ",IF(WEEKDAY(C52)=1,"So",IF(WEEKDAY(C52)=7,"Sa",IF(WEEKDAY(C52)=2,"Mo",IF(WEEKDAY(C52)=3,"Di",IF(WEEKDAY(C52)=4,"Mi",IF(WEEKDAY(C52)=5,"Do",IF(WEEKDAY(C52)=6,"Fr","")))))))) -> Mo | C52: =IF(C51=" "," ",IF(MONTH(C51+1)<>MONTH(C51)," ",C51+1)) -> 44285 | G52: =IF(C52=" ","",IF(D52="FZA",0,IF(OR(D52="",D52="dA"),IF(AND(F52>0,E52>0),(F52-E52),0),IF(D52="F",(F52-E52),H52)))) -> 0 | H52: =IF(OR(D52="KK",D52="F",D52="SU",D52="U"),0,Z52) -> 0.32638889 | I52: =IF(C52=" ","",IF(G52=H52," ",IF(G52>H52,"+","-"))) -> - | J52: =IF(C52=" ","",IF(H52=G52," ",IF(H52>G52,(H52-G52),(G52-H52)))) -> 0.32638889 | Q52: =IF(R52="","","-") | R52: =IF(AD52=0,"",AD52/-24) | T52: =IF(C52=" ","",IF(G52>0,G52+AD52/24,"")) | U52: =IF(OR(Z52>0,AND(Z52=0,T52<>"")),IF(AE52="","",IF(AE52=0,"",IF(AF52<0,"-","+"))),"") -> - | V52: =IF(OR(Z52>0,AND(Z52=0,T52<>"")),IF(AE52="","",IF(AG52<0,(AG52*(-1)),AG52)),"") -> 501 | W52: =IF(OR(Z52>0,AND(Z52=0,T52<>"")),IF(AE52="","",":"),"") -> : | X52: =IF(OR(Z52>0,AND(Z52=0,T52<>"")),IF(AE52="","",IF(AF52>0,PRODUCT(AH52,100),PRODUCT(AH52,-100))),"") -> 20 | Z52: =IF(C52=" "," ",IF(OR(TODAY()<C52,Stammdaten!$C$8>C52,AND(Stammdaten!$C$9>0,C52>Stammdaten!$C$9)),0,IF(WEEKDAY(C52)=$G$17,IF(OR($E$9="VZ",$E$9="Schicht"),$AH$17/24,IF($D$15<>"x",$AH$17/24,$G$15)),IF(WEEKDAY(C52)=$H$17,IF(OR($E$9="VZ",$E$9="Schicht"),$AH$17/24,IF($D$15<>"x",$AH$17/24,$H$15)),IF(WEEKDAY(C52)=$I$17,IF(OR($E$9="VZ",$E$9="Schicht"),$AH$17/24,IF($D$15<>"x",$AH$17/24,$I$15)),IF(WEEKDAY(C52)=$K$17,IF(OR($E$9="VZ",$E$9="Schicht"),$AH$17/24,IF($D$15<>"x",$AH$17/24,$K$15)),IF(WEEKDAY(C52)=$L$17,IF(OR($E$9="VZ",$E$9="Schicht"),$AH$17/24,IF($D$15<>"x",$AH$17/24,$L$15)),TIMEVALUE("0:00")))))))) -> 0.32638889 | AA52: =IF(I52="-",(-J52)*24,IF(I52="+",(+J52)*24,0)) -> -7.8333333 | AB52: =IF(L52>0,(L52-K52)+(N52-M52)+(P52-O52),TIMEVALUE("0:00")) -> 0 | AC52: =IF(G52="",0,IF(G52<=TIMEVALUE("6:30"),TIMEVALUE("0:00"),IF(G52>TIMEVALUE("9:45"),TIMEVALUE("0:45"),TIMEVALUE("0:30")))) -> 0 | AD52: =IF(OR(D52="BZ",D52="DB",D52="FZA",D52="K"),0,IF(AC52>AB52,-AC52*24,-AB52*24)) -> 0 | AE52: =IF(C52<>" ",AF52,"") -> -501.33333 | AF52: =SUM(AF51,AA52,AD52) -> -501.33333 | AG52: =ROUNDDOWN(ROUND(AF52,2),0) -> -501 | AH52: =SUM(AF52-AG52)/100*60 -> -0.2
V53: Std. | X53: Min.
B54: Information | S54: Arbeitszeitgutschrift1 | W54: :
B55: Krankheitstage | D55: =COUNTIF($D$22:$D$52,"K") -> 0 | S55: Übertrag | U55: =IF(AF52<0,"-","+") -> - | V55: =IF((AG52+V54)<0,(AG52+V54)*-1,(AG52+V54)) -> 501 | W55: : | X55: =IF((AH52+X54)<0,((AH52*100+X54)*(-1)),(AH52*100+X54)) -> 20
B56: Urlaubstage | D56: =COUNTIF($D$22:$D$52,"U") -> 0
B58: =IF($E$9="TZ",IF($V$55>$AA$14*24,"Hinweis: Zeitkontenspanne überschritten. Bitte Rücksprache mit Vorgesetzter/Vorgesetztem halten.",""),IF($V$55>40,"Hinweis: Zeitkontenspanne überschritten. Bitte Rücksprache mit Vorgesetzter/Vorgesetztem halten.","")) -> Hinweis: Zeitkontenspanne überschritten. Bitte Rücksprache mit Vorgesetzter/Vorgesetztem halten.
O61: geprüft am²
C64: Datum, Unterschrift Beschäftigte:r | O64: Name
O67: Unterschrift
B70: 1 vgl. Nr. 4 der Nutzungshinweise
B71: 2 vgl. Nr. 3 der Nutzungshinweise

Sheet 4
B2: A R B E I T S Z E I T N A C H W E I S
B3: UNIVERSITÄT BREMEN
B5: Name: | D5: =Stammdaten!C3&", "&Stammdaten!C4 -> , | J5: Monat | S5: Übertrag aus Vormonat | V5: Std. | X5: Min. | Z5: Achtung: zur Berechnung dieser Datei wurde umgestellt auf: Datei \ Optionen \ Erweitert \ Beim Berechnen dieser Arbeitsmappe \ 1904-Datumswerte verwenden Nur dann können negative (berechnete) Stunden angezeigt und verarbeitet werden.
B6: =Stammdaten!B5&":" -> Organisationseinheit: | D6: =Stammdaten!C5 -> 0 | J6: =DATE(Stammdaten!C6,4,1) -> 44286 | U6: =IF('3'!$AF$52<0,"-","+") -> - | V6: ='3'!$V$55 -> 501 | W6: : | X6: ='3'!$X$55 -> 20
B8: Status | E8: Arbeitszeitmodell | H8: =IF(E9="TZ","Wöchentl. Arbeitszeit bei TZ","")
B9: =Stammdaten!$C$7 -> tarifbeschäftigt TV-L | E9: VZ
E10: =IF(E9="TZ","bitte ggf. Wochenarbeitstage wählen u. Stundenverteilung anpassen","")
G12: =IF($E$9="VZ","Mo",IF(G13="x","Mo","-")) -> Mo | H12: =IF($E$9="VZ","Di",IF(H13="x","Di","-")) -> Di | I12: =IF($E$9="VZ","Mi",IF(I13="x","Mi","-")) -> Mi | K12: =IF($E$9="VZ","Do",IF(K13="x","Do","-")) -> Do | L12: =IF($E$9="VZ","Fr",IF(L13="x","Fr","-")) -> Fr | M12: Summe
D13: Stundenverteilung | G13: x | H13: x | I13: x | K13: x | L13: x | M13: =COUNTIF(G13:L13,"x") -> 5
E14: gleichmäßig | G14: =IF(OR($E$9="VZ",$E$9="Schicht"),$AD$17/24,IF($E$9="TZ",IF($D$15<>"x",IF(G$13="x",($J$9/COUNTIF($G$13:$L$13,"x")/24),""),""),"")) -> 0.32666667 | H14: =IF(OR($E$9="VZ",$E$9="Schicht"),$AD$17/24,IF($E$9="TZ",IF($D$15<>"x",IF(H$13="x",($J$9/COUNTIF($G$13:$L$13,"x")/24),""),""),"")) -> 0.32666667 | I14: =IF(OR($E$9="VZ",$E$9="Schicht"),$AD$17/24,IF($E$9="TZ",IF($D$15<>"x",IF(I$13="x",($J$9/COUNTIF($G$13:$L$13,"x")/24),""),""),"")) -> 0.32666667 | K14: =IF(OR($E$9="VZ",$E$9="Schicht"),$AD$17/24,IF($E$9="TZ",IF($D$15<>"x",IF(K$13="x",($J$9/COUNTIF($G$13:$L$13,"x")/24),""),""),"")) -> 0.32666667 | L14: =IF(OR($E$9="VZ",$E$9="Schicht"),$AD$17/24,IF($E$9="TZ",IF($D$15<>"x",IF(L$13="x",($J$9/COUNTIF($G$13:$L$13,"x")/24),""),""),"")) -> 0.32666667 | M14: =IF($D$15<>"x",SUM(G14:L14)*24,"") -> 39.2 | AA14: =IF($D$15="x",SUM(G15:L15),SUM(G14:L14)) -> 1.6333333
E15: ungleichmäßig | M15: =IF($D$15="x",SUMIFS(G15:L15,G13:L13,"x")*24,"")
C16: Arbeitstage im Monat
C17: =SUMPRODUCT(COUNTIF(B22:B52,G12:L12)) -> 22 | G17: =IF(E9="VZ",2,IF(G13="x",2,0)) -> 2 | H17: =IF(E9="VZ",3,IF(H13="x",3,0)) -> 3 | I17: =IF(E9="VZ",4,IF(I13="x",4,0)) -> 4 | K17: =IF(E9="VZ",5,IF(K13="x",5,0)) -> 5 | L17: =IF(E9="VZ",6,IF(L13="x",6,0)) -> 6 | Z17: =(X6/100) -> 0.2 | AA17: =COUNTIF($G$13:$L$13,"x") -> 5 | AC17: Regelm. tgl. Az. | AD17: =IF($E$9="VZ",IF($B$9="tarifbeschäftigt TV-L",39.2/5,IF($B$9="tarifbeschäftigt TVöD",39/5,IF($B$9="verbeamtet",40/5))),IF($E$9="Schicht",38.5/5,IF($E$9="TZ",IF($D$15<>"x",$J$9/$AA$17)))) -> 7.84 | AE17: =AD17/24 -> 0.32666667 | AF17: =TEXT(AE17,"H:MM") -> 7:50 | AG17: =TIMEVALUE(AF17) -> 0.32638889 | AH17: =AG17*24 -> 7.8333333
C18: =IF(AND($E$9="TZ",$AA14<>$J$9/24),"Fehler: Summe der Stundenverteilung stimmt nicht mit wöchentlicher Arbeitszeit überein!","")
C21: Datum | D21: Son-der- tage | E21: Anwesenheitszeit Kommt Geht Ist | H21: Soll- Arbeits- zeit | I21: Diff. Soll Anw.-Ist | K21: Erste Unterbrechung Beginn Ende | M21: Zweite Unterbrechung Beginn Ende | O21: Dritte Unterbrechung Beginn Ende | Q21: anzurechn. Pause bzw. Unterbr. | S21: Bemerkung (z.B. std.weiser FZA, mob. Arbeiten, Dienstreise) | T21: Ist-Arbeits-zeit | U21: Aufrechnung Gesamt in Std.:Min. | Z21: Soll- Arbeits zeit | AA21: Diff. Arbzeit Anw.Zeit | AB21: Ist Pause | AC21: Soll Pause | AD21: anzu rechn. Pause | AE21: Aufrechnung | AF21: =IF(U6="-",-V6-(Z17*100/60),V6+(Z17*100/60)) -> -501.33333 | AG21: Std. | AH21: Min
B22: =IF(C22=" "," ",IF(WEEKDAY(C22)=1,"So",IF(WEEKDAY(C22)=7,"Sa",IF(WEEKDAY(C22)=2,"Mo",IF(WEEKDAY(C22)=3,"Di",IF(WEEKDAY(C22)=4,"Mi",IF(WEEKDAY(C22)=5,"Do",IF(WEEKDAY(C22)=6,"Fr","")))))))) -> Di | C22: =DATE(Stammdaten!C6,MONTH(J6),1) -> 44286 | G22: =IF(C22=" ","",IF(D22="FZA",0,IF(OR(D22="",D22="dA"),IF(AND(F22>0,E22>0),(F22-E22),0),IF(D22="F",(F22-E22),H22)))) -> 0 | H22: =IF(OR(D22="KK",D22="F",D22="SU",D22="U"),0,Z22) -> 0.32638889 | I22: =IF(G22=H22," ",IF(G22>H22,"+","-")) -> - | J22: =IF(H22=G22," ",IF(H22>G22,(H22-G22),(G22-H22))) -> 0.32638889 | Q22: =IF(R22="","","-") | R22: =IF(AD22=0,"",AD22/-24) | T22: =IF(C22=" ","",IF(G22>0,G22+AD22/24,"")) | U22: =IF(OR(Z22>0,AND(Z22=0,T22<>"")),IF(AE22="","",IF(AE22=0,"",IF(AF22<0,"-","+"))),"") -> - | V22: =IF(OR(Z22>0,AND(Z22=0,T22<>"")),IF(AE22="","",IF(AG22<0,(AG22*(-1)),AG22)),"") -> 509 | W22: =IF(OR(Z22>0,AND(Z22=0,T22<>"")),IF(AE22="","",":"),"") -> : | X22: =IF(OR(Z22>0,AND(Z22=0,T22<>"")),IF(AE22="","",IF(AF22>0,PRODUCT(AH22,100),PRODUCT(AH22,-100))),"") -> 10 | Z22: =IF(C22=" "," ",IF(OR(TODAY()<C22,Stammdaten!$C$8>C22,AND(Stammdaten!$C$9>0,C22>Stammdaten!$C$9)),0,IF(WEEKDAY(C22)=$G$17,IF(OR($E$9="VZ",$E$9="Schicht"),$AH$17/24,IF($D$15<>"x",$AH$17/24,$G$15)),IF(WEEKDAY(C22)=$H$17,IF(OR($E$9="VZ",$E$9="Schicht"),$AH$17/24,IF($D$15<>"x",$AH$17/24,$H$15)),IF(WEEKDAY(C22)=$I$17,IF(OR($E$9="VZ",$E$9="Schicht"),$AH$17/24,IF($D$15<>"x",$AH$17/24,$I$15)),IF(WEEKDAY(C22)=$K$17,IF(OR($E$9="VZ",$E$9="Schicht"),$AH$17/24,IF($D$15<>"x",$AH$17/24,$K$15)),IF(WEEKDAY(C22)=$L$17,IF(OR($E$9="VZ",$E$9="Schicht"),$AH$17/24,IF($D$15<>"x",$AH$17/24,$L$15)),TIMEVALUE("0:00")))))))) -> 0.32638889 | AA22: =IF(I22="-",(-J22)*24,IF(I22="+",(+J22)*24,0)) -> -7.8333333 | AB22: =IF(L22>0,(L22-K22)+(N22-M22)+(P22-O22),TIMEVALUE("0:00")) -> 0 | AC22: =IF(G22="",0,IF(G22<=TIMEVALUE("6:30"),TIMEVALUE("0:00"),IF(G22>TIMEVALUE("9:45"),TIMEVALUE("0:45"),TIMEVALUE("0:30")))) -> 0 | AD22: =IF(OR(D22="BZ",D22="DB",D22="FZA",D22="K"),0,IF(AC22>AB22,-AC22*24,-AB22*24)) -> 0 | AE22: =IF(C22<>" ",AF22,"") -> -509.16667 | AF22: =SUM(AF21,AA22,AD22) -> -509.16667 | AG22: =ROUNDDOWN(ROUND(AF22,2),0) -> -509 | AH22: =SUM(AF22-AG22)/100*60 -> -0.1
B23: =IF(C23=" "," ",IF(WEEKDAY(C23)=1,"So",IF(WEEKDAY(C23)=7,"Sa",IF(WEEKDAY(C23)=2,"Mo",IF(WEEKDAY(C23)=3,"Di",IF(WEEKDAY(C23)=4,"Mi",IF(WEEKDAY(C23)=5,"Do",IF(WEEKDAY(C23)=6,"Fr","")))))))) -> Mi | C23: =IF(C22=" "," ",IF(MONTH(C22+1)<>MONTH(C22)," ",C22+1)) -> 44287 | G23: =IF(C23=" ","",IF(D23="FZA",0,IF(OR(D23="",D23="dA"),IF(AND(F23>0,E23>0),(F23-E23),0),IF(D23="F",(F23-E23),H23)))) -> 0 | H23: =IF(OR(D23="KK",D23="F",D23="SU",D23="U"),0,Z23) -> 0.32638889 | I23: =IF(G23=H23," ",IF(G23>H23,"+","-")) -> - | J23: =IF(H23=G23," ",IF(H23>G23,(H23-G23),(G23-H23))) -> 0.32638889 | Q23: =IF(R23="","","-") | R23: =IF(AD23=0,"",AD23/-24) | T23: =IF(C23=" ","",IF(G23>0,G23+AD23/24,"")) | U23: =IF(OR(Z23>0,AND(Z23=0,T23<>"")),IF(AE23="","",IF(AE23=0,"",IF(AF23<0,"-","+"))),"") -> - | V23: =IF(OR(Z23>0,AND(Z23=0,T23<>"")),IF(AE23="","",IF(AG23<0,(AG23*(-1)),AG23)),"") -> 517 | W23: =IF(OR(Z23>0,AND(Z23=0,T23<>"")),IF(AE23="","",":"),"") -> : | X23: =IF(OR(Z23>0,AND(Z23=0,T23<>"")),IF(AE23="","",IF(AF23>0,PRODUCT(AH23,100),PRODUCT(AH23,-100))),"") -> -2.7284841e-11 | Z23: =IF(C23=" "," ",IF(OR(TODAY()<C23,Stammdaten!$C$8>C23,AND(Stammdaten!$C$9>0,C23>Stammdaten!$C$9)),0,IF(WEEKDAY(C23)=$G$17,IF(OR($E$9="VZ",$E$9="Schicht"),$AH$17/24,IF($D$15<>"x",$AH$17/24,$G$15)),IF(WEEKDAY(C23)=$H$17,IF(OR($E$9="VZ",$E$9="Schicht"),$AH$17/24,IF($D$15<>"x",$AH$17/24,$H$15)),IF(WEEKDAY(C23)=$I$17,IF(OR($E$9="VZ",$E$9="Schicht"),$AH$17/24,IF($D$15<>"x",$AH$17/24,$I$15)),IF(WEEKDAY(C23)=$K$17,IF(OR($E$9="VZ",$E$9="Schicht"),$AH$17/24,IF($D$15<>"x",$AH$17/24,$K$15)),IF(WEEKDAY(C23)=$L$17,IF(OR($E$9="VZ",$E$9="Schicht"),$AH$17/24,IF($D$15<>"x",$AH$17/24,$L$15)),TIMEVALUE("0:00")))))))) -> 0.32638889 | AA23: =IF(I23="-",(-J23)*24,IF(I23="+",(+J23)*24,0)) -> -7.8333333 | AB23: =IF(L23>0,(L23-K23)+(N23-M23)+(P23-O23),TIMEVALUE("0:00")) -> 0 | AC23: =IF(G23="",0,IF(G23<=TIMEVALUE("6:30"),TIMEVALUE("0:00"),IF(G23>TIMEVALUE("9:45"),TIMEVALUE("0:45"),TIMEVALUE("0:30")))) -> 0 | AD23: =IF(OR(D23="BZ",D23="DB",D23="FZA",D23="K"),0,IF(AC23>AB23,-AC23*24,-AB23*24)) -> 0 | AE23: =IF(C23<>" ",AF23,"") -> -517 | AF23: =SUM(AF22,AA23,AD23) -> -517 | AG23: =ROUNDDOWN(ROUND(AF23,2),0) -> -517 | AH23: =SUM(AF23-AG23)/100*60 -> 2.7284841e-13
B24: =IF(C24=" "," ",IF(WEEKDAY(C24)=1,"So",IF(WEEKDAY(C24)=7,"Sa",IF(WEEKDAY(C24)=2,"Mo",IF(WEEKDAY(C24)=3,"Di",IF(WEEKDAY(C24)=4,"Mi",IF(WEEKDAY(C24)=5,"Do",IF(WEEKDAY(C24)=6,"Fr","")))))))) -> Do | C24: =IF(C23=" "," ",IF(MONTH(C23+1)<>MONTH(C23)," ",C23+1)) -> 44288 | G24: =IF(C24=" ","",IF(D24="FZA",0,IF(OR(D24="",D24="dA"),IF(AND(F24>0,E24>0),(F24-E24),0),IF(D24="F",(F24-E24),H24)))) -> 0 | H24: =IF(OR(D24="KK",D24="F",D24="SU",D24="U"),0,Z24) -> 0.32638889 | I24: =IF(G24=H24," ",IF(G24>H24,"+","-")) -> - | J24: =IF(H24=G24," ",IF(H24>G24,(H24-G24),(G24-H24))) -> 0.32638889 | Q24: =IF(R24="","","-") | R24: =IF(AD24=0,"",AD24/-24) | T24: =IF(C24=" ","",IF(G24>0,G24+AD24/24,"")) | U24: =IF(OR(Z24>0,AND(Z24=0,T24<>"")),IF(AE24="","",IF(AE24=0,"",IF(AF24<0,"-","+"))),"") -> - | V24: =IF(OR(Z24>0,AND(Z24=0,T24<>"")),IF(AE24="","",IF(AG24<0,(AG24*(-1)),AG24)),"") -> 524 | W24: =IF(OR(Z24>0,AND(Z24=0,T24<>"")),IF(AE24="","",":"),"") -> : | X24: =IF(OR(Z24>0,AND(Z24=0,T24<>"")),IF(AE24="","",IF(AF24>0,PRODUCT(AH24,100),PRODUCT(AH24,-100))),"") -> 50 | Z24: =IF(C24=" "," ",IF(OR(TODAY()<C24,Stammdaten!$C$8>C24,AND(Stammdaten!$C$9>0,C24>Stammdaten!$C$9)),0,IF(WEEKDAY(C24)=$G$17,IF(OR($E$9="VZ",$E$9="Schicht"),$AH$17/24,IF($D$15<>"x",$AH$17/24,$G$15)),IF(WEEKDAY(C24)=$H$17,IF(OR($E$9="VZ",$E$9="Schicht"),$AH$17/24,IF($D$15<>"x",$AH$17/24,$H$15)),IF(WEEKDAY(C24)=$I$17,IF(OR($E$9="VZ",$E$9="Schicht"),$AH$17/24,IF($D$15<>"x",$AH$17/24,$I$15)),IF(WEEKDAY(C24)=$K$17,IF(OR($E$9="VZ",$E$9="Schicht"),$AH$17/24,IF($D$15<>"x",$AH$17/24,$K$15)),IF(WEEKDAY(C24)=$L$17,IF(OR($E$9="VZ",$E$9="Schicht"),$AH$17/24,IF($D$15<>"x",$AH$17/24,$L$15)),TIMEVALUE("0:00")))))))) -> 0.32638889 | AA24: =IF(I24="-",(-J24)*24,IF(I24="+",(+J24)*24,0)) -> -7.8333333 | AB24: =IF(L24>0,(L24-K24)+(N24-M24)+(P24-O24),TIMEVALUE("0:00")) -> 0 | AC24: =IF(G24="",0,IF(G24<=TIMEVALUE("6:30"),TIMEVALUE("0:00"),IF(G24>TIMEVALUE("9:45"),TIMEVALUE("0:45"),TIMEVALUE("0:30")))) -> 0 | AD24: =IF(OR(D24="BZ",D24="DB",D24="FZA",D24="K"),0,IF(AC24>AB24,-AC24*24,-AB24*24)) -> 0 | AE24: =IF(C24<>" ",AF24,"") -> -524.83333 | AF24: =SUM(AF23,AA24,AD24) -> -524.83333 | AG24: =ROUNDDOWN(ROUND(AF24,2),0) -> -524 | AH24: =SUM(AF24-AG24)/100*60 -> -0.5
B25: =IF(C25=" "," ",IF(WEEKDAY(C25)=1,"So",IF(WEEKDAY(C25)=7,"Sa",IF(WEEKDAY(C25)=2,"Mo",IF(WEEKDAY(C25)=3,"Di",IF(WEEKDAY(C25)=4,"Mi",IF(WEEKDAY(C25)=5,"Do",IF(WEEKDAY(C25)=6,"Fr","")))))))) -> Fr | C25: =IF(C24=" "," ",IF(MONTH(C24+1)<>MONTH(C24)," ",C24+1)) -> 44289 | G25: =IF(C25=" ","",IF(D25="FZA",0,IF(OR(D25="",D25="dA"),IF(AND(F25>0,E25>0),(F25-E25),0),IF(D25="F",(F25-E25),H25)))) -> 0 | H25: =IF(OR(D25="KK",D25="F",D25="SU",D25="U"),0,Z25) -> 0.32638889 | I25: =IF(G25=H25," ",IF(G25>H25,"+","-")) -> - | J25: =IF(H25=G25," ",IF(H25>G25,(H25-G25),(G25-H25))) -> 0.32638889 | Q25: =IF(R25="","","-") | R25: =IF(AD25=0,"",AD25/-24) | T25: =IF(C25=" ","",IF(G25>0,G25+AD25/24,"")) | U25: =IF(OR(Z25>0,AND(Z25=0,T25<>"")),IF(AE25="","",IF(AE25=0,"",IF(AF25<0,"-","+"))),"") -> - | V25: =IF(OR(Z25>0,AND(Z25=0,T25<>"")),IF(AE25="","",IF(AG25<0,(AG25*(-1)),AG25)),"") -> 532 | W25: =IF(OR(Z25>0,AND(Z25=0,T25<>"")),IF(AE25="","",":"),"") -> : | X25: =IF(OR(Z25>0,AND(Z25=0,T25<>"")),IF(AE25="","",IF(AF25>0,PRODUCT(AH25,100),PRODUCT(AH25,-100))),"") -> 40 | Z25: =IF(C25=" "," ",IF(OR(TODAY()<C25,Stammdaten!$C$8>C25,AND(Stammdaten!$C$9>0,C25>Stammdaten!$C$9)),0,IF(WEEKDAY(C25)=$G$17,IF(OR($E$9="VZ",$E$9="Schicht"),$AH$17/24,IF($D$15<>"x",$AH$17/24,$G$15)),IF(WEEKDAY(C25)=$H$17,IF(OR($E$9="VZ",$E$9="Schicht"),$AH$17/24,IF($D$15<>"x",$AH$17/24,$H$15)),IF(WEEKDAY(C25)=$I$17,IF(OR($E$9="VZ",$E$9="Schicht"),$AH$17/24,IF($D$15<>"x",$AH$17/24,$I$15)),IF(WEEKDAY(C25)=$K$17,IF(OR($E$9="VZ",$E$9="Schicht"),$AH$17/24,IF($D$15<>"x",$AH$17/24,$K$15)),IF(WEEKDAY(C25)=$L$17,IF(OR($E$9="VZ",$E$9="Schicht"),$AH$17/24,IF($D$15<>"x",$AH$17/24,$L$15)),TIMEVALUE("0:00")))))))) -> 0.32638889 | AA25: =IF(I25="-",(-J25)*24,IF(I25="+",(+J25)*24,0)) -> -7.8333333 | AB25: =IF(L25>0,(L25-K25)+(N25-M25)+(P25-O25),TIMEVALUE("0:00")) -> 0 | AC25: =IF(G25="",0,IF(G25<=TIMEVALUE("6:30"),TIMEVALUE("0:00"),IF(G25>TIMEVALUE("9:45"),TIMEVALUE("0:45"),TIMEVALUE("0:30")))) -> 0 | AD25: =IF(OR(D25="BZ",D25="DB",D25="FZA",D25="K"),0,IF(AC25>AB25,-AC25*24,-AB25*24)) -> 0 | AE25: =IF(C25<>" ",AF25,"") -> -532.66667 | AF25: =SUM(AF24,AA25,AD25) -> -532.66667 | AG25: =ROUNDDOWN(ROUND(AF25,2),0) -> -532 | AH25: =SUM(AF25-AG25)/100*60 -> -0.4
B26: =IF(C26=" "," ",IF(WEEKDAY(C26)=1,"So",IF(WEEKDAY(C26)=7,"Sa",IF(WEEKDAY(C26)=2,"Mo",IF(WEEKDAY(C26)=3,"Di",IF(WEEKDAY(C26)=4,"Mi",IF(WEEKDAY(C26)=5,"Do",IF(WEEKDAY(C26)=6,"Fr","")))))))) -> Sa | C26: =IF(C25=" "," ",IF(MONTH(C25+1)<>MONTH(C25)," ",C25+1)) -> 44290 | G26: =IF(C26=" ","",IF(D26="FZA",0,IF(OR(D26="",D26="dA"),IF(AND(F26>0,E26>0),(F26-E26),0),IF(D26="F",(F26-E26),H26)))) -> 0 | H26: =IF(OR(D26="KK",D26="F",D26="SU",D26="U"),0,Z26) -> 0 | I26: =IF(G26=H26," ",IF(G26>H26,"+","-")) | J26: =IF(H26=G26," ",IF(H26>G26,(H26-G26),(G26-H26))) | Q26: =IF(R26="","","-") | R26: =IF(AD26=0,"",AD26/-24) | T26: =IF(C26=" ","",IF(G26>0,G26+AD26/24,"")) | U26: =IF(OR(Z26>0,AND(Z26=0,T26<>"")),IF(AE26="","",IF(AE26=0,"",IF(AF26<0,"-","+"))),"") | V26: =IF(OR(Z26>0,AND(Z26=0,T26<>"")),IF(AE26="","",IF(AG26<0,(AG26*(-1)),AG26)),"") | W26: =IF(OR(Z26>0,AND(Z26=0,T26<>"")),IF(AE26="","",":"),"") | X26: =IF(OR(Z26>0,AND(Z26=0,T26<>"")),IF(AE26="","",IF(AF26>0,PRODUCT(AH26,100),PRODUCT(AH26,-100))),"") | Z26: =IF(C26=" "," ",IF(OR(TODAY()<C26,Stammdaten!$C$8>C26,AND(Stammdaten!$C$9>0,C26>Stammdaten!$C$9)),0,IF(WEEKDAY(C26)=$G$17,IF(OR($E$9="VZ",$E$9="Schicht"),$AH$17/24,IF($D$15<>"x",$AH$17/24,$G$15)),IF(WEEKDAY(C26)=$H$17,IF(OR($E$9="VZ",$E$9="Schicht"),$AH$17/24,IF($D$15<>"x",$AH$17/24,$H$15)),IF(WEEKDAY(C26)=$I$17,IF(OR($E$9="VZ",$E$9="Schicht"),$AH$17/24,IF($D$15<>"x",$AH$17/24,$I$15)),IF(WEEKDAY(C26)=$K$17,IF(OR($E$9="VZ",$E$9="Schicht"),$AH$17/24,IF($D$15<>"x",$AH$17/24,$K$15)),IF(WEEKDAY(C26)=$L$17,IF(OR($E$9="VZ",$E$9="Schicht"),$AH$17/24,IF($D$15<>"x",$AH$17/24,$L$15)),TIMEVALUE("0:00")))))))) -> 0 | AA26: =IF(I26="-",(-J26)*24,IF(I26="+",(+J26)*24,0)) -> 0 | AB26: =IF(L26>0,(L26-K26)+(N26-M26)+(P26-O26),TIMEVALUE("0:00")) -> 0 | AC26: =IF(G26="",0,IF(G26<=TIMEVALUE("6:30"),TIMEVALUE("0:00"),IF(G26>TIMEVALUE("9:45"),TIMEVALUE("0:45"),TIMEVALUE("0:30")))) -> 0 | AD26: =IF(OR(D26="BZ",D26="DB",D26="FZA",D26="K"),0,IF(AC26>AB26,-AC26*24,-AB26*24)) -> 0 | AE26: =IF(C26<>" ",AF26,"") -> -532.66667 | AF26: =SUM(AF25,AA26,AD26) -> -532.66667 | AG26: =ROUNDDOWN(ROUND(AF26,2),0) -> -532 | AH26: =SUM(AF26-AG26)/100*60 -> -0.4
B27: =IF(C27=" "," ",IF(WEEKDAY(C27)=1,"So",IF(WEEKDAY(C27)=7,"Sa",IF(WEEKDAY(C27)=2,"Mo",IF(WEEKDAY(C27)=3,"Di",IF(WEEKDAY(C27)=4,"Mi",IF(WEEKDAY(C27)=5,"Do",IF(WEEKDAY(C27)=6,"Fr","")))))))) -> So | C27: =IF(C26=" "," ",IF(MONTH(C26+1)<>MONTH(C26)," ",C26+1)) -> 44291 | G27: =IF(C27=" ","",IF(D27="FZA",0,IF(OR(D27="",D27="dA"),IF(AND(F27>0,E27>0),(F27-E27),0),IF(D27="F",(F27-E27),H27)))) -> 0 | H27: =IF(OR(D27="KK",D27="F",D27="SU",D27="U"),0,Z27) -> 0 | I27: =IF(G27=H27," ",IF(G27>H27,"+","-")) | J27: =IF(H27=G27," ",IF(H27>G27,(H27-G27),(G27-H27))) | Q27: =IF(R27="","","-") | R27: =IF(AD27=0,"",AD27/-24) | T27: =IF(C27=" ","",IF(G27>0,G27+AD27/24,"")) | U27: =IF(OR(Z27>0,AND(Z27=0,T27<>"")),IF(AE27="","",IF(AE27=0,"",IF(AF27<0,"-","+"))),"") | V27: =IF(OR(Z27>0,AND(Z27=0,T27<>"")),IF(AE27="","",IF(AG27<0,(AG27*(-1)),AG27)),"") | W27: =IF(OR(Z27>0,AND(Z27=0,T27<>"")),IF(AE27="","",":"),"") | X27: =IF(OR(Z27>0,AND(Z27=0,T27<>"")),IF(AE27="","",IF(AF27>0,PRODUCT(AH27,100),PRODUCT(AH27,-100))),"") | Z27: =IF(C27=" "," ",IF(OR(TODAY()<C27,Stammdaten!$C$8>C27,AND(Stammdaten!$C$9>0,C27>Stammdaten!$C$9)),0,IF(WEEKDAY(C27)=$G$17,IF(OR($E$9="VZ",$E$9="Schicht"),$AH$17/24,IF($D$15<>"x",$AH$17/24,$G$15)),IF(WEEKDAY(C27)=$H$17,IF(OR($E$9="VZ",$E$9="Schicht"),$AH$17/24,IF($D$15<>"x",$AH$17/24,$H$15)),IF(WEEKDAY(C27)=$I$17,IF(OR($E$9="VZ",$E$9="Schicht"),$AH$17/24,IF($D$15<>"x",$AH$17/24,$I$15)),IF(WEEKDAY(C27)=$K$17,IF(OR($E$9="VZ",$E$9="Schicht"),$AH$17/24,IF($D$15<>"x",$AH$17/24,$K$15)),IF(WEEKDAY(C27)=$L$17,IF(OR($E$9="VZ",$E$9="Schicht"),$AH$17/24,IF($D$15<>"x",$AH$17/24,$L$15)),TIMEVALUE("0:00")))))))) -> 0 | AA27: =IF(I27="-",(-J27)*24,IF(I27="+",(+J27)*24,0)) -> 0 | AB27: =IF(L27>0,(L27-K27)+(N27-M27)+(P27-O27),TIMEVALUE("0:00")) -> 0 | AC27: =IF(G27="",0,IF(G27<=TIMEVALUE("6:30"),TIMEVALUE("0:00"),IF(G27>TIMEVALUE("9:45"),TIMEVALUE("0:45"),TIMEVALUE("0:30")))) -> 0 | AD27: =IF(OR(D27="BZ",D27="DB",D27="FZA",D27="K"),0,IF(AC27>AB27,-AC27*24,-AB27*24)) -> 0 | AE27: =IF(C27<>" ",AF27,"") -> -532.66667 | AF27: =SUM(AF26,AA27,AD27) -> -532.66667 | AG27: =ROUNDDOWN(ROUND(AF27,2),0) -> -532 | AH27: =SUM(AF27-AG27)/100*60 -> -0.4
B28: =IF(C28=" "," ",IF(WEEKDAY(C28)=1,"So",IF(WEEKDAY(C28)=7,"Sa",IF(WEEKDAY(C28)=2,"Mo",IF(WEEKDAY(C28)=3,"Di",IF(WEEKDAY(C28)=4,"Mi",IF(WEEKDAY(C28)=5,"Do",IF(WEEKDAY(C28)=6,"Fr","")))))))) -> Mo | C28: =IF(C27=" "," ",IF(MONTH(C27+1)<>MONTH(C27)," ",C27+1)) -> 44292 | G28: =IF(C28=" ","",IF(D28="FZA",0,IF(OR(D28="",D28="dA"),IF(AND(F28>0,E28>0),(F28-E28),0),IF(D28="F",(F28-E28),H28)))) -> 0 | H28: =IF(OR(D28="KK",D28="F",D28="SU",D28="U"),0,Z28) -> 0.32638889 | I28: =IF(G28=H28," ",IF(G28>H28,"+","-")) -> - | J28: =IF(H28=G28," ",IF(H28>G28,(H28-G28),(G28-H28))) -> 0.32638889 | Q28: =IF(R28="","","-") | R28: =IF(AD28=0,"",AD28/-24) | T28: =IF(C28=" ","",IF(G28>0,G28+AD28/24,"")) | U28: =IF(OR(Z28>0,AND(Z28=0,T28<>"")),IF(AE28="","",IF(AE28=0,"",IF(AF28<0,"-","+"))),"") -> - | V28: =IF(OR(Z28>0,AND(Z28=0,T28<>"")),IF(AE28="","",IF(AG28<0,(AG28*(-1)),AG28)),"") -> 540 | W28: =IF(OR(Z28>0,AND(Z28=0,T28<>"")),IF(AE28="","",":"),"") -> : | X28: =IF(OR(Z28>0,AND(Z28=0,T28<>"")),IF(AE28="","",IF(AF28>0,PRODUCT(AH28,100),PRODUCT(AH28,-100))),"") -> 30 | Z28: =IF(C28=" "," ",IF(OR(TODAY()<C28,Stammdaten!$C$8>C28,AND(Stammdaten!$C$9>0,C28>Stammdaten!$C$9)),0,IF(WEEKDAY(C28)=$G$17,IF(OR($E$9="VZ",$E$9="Schicht"),$AH$17/24,IF($D$15<>"x",$AH$17/24,$G$15)),IF(WEEKDAY(C28)=$H$17,IF(OR($E$9="VZ",$E$9="Schicht"),$AH$17/24,IF($D$15<>"x",$AH$17/24,$H$15)),IF(WEEKDAY(C28)=$I$17,IF(OR($E$9="VZ",$E$9="Schicht"),$AH$17/24,IF($D$15<>"x",$AH$17/24,$I$15)),IF(WEEKDAY(C28)=$K$17,IF(OR($E$9="VZ",$E$9="Schicht"),$AH$17/24,IF($D$15<>"x",$AH$17/24,$K$15)),IF(WEEKDAY(C28)=$L$17,IF(OR($E$9="VZ",$E$9="Schicht"),$AH$17/24,IF($D$15<>"x",$AH$17/24,$L$15)),TIMEVALUE("0:00")))))))) -> 0.32638889 | AA28: =IF(I28="-",(-J28)*24,IF(I28="+",(+J28)*24,0)) -> -7.8333333 | AB28: =IF(L28>0,(L28-K28)+(N28-M28)+(P28-O28),TIMEVALUE("0:00")) -> 0 | AC28: =IF(G28="",0,IF(G28<=TIMEVALUE("6:30"),TIMEVALUE("0:00"),IF(G28>TIMEVALUE("9:45"),TIMEVALUE("0:45"),TIMEVALUE("0:30")))) -> 0 | AD28: =IF(OR(D28="BZ",D28="DB",D28="FZA",D28="K"),0,IF(AC28>AB28,-AC28*24,-AB28*24)) -> 0 | AE28: =IF(C28<>" ",AF28,"") -> -540.5 | AF28: =SUM(AF27,AA28,AD28) -> -540.5 | AG28: =ROUNDDOWN(ROUND(AF28,2),0) -> -540 | AH28: =SUM(AF28-AG28)/100*60 -> -0.3
B29: =IF(C29=" "," ",IF(WEEKDAY(C29)=1,"So",IF(WEEKDAY(C29)=7,"Sa",IF(WEEKDAY(C29)=2,"Mo",IF(WEEKDAY(C29)=3,"Di",IF(WEEKDAY(C29)=4,"Mi",IF(WEEKDAY(C29)=5,"Do",IF(WEEKDAY(C29)=6,"Fr","")))))))) -> Di | C29: =IF(C28=" "," ",IF(MONTH(C28+1)<>MONTH(C28)," ",C28+1)) -> 44293 | G29: =IF(C29=" ","",IF(D29="FZA",0,IF(OR(D29="",D29="dA"),IF(AND(F29>0,E29>0),(F29-E29),0),IF(D29="F",(F29-E29),H29)))) -> 0 | H29: =IF(OR(D29="KK",D29="F",D29="SU",D29="U"),0,Z29) -> 0.32638889 | I29: =IF(G29=H29," ",IF(G29>H29,"+","-")) -> - | J29: =IF(H29=G29," ",IF(H29>G29,(H29-G29),(G29-H29))) -> 0.32638889 | Q29: =IF(R29="","","-") | R29: =IF(AD29=0,"",AD29/-24) | T29: =IF(C29=" ","",IF(G29>0,G29+AD29/24,"")) | U29: =IF(OR(Z29>0,AND(Z29=0,T29<>"")),IF(AE29="","",IF(AE29=0,"",IF(AF29<0,"-","+"))),"") -> - | V29: =IF(OR(Z29>0,AND(Z29=0,T29<>"")),IF(AE29="","",IF(AG29<0,(AG29*(-1)),AG29)),"") -> 548 | W29: =IF(OR(Z29>0,AND(Z29=0,T29<>"")),IF(AE29="","",":"),"") -> : | X29: =IF(OR(Z29>0,AND(Z29=0,T29<>"")),IF(AE29="","",IF(AF29>0,PRODUCT(AH29,100),PRODUCT(AH29,-100))),"") -> 20 | Z29: =IF(C29=" "," ",IF(OR(TODAY()<C29,Stammdaten!$C$8>C29,AND(Stammdaten!$C$9>0,C29>Stammdaten!$C$9)),0,IF(WEEKDAY(C29)=$G$17,IF(OR($E$9="VZ",$E$9="Schicht"),$AH$17/24,IF($D$15<>"x",$AH$17/24,$G$15)),IF(WEEKDAY(C29)=$H$17,IF(OR($E$9="VZ",$E$9="Schicht"),$AH$17/24,IF($D$15<>"x",$AH$17/24,$H$15)),IF(WEEKDAY(C29)=$I$17,IF(OR($E$9="VZ",$E$9="Schicht"),$AH$17/24,IF($D$15<>"x",$AH$17/24,$I$15)),IF(WEEKDAY(C29)=$K$17,IF(OR($E$9="VZ",$E$9="Schicht"),$AH$17/24,IF($D$15<>"x",$AH$17/24,$K$15)),IF(WEEKDAY(C29)=$L$17,IF(OR($E$9="VZ",$E$9="Schicht"),$AH$17/24,IF($D$15<>"x",$AH$17/24,$L$15)),TIMEVALUE("0:00")))))))) -> 0.32638889 | AA29: =IF(I29="-",(-J29)*24,IF(I29="+",(+J29)*24,0)) -> -7.8333333 | AB29: =IF(L29>0,(L29-K29)+(N29-M29)+(P29-O29),TIMEVALUE("0:00")) -> 0 | AC29: =IF(G29="",0,IF(G29<=TIMEVALUE("6:30"),TIMEVALUE("0:00"),IF(G29>TIMEVALUE("9:45"),TIMEVALUE("0:45"),TIMEVALUE("0:30")))) -> 0 | AD29: =IF(OR(D29="BZ",D29="DB",D29="FZA",D29="K"),0,IF(AC29>AB29,-AC29*24,-AB29*24)) -> 0 | AE29: =IF(C29<>" ",AF29,"") -> -548.33333 | AF29: =SUM(AF28,AA29,AD29) -> -548.33333 | AG29: =ROUNDDOWN(ROUND(AF29,2),0) -> -548 | AH29: =SUM(AF29-AG29)/100*60 -> -0.2
B30: =IF(C30=" "," ",IF(WEEKDAY(C30)=1,"So",IF(WEEKDAY(C30)=7,"Sa",IF(WEEKDAY(C30)=2,"Mo",IF(WEEKDAY(C30)=3,"Di",IF(WEEKDAY(C30)=4,"Mi",IF(WEEKDAY(C30)=5,"Do",IF(WEEKDAY(C30)=6,"Fr","")))))))) -> Mi | C30: =IF(C29=" "," ",IF(MONTH(C29+1)<>MONTH(C29)," ",C29+1)) -> 44294 | G30: =IF(C30=" ","",IF(D30="FZA",0,IF(OR(D30="",D30="dA"),IF(AND(F30>0,E30>0),(F30-E30),0),IF(D30="F",(F30-E30),H30)))) -> 0 | H30: =IF(OR(D30="KK",D30="F",D30="SU",D30="U"),0,Z30) -> 0.32638889 | I30: =IF(G30=H30," ",IF(G30>H30,"+","-")) -> - | J30: =IF(H30=G30," ",IF(H30>G30,(H30-G30),(G30-H30))) -> 0.32638889 | Q30: =IF(R30="","","-") | R30: =IF(AD30=0,"",AD30/-24) | T30: =IF(C30=" ","",IF(G30>0,G30+AD30/24,"")) | U30: =IF(OR(Z30>0,AND(Z30=0,T30<>"")),IF(AE30="","",IF(AE30=0,"",IF(AF30<0,"-","+"))),"") -> - | V30: =IF(OR(Z30>0,AND(Z30=0,T30<>"")),IF(AE30="","",IF(AG30<0,(AG30*(-1)),AG30)),"") -> 556 | W30: =IF(OR(Z30>0,AND(Z30=0,T30<>"")),IF(AE30="","",":"),"") -> : | X30: =IF(OR(Z30>0,AND(Z30=0,T30<>"")),IF(AE30="","",IF(AF30>0,PRODUCT(AH30,100),PRODUCT(AH30,-100))),"") -> 10 | Z30: =IF(C30=" "," ",IF(OR(TODAY()<C30,Stammdaten!$C$8>C30,AND(Stammdaten!$C$9>0,C30>Stammdaten!$C$9)),0,IF(WEEKDAY(C30)=$G$17,IF(OR($E$9="VZ",$E$9="Schicht"),$AH$17/24,IF($D$15<>"x",$AH$17/24,$G$15)),IF(WEEKDAY(C30)=$H$17,IF(OR($E$9="VZ",$E$9="Schicht"),$AH$17/24,IF($D$15<>"x",$AH$17/24,$H$15)),IF(WEEKDAY(C30)=$I$17,IF(OR($E$9="VZ",$E$9="Schicht"),$AH$17/24,IF($D$15<>"x",$AH$17/24,$I$15)),IF(WEEKDAY(C30)=$K$17,IF(OR($E$9="VZ",$E$9="Schicht"),$AH$17/24,IF($D$15<>"x",$AH$17/24,$K$15)),IF(WEEKDAY(C30)=$L$17,IF(OR($E$9="VZ",$E$9="Schicht"),$AH$17/24,IF($D$15<>"x",$AH$17/24,$L$15)),TIMEVALUE("0:00")))))))) -> 0.32638889 | AA30: =IF(I30="-",(-J30)*24,IF(I30="+",(+J30)*24,0)) -> -7.8333333 | AB30: =IF(L30>0,(L30-K30)+(N30-M30)+(P30-O30),TIMEVALUE("0:00")) -> 0 | AC30: =IF(G30="",0,IF(G30<=TIMEVALUE("6:30"),TIMEVALUE("0:00"),IF(G30>TIMEVALUE("9:45"),TIMEVALUE("0:45"),TIMEVALUE("0:30")))) -> 0 | AD30: =IF(OR(D30="BZ",D30="DB",D30="FZA",D30="K"),0,IF(AC30>AB30,-AC30*24,-AB30*24)) -> 0 | AE30: =IF(C30<>" ",AF30,"") -> -556.16667 | AF30: =SUM(AF29,AA30,AD30) -> -556.16667 | AG30: =ROUNDDOWN(ROUND(AF30,2),0) -> -556 | AH30: =SUM(AF30-AG30)/100*60 -> -0.1
B31: =IF(C31=" "," ",IF(WEEKDAY(C31)=1,"So",IF(WEEKDAY(C31)=7,"Sa",IF(WEEKDAY(C31)=2,"Mo",IF(WEEKDAY(C31)=3,"Di",IF(WEEKDAY(C31)=4,"Mi",IF(WEEKDAY(C31)=5,"Do",IF(WEEKDAY(C31)=6,"Fr","")))))))) -> Do | C31: =IF(C30=" "," ",IF(MONTH(C30+1)<>MONTH(C30)," ",C30+1)) -> 44295 | G31: =IF(C31=" ","",IF(D31="FZA",0,IF(OR(D31="",D31="dA"),IF(AND(F31>0,E31>0),(F31-E31),0),IF(D31="F",(F31-E31),H31)))) -> 0 | H31: =IF(OR(D31="KK",D31="F",D31="SU",D31="U"),0,Z31) -> 0.32638889 | I31: =IF(G31=H31," ",IF(G31>H31,"+","-")) -> - | J31: =IF(H31=G31," ",IF(H31>G31,(H31-G31),(G31-H31))) -> 0.32638889 | Q31: =IF(R31="","","-") | R31: =IF(AD31=0,"",AD31/-24) | T31: =IF(C31=" ","",IF(G31>0,G31+AD31/24,"")) | U31: =IF(OR(Z31>0,AND(Z31=0,T31<>"")),IF(AE31="","",IF(AE31=0,"",IF(AF31<0,"-","+"))),"") -> - | V31: =IF(OR(Z31>0,AND(Z31=0,T31<>"")),IF(AE31="","",IF(AG31<0,(AG31*(-1)),AG31)),"") -> 564 | W31: =IF(OR(Z31>0,AND(Z31=0,T31<>"")),IF(AE31="","",":"),"") -> : | X31: =IF(OR(Z31>0,AND(Z31=0,T31<>"")),IF(AE31="","",IF(AF31>0,PRODUCT(AH31,100),PRODUCT(AH31,-100))),"") -> -1.3642421e-11 | Z31: =IF(C31=" "," ",IF(OR(TODAY()<C31,Stammdaten!$C$8>C31,AND(Stammdaten!$C$9>0,C31>Stammdaten!$C$9)),0,IF(WEEKDAY(C31)=$G$17,IF(OR($E$9="VZ",$E$9="Schicht"),$AH$17/24,IF($D$15<>"x",$AH$17/24,$G$15)),IF(WEEKDAY(C31)=$H$17,IF(OR($E$9="VZ",$E$9="Schicht"),$AH$17/24,IF($D$15<>"x",$AH$17/24,$H$15)),IF(WEEKDAY(C31)=$I$17,IF(OR($E$9="VZ",$E$9="Schicht"),$AH$17/24,IF($D$15<>"x",$AH$17/24,$I$15)),IF(WEEKDAY(C31)=$K$17,IF(OR($E$9="VZ",$E$9="Schicht"),$AH$17/24,IF($D$15<>"x",$AH$17/24,$K$15)),IF(WEEKDAY(C31)=$L$17,IF(OR($E$9="VZ",$E$9="Schicht"),$AH$17/24,IF($D$15<>"x",$AH$17/24,$L$15)),TIMEVALUE("0:00")))))))) -> 0.32638889 | AA31: =IF(I31="-",(-J31)*24,IF(I31="+",(+J31)*24,0)) -> -7.8333333 | AB31: =IF(L31>0,(L31-K31)+(N31-M31)+(P31-O31),TIMEVALUE("0:00")) -> 0 | AC31: =IF(G31="",0,IF(G31<=TIMEVALUE("6:30"),TIMEVALUE("0:00"),IF(G31>TIMEVALUE("9:45"),TIMEVALUE("0:45"),TIMEVALUE("0:30")))) -> 0 | AD31: =IF(OR(D31="BZ",D31="DB",D31="FZA",D31="K"),0,IF(AC31>AB31,-AC31*24,-AB31*24)) -> 0 | AE31: =IF(C31<>" ",AF31,"") -> -564 | AF31: =SUM(AF30,AA31,AD31) -> -564 | AG31: =ROUNDDOWN(ROUND(AF31,2),0) -> -564 | AH31: =SUM(AF31-AG31)/100*60 -> 1.3642421e-13
B32: =IF(C32=" "," ",IF(WEEKDAY(C32)=1,"So",IF(WEEKDAY(C32)=7,"Sa",IF(WEEKDAY(C32)=2,"Mo",IF(WEEKDAY(C32)=3,"Di",IF(WEEKDAY(C32)=4,"Mi",IF(WEEKDAY(C32)=5,"Do",IF(WEEKDAY(C32)=6,"Fr","")))))))) -> Fr | C32: =IF(C31=" "," ",IF(MONTH(C31+1)<>MONTH(C31)," ",C31+1)) -> 44296 | G32: =IF(C32=" ","",IF(D32="FZA",0,IF(OR(D32="",D32="dA"),IF(AND(F32>0,E32>0),(F32-E32),0),IF(D32="F",(F32-E32),H32)))) -> 0 | H32: =IF(OR(D32="KK",D32="F",D32="SU",D32="U"),0,Z32) -> 0.32638889 | I32: =IF(G32=H32," ",IF(G32>H32,"+","-")) -> - | J32: =IF(H32=G32," ",IF(H32>G32,(H32-G32),(G32-H32))) -> 0.32638889 | Q32: =IF(R32="","","-") | R32: =IF(AD32=0,"",AD32/-24) | T32: =IF(C32=" ","",IF(G32>0,G32+AD32/24,"")) | U32: =IF(OR(Z32>0,AND(Z32=0,T32<>"")),IF(AE32="","",IF(AE32=0,"",IF(AF32<0,"-","+"))),"") -> - | V32: =IF(OR(Z32>0,AND(Z32=0,T32<>"")),IF(AE32="","",IF(AG32<0,(AG32*(-1)),AG32)),"") -> 571 | W32: =IF(OR(Z32>0,AND(Z32=0,T32<>"")),IF(AE32="","",":"),"") -> : | X32: =IF(OR(Z32>0,AND(Z32=0,T32<>"")),IF(AE32="","",IF(AF32>0,PRODUCT(AH32,100),PRODUCT(AH32,-100))),"") -> 50 | Z32: =IF(C32=" "," ",IF(OR(TODAY()<C32,Stammdaten!$C$8>C32,AND(Stammdaten!$C$9>0,C32>Stammdaten!$C$9)),0,IF(WEEKDAY(C32)=$G$17,IF(OR($E$9="VZ",$E$9="Schicht"),$AH$17/24,IF($D$15<>"x",$AH$17/24,$G$15)),IF(WEEKDAY(C32)=$H$17,IF(OR($E$9="VZ",$E$9="Schicht"),$AH$17/24,IF($D$15<>"x",$AH$17/24,$H$15)),IF(WEEKDAY(C32)=$I$17,IF(OR($E$9="VZ",$E$9="Schicht"),$AH$17/24,IF($D$15<>"x",$AH$17/24,$I$15)),IF(WEEKDAY(C32)=$K$17,IF(OR($E$9="VZ",$E$9="Schicht"),$AH$17/24,IF($D$15<>"x",$AH$17/24,$K$15)),IF(WEEKDAY(C32)=$L$17,IF(OR($E$9="VZ",$E$9="Schicht"),$AH$17/24,IF($D$15<>"x",$AH$17/24,$L$15)),TIMEVALUE("0:00")))))))) -> 0.32638889 | AA32: =IF(I32="-",(-J32)*24,IF(I32="+",(+J32)*24,0)) -> -7.8333333 | AB32: =IF(L32>0,(L32-K32)+(N32-M32)+(P32-O32),TIMEVALUE("0:00")) -> 0 | AC32: =IF(G32="",0,IF(G32<=TIMEVALUE("6:30"),TIMEVALUE("0:00"),IF(G32>TIMEVALUE("9:45"),TIMEVALUE("0:45"),TIMEVALUE("0:30")))) -> 0 | AD32: =IF(OR(D32="BZ",D32="DB",D32="FZA",D32="K"),0,IF(AC32>AB32,-AC32*24,-AB32*24)) -> 0 | AE32: =IF(C32<>" ",AF32,"") -> -571.83333 | AF32: =SUM(AF31,AA32,AD32) -> -571.83333 | AG32: =ROUNDDOWN(ROUND(AF32,2),0) -> -571 | AH32: =SUM(AF32-AG32)/100*60 -> -0.5
B33: =IF(C33=" "," ",IF(WEEKDAY(C33)=1,"So",IF(WEEKDAY(C33)=7,"Sa",IF(WEEKDAY(C33)=2,"Mo",IF(WEEKDAY(C33)=3,"Di",IF(WEEKDAY(C33)=4,"Mi",IF(WEEKDAY(C33)=5,"Do",IF(WEEKDAY(C33)=6,"Fr","")))))))) -> Sa | C33: =IF(C32=" "," ",IF(MONTH(C32+1)<>MONTH(C32)," ",C32+1)) -> 44297 | G33: =IF(C33=" ","",IF(D33="FZA",0,IF(OR(D33="",D33="dA"),IF(AND(F33>0,E33>0),(F33-E33),0),IF(D33="F",(F33-E33),H33)))) -> 0 | H33: =IF(OR(D33="KK",D33="F",D33="SU",D33="U"),0,Z33) -> 0 | I33: =IF(G33=H33," ",IF(G33>H33,"+","-")) | J33: =IF(H33=G33," ",IF(H33>G33,(H33-G33),(G33-H33))) | Q33: =IF(R33="","","-") | R33: =IF(AD33=0,"",AD33/-24) | T33: =IF(C33=" ","",IF(G33>0,G33+AD33/24,"")) | U33: =IF(OR(Z33>0,AND(Z33=0,T33<>"")),IF(AE33="","",IF(AE33=0,"",IF(AF33<0,"-","+"))),"") | V33: =IF(OR(Z33>0,AND(Z33=0,T33<>"")),IF(AE33="","",IF(AG33<0,(AG33*(-1)),AG33)),"") | W33: =IF(OR(Z33>0,AND(Z33=0,T33<>"")),IF(AE33="","",":"),"") | X33: =IF(OR(Z33>0,AND(Z33=0,T33<>"")),IF(AE33="","",IF(AF33>0,PRODUCT(AH33,100),PRODUCT(AH33,-100))),"") | Z33: =IF(C33=" "," ",IF(OR(TODAY()<C33,Stammdaten!$C$8>C33,AND(Stammdaten!$C$9>0,C33>Stammdaten!$C$9)),0,IF(WEEKDAY(C33)=$G$17,IF(OR($E$9="VZ",$E$9="Schicht"),$AH$17/24,IF($D$15<>"x",$AH$17/24,$G$15)),IF(WEEKDAY(C33)=$H$17,IF(OR($E$9="VZ",$E$9="Schicht"),$AH$17/24,IF($D$15<>"x",$AH$17/24,$H$15)),IF(WEEKDAY(C33)=$I$17,IF(OR($E$9="VZ",$E$9="Schicht"),$AH$17/24,IF($D$15<>"x",$AH$17/24,$I$15)),IF(WEEKDAY(C33)=$K$17,IF(OR($E$9="VZ",$E$9="Schicht"),$AH$17/24,IF($D$15<>"x",$AH$17/24,$K$15)),IF(WEEKDAY(C33)=$L$17,IF(OR($E$9="VZ",$E$9="Schicht"),$AH$17/24,IF($D$15<>"x",$AH$17/24,$L$15)),TIMEVALUE("0:00")))))))) -> 0 | AA33: =IF(I33="-",(-J33)*24,IF(I33="+",(+J33)*24,0)) -> 0 | AB33: =IF(L33>0,(L33-K33)+(N33-M33)+(P33-O33),TIMEVALUE("0:00")) -> 0 | AC33: =IF(G33="",0,IF(G33<=TIMEVALUE("6:30"),TIMEVALUE("0:00"),IF(G33>TIMEVALUE("9:45"),TIMEVALUE("0:45"),TIMEVALUE("0:30")))) -> 0 | AD33: =IF(OR(D33="BZ",D33="DB",D33="FZA",D33="K"),0,IF(AC33>AB33,-AC33*24,-AB33*24)) -> 0 | AE33: =IF(C33<>" ",AF33,"") -> -571.83333 | AF33: =SUM(AF32,AA33,AD33) -> -571.83333 | AG33: =ROUNDDOWN(ROUND(AF33,2),0) -> -571 | AH33: =SUM(AF33-AG33)/100*60 -> -0.5
B34: =IF(C34=" "," ",IF(WEEKDAY(C34)=1,"So",IF(WEEKDAY(C34)=7,"Sa",IF(WEEKDAY(C34)=2,"Mo",IF(WEEKDAY(C34)=3,"Di",IF(WEEKDAY(C34)=4,"Mi",IF(WEEKDAY(C34)=5,"Do",IF(WEEKDAY(C34)=6,"Fr","")))))))) -> So | C34: =IF(C33=" "," ",IF(MONTH(C33+1)<>MONTH(C33)," ",C33+1)) -> 44298 | G34: =IF(C34=" ","",IF(D34="FZA",0,IF(OR(D34="",D34="dA"),IF(AND(F34>0,E34>0),(F34-E34),0),IF(D34="F",(F34-E34),H34)))) -> 0 | H34: =IF(OR(D34="KK",D34="F",D34="SU",D34="U"),0,Z34) -> 0 | I34: =IF(G34=H34," ",IF(G34>H34,"+","-")) | J34: =IF(H34=G34," ",IF(H34>G34,(H34-G34),(G34-H34))) | Q34: =IF(R34="","","-") | R34: =IF(AD34=0,"",AD34/-24) | T34: =IF(C34=" ","",IF(G34>0,G34+AD34/24,"")) | U34: =IF(OR(Z34>0,AND(Z34=0,T34<>"")),IF(AE34="","",IF(AE34=0,"",IF(AF34<0,"-","+"))),"") | V34: =IF(OR(Z34>0,AND(Z34=0,T34<>"")),IF(AE34="","",IF(AG34<0,(AG34*(-1)),AG34)),"") | W34: =IF(OR(Z34>0,AND(Z34=0,T34<>"")),IF(AE34="","",":"),"") | X34: =IF(OR(Z34>0,AND(Z34=0,T34<>"")),IF(AE34="","",IF(AF34>0,PRODUCT(AH34,100),PRODUCT(AH34,-100))),"") | Z34: =IF(C34=" "," ",IF(OR(TODAY()<C34,Stammdaten!$C$8>C34,AND(Stammdaten!$C$9>0,C34>Stammdaten!$C$9)),0,IF(WEEKDAY(C34)=$G$17,IF(OR($E$9="VZ",$E$9="Schicht"),$AH$17/24,IF($D$15<>"x",$AH$17/24,$G$15)),IF(WEEKDAY(C34)=$H$17,IF(OR($E$9="VZ",$E$9="Schicht"),$AH$17/24,IF($D$15<>"x",$AH$17/24,$H$15)),IF(WEEKDAY(C34)=$I$17,IF(OR($E$9="VZ",$E$9="Schicht"),$AH$17/24,IF($D$15<>"x",$AH$17/24,$I$15)),IF(WEEKDAY(C34)=$K$17,IF(OR($E$9="VZ",$E$9="Schicht"),$AH$17/24,IF($D$15<>"x",$AH$17/24,$K$15)),IF(WEEKDAY(C34)=$L$17,IF(OR($E$9="VZ",$E$9="Schicht"),$AH$17/24,IF($D$15<>"x",$AH$17/24,$L$15)),TIMEVALUE("0:00")))))))) -> 0 | AA34: =IF(I34="-",(-J34)*24,IF(I34="+",(+J34)*24,0)) -> 0 | AB34: =IF(L34>0,(L34-K34)+(N34-M34)+(P34-O34),TIMEVALUE("0:00")) -> 0 | AC34: =IF(G34="",0,IF(G34<=TIMEVALUE("6:30"),TIMEVALUE("0:00"),IF(G34>TIMEVALUE("9:45"),TIMEVALUE("0:45"),TIMEVALUE("0:30")))) -> 0 | AD34: =IF(OR(D34="BZ",D34="DB",D34="FZA",D34="K"),0,IF(AC34>AB34,-AC34*24,-AB34*24)) -> 0 | AE34: =IF(C34<>" ",AF34,"") -> -571.83333 | AF34: =SUM(AF33,AA34,AD34) -> -571.83333 | AG34: =ROUNDDOWN(ROUND(AF34,2),0) -> -571 | AH34: =SUM(AF34-AG34)/100*60 -> -0.5
... B49: =IF(C49=" "," ",IF(WEEKDAY(C49)=1,"So",IF(WEEKDAY(C49)=7,"Sa",IF(WEEKDAY(C49)=2,"Mo",IF(WEEKDAY(C49)=3,"Di",IF(WEEKDAY(C49)=4,"Mi",IF(WEEKDAY(C49)=5,"Do",IF(WEEKDAY(C49)=6,"Fr","")))))))) -> Mo | C49: =IF(C48=" "," ",IF(MONTH(C48+1)<>MONTH(C48)," ",C48+1)) -> 44313 | G49: =IF(C49=" ","",IF(D49="FZA",0,IF(OR(D49="",D49="dA"),IF(AND(F49>0,E49>0),(F49-E49),0),IF(D49="F",(F49-E49),H49)))) -> 0 | H49: =IF(OR(D49="KK",D49="F",D49="SU",D49="U"),0,Z49) -> 0.32638889 | I49: =IF(G49=H49," ",IF(G49>H49,"+","-")) -> - | J49: =IF(H49=G49," ",IF(H49>G49,(H49-G49),(G49-H49))) -> 0.32638889 | Q49: =IF(R49="","","-") | R49: =IF(AD49=0,"",AD49/-24) | T49: =IF(C49=" ","",IF(G49>0,G49+AD49/24,"")) | U49: =IF(OR(Z49>0,AND(Z49=0,T49<>"")),IF(AE49="","",IF(AE49=0,"",IF(AF49<0,"-","+"))),"") -> - | V49: =IF(OR(Z49>0,AND(Z49=0,T49<>"")),IF(AE49="","",IF(AG49<0,(AG49*(-1)),AG49)),"") -> 658 | W49: =IF(OR(Z49>0,AND(Z49=0,T49<>"")),IF(AE49="","",":"),"") -> : | X49: =IF(OR(Z49>0,AND(Z49=0,T49<>"")),IF(AE49="","",IF(AF49>0,PRODUCT(AH49,100),PRODUCT(AH49,-100))),"") -> 1.3642421e-11 | Z49: =IF(C49=" "," ",IF(OR(TODAY()<C49,Stammdaten!$C$8>C49,AND(Stammdaten!$C$9>0,C49>Stammdaten!$C$9)),0,IF(WEEKDAY(C49)=$G$17,IF(OR($E$9="VZ",$E$9="Schicht"),$AH$17/24,IF($D$15<>"x",$AH$17/24,$G$15)),IF(WEEKDAY(C49)=$H$17,IF(OR($E$9="VZ",$E$9="Schicht"),$AH$17/24,IF($D$15<>"x",$AH$17/24,$H$15)),IF(WEEKDAY(C49)=$I$17,IF(OR($E$9="VZ",$E$9="Schicht"),$AH$17/24,IF($D$15<>"x",$AH$17/24,$I$15)),IF(WEEKDAY(C49)=$K$17,IF(OR($E$9="VZ",$E$9="Schicht"),$AH$17/24,IF($D$15<>"x",$AH$17/24,$K$15)),IF(WEEKDAY(C49)=$L$17,IF(OR($E$9="VZ",$E$9="Schicht"),$AH$17/24,IF($D$15<>"x",$AH$17/24,$L$15)),TIMEVALUE("0:00")))))))) -> 0.32638889 | AA49: =IF(I49="-",(-J49)*24,IF(I49="+",(+J49)*24,0)) -> -7.8333333 | AB49: =IF(L49>0,(L49-K49)+(N49-M49)+(P49-O49),TIMEVALUE("0:00")) -> 0 | AC49: =IF(G49="",0,IF(G49<=TIMEVALUE("6:30"),TIMEVALUE("0:00"),IF(G49>TIMEVALUE("9:45"),TIMEVALUE("0:45"),TIMEVALUE("0:30")))) -> 0 | AD49: =IF(OR(D49="BZ",D49="DB",D49="FZA",D49="K"),0,IF(AC49>AB49,-AC49*24,-AB49*24)) -> 0 | AE49: =IF(C49<>" ",AF49,"") -> -658 | AF49: =SUM(AF48,AA49,AD49) -> -658 | AG49: =ROUNDDOWN(ROUND(AF49,2),0) -> -658 | AH49: =SUM(AF49-AG49)/100*60 -> -1.3642421e-13
B50: =IF(C50=" "," ",IF(WEEKDAY(C50)=1,"So",IF(WEEKDAY(C50)=7,"Sa",IF(WEEKDAY(C50)=2,"Mo",IF(WEEKDAY(C50)=3,"Di",IF(WEEKDAY(C50)=4,"Mi",IF(WEEKDAY(C50)=5,"Do",IF(WEEKDAY(C50)=6,"Fr","")))))))) -> Di | C50: =IF(C49=" "," ",IF(MONTH(C49+1)<>MONTH(C49)," ",C49+1)) -> 44314 | G50: =IF(C50=" ","",IF(D50="FZA",0,IF(OR(D50="",D50="dA"),IF(AND(F50>0,E50>0),(F50-E50),0),IF(D50="F",(F50-E50),H50)))) -> 0 | H50: =IF(OR(D50="KK",D50="F",D50="SU",D50="U"),0,Z50) -> 0.32638889 | I50: =IF(C50=" ","",IF(G50=H50," ",IF(G50>H50,"+","-"))) -> - | J50: =IF(C50=" ","",IF(H50=G50," ",IF(H50>G50,(H50-G50),(G50-H50)))) -> 0.32638889 | Q50: =IF(R50="","","-") | R50: =IF(AD50=0,"",AD50/-24) | T50: =IF(C50=" ","",IF(G50>0,G50+AD50/24,"")) | U50: =IF(OR(Z50>0,AND(Z50=0,T50<>"")),IF(AE50="","",IF(AE50=0,"",IF(AF50<0,"-","+"))),"") -> - | V50: =IF(OR(Z50>0,AND(Z50=0,T50<>"")),IF(AE50="","",IF(AG50<0,(AG50*(-1)),AG50)),"") -> 665 | W50: =IF(OR(Z50>0,AND(Z50=0,T50<>"")),IF(AE50="","",":"),"") -> : | X50: =IF(OR(Z50>0,AND(Z50=0,T50<>"")),IF(AE50="","",IF(AF50>0,PRODUCT(AH50,100),PRODUCT(AH50,-100))),"") -> 50 | Z50: =IF(C50=" "," ",IF(OR(TODAY()<C50,Stammdaten!$C$8>C50,AND(Stammdaten!$C$9>0,C50>Stammdaten!$C$9)),0,IF(WEEKDAY(C50)=$G$17,IF(OR($E$9="VZ",$E$9="Schicht"),$AH$17/24,IF($D$15<>"x",$AH$17/24,$G$15)),IF(WEEKDAY(C50)=$H$17,IF(OR($E$9="VZ",$E$9="Schicht"),$AH$17/24,IF($D$15<>"x",$AH$17/24,$H$15)),IF(WEEKDAY(C50)=$I$17,IF(OR($E$9="VZ",$E$9="Schicht"),$AH$17/24,IF($D$15<>"x",$AH$17/24,$I$15)),IF(WEEKDAY(C50)=$K$17,IF(OR($E$9="VZ",$E$9="Schicht"),$AH$17/24,IF($D$15<>"x",$AH$17/24,$K$15)),IF(WEEKDAY(C50)=$L$17,IF(OR($E$9="VZ",$E$9="Schicht"),$AH$17/24,IF($D$15<>"x",$AH$17/24,$L$15)),TIMEVALUE("0:00")))))))) -> 0.32638889 | AA50: =IF(I50="-",(-J50)*24,IF(I50="+",(+J50)*24,0)) -> -7.8333333 | AB50: =IF(L50>0,(L50-K50)+(N50-M50)+(P50-O50),TIMEVALUE("0:00")) -> 0 | AC50: =IF(G50="",0,IF(G50<=TIMEVALUE("6:30"),TIMEVALUE("0:00"),IF(G50>TIMEVALUE("9:45"),TIMEVALUE("0:45"),TIMEVALUE("0:30")))) -> 0 | AD50: =IF(OR(D50="BZ",D50="DB",D50="FZA",D50="K"),0,IF(AC50>AB50,-AC50*24,-AB50*24)) -> 0 | AE50: =IF(C50<>" ",AF50,"") -> -665.83333 | AF50: =SUM(AF49,AA50,AD50) -> -665.83333 | AG50: =ROUNDDOWN(ROUND(AF50,2),0) -> -665 | AH50: =SUM(AF50-AG50)/100*60 -> -0.5
B51: =IF(C51=" "," ",IF(WEEKDAY(C51)=1,"So",IF(WEEKDAY(C51)=7,"Sa",IF(WEEKDAY(C51)=2,"Mo",IF(WEEKDAY(C51)=3,"Di",IF(WEEKDAY(C51)=4,"Mi",IF(WEEKDAY(C51)=5,"Do",IF(WEEKDAY(C51)=6,"Fr","")))))))) -> Mi | C51: =IF(C50=" "," ",IF(MONTH(C50+1)<>MONTH(C50)," ",C50+1)) -> 44315 | G51: =IF(C51=" ","",IF(D51="FZA",0,IF(OR(D51="",D51="dA"),IF(AND(F51>0,E51>0),(F51-E51),0),IF(D51="F",(F51-E51),H51)))) -> 0 | H51: =IF(OR(D51="KK",D51="F",D51="SU",D51="U"),0,Z51) -> 0.32638889 | I51: =IF(C51=" ","",IF(G51=H51," ",IF(G51>H51,"+","-"))) -> - | J51: =IF(C51=" ","",IF(H51=G51," ",IF(H51>G51,(H51-G51),(G51-H51)))) -> 0.32638889 | Q51: =IF(R51="","","-") | R51: =IF(AD51=0,"",AD51/-24) | T51: =IF(C51=" ","",IF(G51>0,G51+AD51/24,"")) | U51: =IF(OR(Z51>0,AND(Z51=0,T51<>"")),IF(AE51="","",IF(AE51=0,"",IF(AF51<0,"-","+"))),"") -> - | V51: =IF(OR(Z51>0,AND(Z51=0,T51<>"")),IF(AE51="","",IF(AG51<0,(AG51*(-1)),AG51)),"") -> 673 | W51: =IF(OR(Z51>0,AND(Z51=0,T51<>"")),IF(AE51="","",":"),"") -> : | X51: =IF(OR(Z51>0,AND(Z51=0,T51<>"")),IF(AE51="","",IF(AF51>0,PRODUCT(AH51,100),PRODUCT(AH51,-100))),"") -> 40 | Z51: =IF(C51=" "," ",IF(OR(TODAY()<C51,Stammdaten!$C$8>C51,AND(Stammdaten!$C$9>0,C51>Stammdaten!$C$9)),0,IF(WEEKDAY(C51)=$G$17,IF(OR($E$9="VZ",$E$9="Schicht"),$AH$17/24,IF($D$15<>"x",$AH$17/24,$G$15)),IF(WEEKDAY(C51)=$H$17,IF(OR($E$9="VZ",$E$9="Schicht"),$AH$17/24,IF($D$15<>"x",$AH$17/24,$H$15)),IF(WEEKDAY(C51)=$I$17,IF(OR($E$9="VZ",$E$9="Schicht"),$AH$17/24,IF($D$15<>"x",$AH$17/24,$I$15)),IF(WEEKDAY(C51)=$K$17,IF(OR($E$9="VZ",$E$9="Schicht"),$AH$17/24,IF($D$15<>"x",$AH$17/24,$K$15)),IF(WEEKDAY(C51)=$L$17,IF(OR($E$9="VZ",$E$9="Schicht"),$AH$17/24,IF($D$15<>"x",$AH$17/24,$L$15)),TIMEVALUE("0:00")))))))) -> 0.32638889 | AA51: =IF(I51="-",(-J51)*24,IF(I51="+",(+J51)*24,0)) -> -7.8333333 | AB51: =IF(L51>0,(L51-K51)+(N51-M51)+(P51-O51),TIMEVALUE("0:00")) -> 0 | AC51: =IF(G51="",0,IF(G51<=TIMEVALUE("6:30"),TIMEVALUE("0:00"),IF(G51>TIMEVALUE("9:45"),TIMEVALUE("0:45"),TIMEVALUE("0:30")))) -> 0 | AD51: =IF(OR(D51="BZ",D51="DB",D51="FZA",D51="K"),0,IF(AC51>AB51,-AC51*24,-AB51*24)) -> 0 | AE51: =IF(C51<>" ",AF51,"") -> -673.66667 | AF51: =SUM(AF50,AA51,AD51) -> -673.66667 | AG51: =ROUNDDOWN(ROUND(AF51,2),0) -> -673 | AH51: =SUM(AF51-AG51)/100*60 -> -0.4
B52: =IF(C52=" "," ",IF(WEEKDAY(C52)=1,"So",IF(WEEKDAY(C52)=7,"Sa",IF(WEEKDAY(C52)=2,"Mo",IF(WEEKDAY(C52)=3,"Di",IF(WEEKDAY(C52)=4,"Mi",IF(WEEKDAY(C52)=5,"Do",IF(WEEKDAY(C52)=6,"Fr","")))))))) | C52: =IF(C51=" "," ",IF(MONTH(C51+1)<>MONTH(C51)," ",C51+1)) | G52: =IF(C52=" ","",IF(D52="FZA",0,IF(OR(D52="",D52="dA"),IF(AND(F52>0,E52>0),(F52-E52),0),IF(D52="F",(F52-E52),H52)))) | H52: =IF(OR(D52="KK",D52="F",D52="SU",D52="U"),0,Z52) | I52: =IF(C52=" ","",IF(G52=H52," ",IF(G52>H52,"+","-"))) | J52: =IF(C52=" ","",IF(H52=G52," ",IF(H52>G52,(H52-G52),(G52-H52)))) | Q52: =IF(R52="","","-") | R52: =IF(AD52=0,"",AD52/-24) | T52: =IF(C52=" ","",IF(G52>0,G52+AD52/24,"")) | U52: =IF(OR(Z52>0,AND(Z52=0,T52<>"")),IF(AE52="","",IF(AE52=0,"",IF(AF52<0,"-","+"))),"") | V52: =IF(OR(Z52>0,AND(Z52=0,T52<>"")),IF(AE52="","",IF(AG52<0,(AG52*(-1)),AG52)),"") | W52: =IF(OR(Z52>0,AND(Z52=0,T52<>"")),IF(AE52="","",":"),"") | X52: =IF(OR(Z52>0,AND(Z52=0,T52<>"")),IF(AE52="","",IF(AF52>0,PRODUCT(AH52,100),PRODUCT(AH52,-100))),"") | Z52: =IF(C52=" "," ",IF(OR(TODAY()<C52,Stammdaten!$C$8>C52,AND(Stammdaten!$C$9>0,C52>Stammdaten!$C$9)),0,IF(WEEKDAY(C52)=$G$17,IF(OR($E$9="VZ",$E$9="Schicht"),$AH$17/24,IF($D$15<>"x",$AH$17/24,$G$15)),IF(WEEKDAY(C52)=$H$17,IF(OR($E$9="VZ",$E$9="Schicht"),$AH$17/24,IF($D$15<>"x",$AH$17/24,$H$15)),IF(WEEKDAY(C52)=$I$17,IF(OR($E$9="VZ",$E$9="Schicht"),$AH$17/24,IF($D$15<>"x",$AH$17/24,$I$15)),IF(WEEKDAY(C52)=$K$17,IF(OR($E$9="VZ",$E$9="Schicht"),$AH$17/24,IF($D$15<>"x",$AH$17/24,$K$15)),IF(WEEKDAY(C52)=$L$17,IF(OR($E$9="VZ",$E$9="Schicht"),$AH$17/24,IF($D$15<>"x",$AH$17/24,$L$15)),TIMEVALUE("0:00")))))))) | AA52: =IF(I52="-",(-J52)*24,IF(I52="+",(+J52)*24,0)) -> 0 | AB52: =IF(L52>0,(L52-K52)+(N52-M52)+(P52-O52),TIMEVALUE("0:00")) -> 0 | AC52: =IF(G52="",0,IF(G52<=TIMEVALUE("6:30"),TIMEVALUE("0:00"),IF(G52>TIMEVALUE("9:45"),TIMEVALUE("0:45"),TIMEVALUE("0:30")))) -> 0 | AD52: =IF(OR(D52="BZ",D52="DB",D52="FZA",D52="K"),0,IF(AC52>AB52,-AC52*24,-AB52*24)) -> 0 | AE52: =IF(C52<>" ",AF52,"") | AF52: =SUM(AF51,AA52,AD52) -> -673.66667 | AG52: =ROUNDDOWN(ROUND(AF52,2),0) -> -673 | AH52: =SUM(AF52-AG52)/100*60 -> -0.4
V53: Std. | X53: Min.
B54: Information | S54: Arbeitszeitgutschrift1 | W54: :
B55: Krankheitstage | D55: =COUNTIF($D$22:$D$52,"K") -> 0 | S55: Übertrag | U55: =IF(AF52<0,"-","+") -> - | V55: =IF((AG52+V54)<0,(AG52+V54)*-1,(AG52+V54)) -> 673 | W55: : | X55: =IF((AH52+X54)<0,((AH52*100+X54)*(-1)),(AH52*100+X54)) -> 40
B56: Urlaubstage | D56: =COUNTIF($D$22:$D$52,"U") -> 0
B58: =IF($E$9="TZ",IF($V$55>$AA$14*24,"Hinweis: Zeitkontenspanne überschritten. Bitte Rücksprache mit Vorgesetzter/Vorgesetztem halten.",""),IF($V$55>40,"Hinweis: Zeitkontenspanne überschritten. Bitte Rücksprache mit Vorgesetzter/Vorgesetztem halten.","")) -> Hinweis: Zeitkontenspanne überschritten. Bitte Rücksprache mit Vorgesetzter/Vorgesetztem halten.
O61: geprüft am²
C64: Datum, Unterschrift Beschäftigte:r | O64: Name
O67: Unterschrift
B70: 1 vgl. Nr. 4 der Nutzungshinweise
B71: 2 vgl. Nr. 3 der Nutzungshinweise

Sheet 5
B2: A R B E I T S Z E I T N A C H W E I S
B3: UNIVERSITÄT BREMEN
B5: Name: | D5: =Stammdaten!C3&", "&Stammdaten!C4 -> , | J5: Monat | S5: Übertrag aus Vormonat | V5: Std. | X5: Min. | Z5: Achtung: zur Berechnung dieser Datei wurde umgestellt auf: Datei \ Optionen \ Erweitert \ Beim Berechnen dieser Arbeitsmappe \ 1904-Datumswerte verwenden Nur dann können negative (berechnete) Stunden angezeigt und verarbeitet werden.
B6: =Stammdaten!B5&":" -> Organisationseinheit: | D6: =Stammdaten!C5 -> 0 | J6: =DATE(Stammdaten!C6,5,1) -> 44316 | U6: =IF('4'!$AF$52<0,"-","+") -> - | V6: ='4'!$V$55 -> 673 | W6: : | X6: ='4'!$X$55 -> 40
B8: Status | E8: Arbeitszeitmodell | H8: =IF(E9="TZ","Wöchentl. Arbeitszeit bei TZ","")
B9: =Stammdaten!$C$7 -> tarifbeschäftigt TV-L | E9: VZ
E10: =IF(E9="TZ","bitte ggf. Wochenarbeitstage wählen u. Stundenverteilung anpassen","")
G12: =IF($E$9="VZ","Mo",IF(G13="x","Mo","-")) -> Mo | H12: =IF($E$9="VZ","Di",IF(H13="x","Di","-")) -> Di | I12: =IF($E$9="VZ","Mi",IF(I13="x","Mi","-")) -> Mi | K12: =IF($E$9="VZ","Do",IF(K13="x","Do","-")) -> Do | L12: =IF($E$9="VZ","Fr",IF(L13="x","Fr","-")) -> Fr | M12: Summe
D13: Stundenverteilung | G13: x | H13: x | I13: x | K13: x | L13: x | M13: =COUNTIF(G13:L13,"x") -> 5
E14: gleichmäßig | G14: =IF(OR($E$9="VZ",$E$9="Schicht"),$AD$17/24,IF($E$9="TZ",IF($D$15<>"x",IF(G$13="x",($J$9/COUNTIF($G$13:$L$13,"x")/24),""),""),"")) -> 0.32666667 | H14: =IF(OR($E$9="VZ",$E$9="Schicht"),$AD$17/24,IF($E$9="TZ",IF($D$15<>"x",IF(H$13="x",($J$9/COUNTIF($G$13:$L$13,"x")/24),""),""),"")) -> 0.32666667 | I14: =IF(OR($E$9="VZ",$E$9="Schicht"),$AD$17/24,IF($E$9="TZ",IF($D$15<>"x",IF(I$13="x",($J$9/COUNTIF($G$13:$L$13,"x")/24),""),""),"")) -> 0.32666667 | K14: =IF(OR($E$9="VZ",$E$9="Schicht"),$AD$17/24,IF($E$9="TZ",IF($D$15<>"x",IF(K$13="x",($J$9/COUNTIF($G$13:$L$13,"x")/24),""),""),"")) -> 0.32666667 | L14: =IF(OR($E$9="VZ",$E$9="Schicht"),$AD$17/24,IF($E$9="TZ",IF($D$15<>"x",IF(L$13="x",($J$9/COUNTIF($G$13:$L$13,"x")/24),""),""),"")) -> 0.32666667 | M14: =IF($D$15<>"x",SUM(G14:L14)*24,"") -> 39.2 | AA14: =IF($D$15="x",SUM(G15:L15),SUM(G14:L14)) -> 1.6333333
E15: ungleichmäßig | M15: =IF($D$15="x",SUMIFS(G15:L15,G13:L13,"x")*24,"")
C16: Arbeitstage im Monat
C17: =SUMPRODUCT(COUNTIF(B22:B52,G12:L12)) -> 22 | G17: =IF(E9="VZ",2,IF(G13="x",2,0)) -> 2 | H17: =IF(E9="VZ",3,IF(H13="x",3,0)) -> 3 | I17: =IF(E9="VZ",4,IF(I13="x",4,0)) -> 4 | K17: =IF(E9="VZ",5,IF(K13="x",5,0)) -> 5 | L17: =IF(E9="VZ",6,IF(L13="x",6,0)) -> 6 | Z17: =(X6/100) -> 0.4 | AA17: =COUNTIF($G$13:$L$13,"x") -> 5 | AC17: Regelm. tgl. Az. | AD17: =IF($E$9="VZ",IF($B$9="tarifbeschäftigt TV-L",39.2/5,IF($B$9="tarifbeschäftigt TVöD",39/5,IF($B$9="verbeamtet",40/5))),IF($E$9="Schicht",38.5/5,IF($E$9="TZ",IF($D$15<>"x",$J$9/$AA$17)))) -> 7.84 | AE17: =AD17/24 -> 0.32666667 | AF17: =TEXT(AE17,"H:MM") -> 7:50 | AG17: =TIMEVALUE(AF17) -> 0.32638889 | AH17: =AG17*24 -> 7.8333333
C18: =IF(AND($E$9="TZ",$AA14<>$J$9/24),"Fehler: Summe der Stundenverteilung stimmt nicht mit wöchentlicher Arbeitszeit überein!","")
C21: Datum | D21: Son-der- tage | E21: Anwesenheitszeit Kommt Geht Ist | H21: Soll- Arbeits- zeit | I21: Diff. Soll Anw.-Ist | K21: Erste Unterbrechung Beginn Ende | M21: Zweite Unterbrechung Beginn Ende | O21: Dritte Unterbrechung Beginn Ende | Q21: anzurechn. Pause bzw. Unterbr. | S21: Bemerkung (z.B. std.weiser FZA, mob. Arbeiten, Dienstreise) | T21: Ist-Arbeits-zeit | U21: Aufrechnung Gesamt in Std.:Min. | Z21: Soll- Arbeits zeit | AA21: Diff. Arbzeit Anw.Zeit | AB21: Ist Pause | AC21: Soll Pause | AD21: anzu rechn. Pause | AE21: Aufrechnung | AF21: =IF(U6="-",-V6-(Z17*100/60),V6+(Z17*100/60)) -> -673.66667 | AG21: Std. | AH21: Min
B22: =IF(C22=" "," ",IF(WEEKDAY(C22)=1,"So",IF(WEEKDAY(C22)=7,"Sa",IF(WEEKDAY(C22)=2,"Mo",IF(WEEKDAY(C22)=3,"Di",IF(WEEKDAY(C22)=4,"Mi",IF(WEEKDAY(C22)=5,"Do",IF(WEEKDAY(C22)=6,"Fr","")))))))) -> Do | C22: =DATE(Stammdaten!C6,MONTH(J6),1) -> 44316 | G22: =IF(C22=" ","",IF(D22="FZA",0,IF(OR(D22="",D22="dA"),IF(AND(F22>0,E22>0),(F22-E22),0),IF(D22="F",(F22-E22),H22)))) -> 0 | H22: =IF(OR(D22="KK",D22="F",D22="SU",D22="U"),0,Z22) -> 0.32638889 | I22: =IF(G22=H22," ",IF(G22>H22,"+","-")) -> - | J22: =IF(H22=G22," ",IF(H22>G22,(H22-G22),(G22-H22))) -> 0.32638889 | Q22: =IF(R22="","","-") | R22: =IF(AD22=0,"",AD22/-24) | T22: =IF(C22=" ","",IF(G22>0,G22+AD22/24,"")) | U22: =IF(OR(Z22>0,AND(Z22=0,T22<>"")),IF(AE22="","",IF(AE22=0,"",IF(AF22<0,"-","+"))),"") -> - | V22: =IF(OR(Z22>0,AND(Z22=0,T22<>"")),IF(AE22="","",IF(AG22<0,(AG22*(-1)),AG22)),"") -> 681 | W22: =IF(OR(Z22>0,AND(Z22=0,T22<>"")),IF(AE22="","",":"),"") -> : | X22: =IF(OR(Z22>0,AND(Z22=0,T22<>"")),IF(AE22="","",IF(AF22>0,PRODUCT(AH22,100),PRODUCT(AH22,-100))),"") -> 30 | Z22: =IF(C22=" "," ",IF(OR(TODAY()<C22,Stammdaten!$C$8>C22,AND(Stammdaten!$C$9>0,C22>Stammdaten!$C$9)),0,IF(WEEKDAY(C22)=$G$17,IF(OR($E$9="VZ",$E$9="Schicht"),$AH$17/24,IF($D$15<>"x",$AH$17/24,$G$15)),IF(WEEKDAY(C22)=$H$17,IF(OR($E$9="VZ",$E$9="Schicht"),$AH$17/24,IF($D$15<>"x",$AH$17/24,$H$15)),IF(WEEKDAY(C22)=$I$17,IF(OR($E$9="VZ",$E$9="Schicht"),$AH$17/24,IF($D$15<>"x",$AH$17/24,$I$15)),IF(WEEKDAY(C22)=$K$17,IF(OR($E$9="VZ",$E$9="Schicht"),$AH$17/24,IF($D$15<>"x",$AH$17/24,$K$15)),IF(WEEKDAY(C22)=$L$17,IF(OR($E$9="VZ",$E$9="Schicht"),$AH$17/24,IF($D$15<>"x",$AH$17/24,$L$15)),TIMEVALUE("0:00")))))))) -> 0.32638889 | AA22: =IF(I22="-",(-J22)*24,IF(I22="+",(+J22)*24,0)) -> -7.8333333 | AB22: =IF(L22>0,(L22-K22)+(N22-M22)+(P22-O22),TIMEVALUE("0:00")) -> 0 | AC22: =IF(G22="",0,IF(G22<=TIMEVALUE("6:30"),TIMEVALUE("0:00"),IF(G22>TIMEVALUE("9:45"),TIMEVALUE("0:45"),TIMEVALUE("0:30")))) -> 0 | AD22: =IF(OR(D22="BZ",D22="DB",D22="FZA",D22="K"),0,IF(AC22>AB22,-AC22*24,-AB22*24)) -> 0 | AE22: =IF(C22<>" ",AF22,"") -> -681.5 | AF22: =SUM(AF21,AA22,AD22) -> -681.5 | AG22: =ROUNDDOWN(ROUND(AF22,2),0) -> -681 | AH22: =SUM(AF22-AG22)/100*60 -> -0.3
B23: =IF(C23=" "," ",IF(WEEKDAY(C23)=1,"So",IF(WEEKDAY(C23)=7,"Sa",IF(WEEKDAY(C23)=2,"Mo",IF(WEEKDAY(C23)=3,"Di",IF(WEEKDAY(C23)=4,"Mi",IF(WEEKDAY(C23)=5,"Do",IF(WEEKDAY(C23)=6,"Fr","")))))))) -> Fr | C23: =IF(C22=" "," ",IF(MONTH(C22+1)<>MONTH(C22)," ",C22+1)) -> 44317 | G23: =IF(C23=" ","",IF(D23="FZA",0,IF(OR(D23="",D23="dA"),IF(AND(F23>0,E23>0),(F23-E23),0),IF(D23="F",(F23-E23),H23)))) -> 0 | H23: =IF(OR(D23="KK",D23="F",D23="SU",D23="U"),0,Z23) -> 0.32638889 | I23: =IF(G23=H23," ",IF(G23>H23,"+","-")) -> - | J23: =IF(H23=G23," ",IF(H23>G23,(H23-G23),(G23-H23))) -> 0.32638889 | Q23: =IF(R23="","","-") | R23: =IF(AD23=0,"",AD23/-24) | T23: =IF(C23=" ","",IF(G23>0,G23+AD23/24,"")) | U23: =IF(OR(Z23>0,AND(Z23=0,T23<>"")),IF(AE23="","",IF(AE23=0,"",IF(AF23<0,"-","+"))),"") -> - | V23: =IF(OR(Z23>0,AND(Z23=0,T23<>"")),IF(AE23="","",IF(AG23<0,(AG23*(-1)),AG23)),"") -> 689 | W23: =IF(OR(Z23>0,AND(Z23=0,T23<>"")),IF(AE23="","",":"),"") -> : | X23: =IF(OR(Z23>0,AND(Z23=0,T23<>"")),IF(AE23="","",IF(AF23>0,PRODUCT(AH23,100),PRODUCT(AH23,-100))),"") -> 20 | Z23: =IF(C23=" "," ",IF(OR(TODAY()<C23,Stammdaten!$C$8>C23,AND(Stammdaten!$C$9>0,C23>Stammdaten!$C$9)),0,IF(WEEKDAY(C23)=$G$17,IF(OR($E$9="VZ",$E$9="Schicht"),$AH$17/24,IF($D$15<>"x",$AH$17/24,$G$15)),IF(WEEKDAY(C23)=$H$17,IF(OR($E$9="VZ",$E$9="Schicht"),$AH$17/24,IF($D$15<>"x",$AH$17/24,$H$15)),IF(WEEKDAY(C23)=$I$17,IF(OR($E$9="VZ",$E$9="Schicht"),$AH$17/24,IF($D$15<>"x",$AH$17/24,$I$15)),IF(WEEKDAY(C23)=$K$17,IF(OR($E$9="VZ",$E$9="Schicht"),$AH$17/24,IF($D$15<>"x",$AH$17/24,$K$15)),IF(WEEKDAY(C23)=$L$17,IF(OR($E$9="VZ",$E$9="Schicht"),$AH$17/24,IF($D$15<>"x",$AH$17/24,$L$15)),TIMEVALUE("0:00")))))))) -> 0.32638889 | AA23: =IF(I23="-",(-J23)*24,IF(I23="+",(+J23)*24,0)) -> -7.8333333 | AB23: =IF(L23>0,(L23-K23)+(N23-M23)+(P23-O23),TIMEVALUE("0:00")) -> 0 | AC23: =IF(G23="",0,IF(G23<=TIMEVALUE("6:30"),TIMEVALUE("0:00"),IF(G23>TIMEVALUE("9:45"),TIMEVALUE("0:45"),TIMEVALUE("0:30")))) -> 0 | AD23: =IF(OR(D23="BZ",D23="DB",D23="FZA",D23="K"),0,IF(AC23>AB23,-AC23*24,-AB23*24)) -> 0 | AE23: =IF(C23<>" ",AF23,"") -> -689.33333 | AF23: =SUM(AF22,AA23,AD23) -> -689.33333 | AG23: =ROUNDDOWN(ROUND(AF23,2),0) -> -689 | AH23: =SUM(AF23-AG23)/100*60 -> -0.2
B24: =IF(C24=" "," ",IF(WEEKDAY(C24)=1,"So",IF(WEEKDAY(C24)=7,"Sa",IF(WEEKDAY(C24)=2,"Mo",IF(WEEKDAY(C24)=3,"Di",IF(WEEKDAY(C24)=4,"Mi",IF(WEEKDAY(C24)=5,"Do",IF(WEEKDAY(C24)=6,"Fr","")))))))) -> Sa | C24: =IF(C23=" "," ",IF(MONTH(C23+1)<>MONTH(C23)," ",C23+1)) -> 44318 | G24: =IF(C24=" ","",IF(D24="FZA",0,IF(OR(D24="",D24="dA"),IF(AND(F24>0,E24>0),(F24-E24),0),IF(D24="F",(F24-E24),H24)))) -> 0 | H24: =IF(OR(D24="KK",D24="F",D24="SU",D24="U"),0,Z24) -> 0 | I24: =IF(G24=H24," ",IF(G24>H24,"+","-")) | J24: =IF(H24=G24," ",IF(H24>G24,(H24-G24),(G24-H24))) | Q24: =IF(R24="","","-") | R24: =IF(AD24=0,"",AD24/-24) | T24: =IF(C24=" ","",IF(G24>0,G24+AD24/24,"")) | U24: =IF(OR(Z24>0,AND(Z24=0,T24<>"")),IF(AE24="","",IF(AE24=0,"",IF(AF24<0,"-","+"))),"") | V24: =IF(OR(Z24>0,AND(Z24=0,T24<>"")),IF(AE24="","",IF(AG24<0,(AG24*(-1)),AG24)),"") | W24: =IF(OR(Z24>0,AND(Z24=0,T24<>"")),IF(AE24="","",":"),"") | X24: =IF(OR(Z24>0,AND(Z24=0,T24<>"")),IF(AE24="","",IF(AF24>0,PRODUCT(AH24,100),PRODUCT(AH24,-100))),"") | Z24: =IF(C24=" "," ",IF(OR(TODAY()<C24,Stammdaten!$C$8>C24,AND(Stammdaten!$C$9>0,C24>Stammdaten!$C$9)),0,IF(WEEKDAY(C24)=$G$17,IF(OR($E$9="VZ",$E$9="Schicht"),$AH$17/24,IF($D$15<>"x",$AH$17/24,$G$15)),IF(WEEKDAY(C24)=$H$17,IF(OR($E$9="VZ",$E$9="Schicht"),$AH$17/24,IF($D$15<>"x",$AH$17/24,$H$15)),IF(WEEKDAY(C24)=$I$17,IF(OR($E$9="VZ",$E$9="Schicht"),$AH$17/24,IF($D$15<>"x",$AH$17/24,$I$15)),IF(WEEKDAY(C24)=$K$17,IF(OR($E$9="VZ",$E$9="Schicht"),$AH$17/24,IF($D$15<>"x",$AH$17/24,$K$15)),IF(WEEKDAY(C24)=$L$17,IF(OR($E$9="VZ",$E$9="Schicht"),$AH$17/24,IF($D$15<>"x",$AH$17/24,$L$15)),TIMEVALUE("0:00")))))))) -> 0 | AA24: =IF(I24="-",(-J24)*24,IF(I24="+",(+J24)*24,0)) -> 0 | AB24: =IF(L24>0,(L24-K24)+(N24-M24)+(P24-O24),TIMEVALUE("0:00")) -> 0 | AC24: =IF(G24="",0,IF(G24<=TIMEVALUE("6:30"),TIMEVALUE("0:00"),IF(G24>TIMEVALUE("9:45"),TIMEVALUE("0:45"),TIMEVALUE("0:30")))) -> 0 | AD24: =IF(OR(D24="BZ",D24="DB",D24="FZA",D24="K"),0,IF(AC24>AB24,-AC24*24,-AB24*24)) -> 0 | AE24: =IF(C24<>" ",AF24,"") -> -689.33333 | AF24: =SUM(AF23,AA24,AD24) -> -689.33333 | AG24: =ROUNDDOWN(ROUND(AF24,2),0) -> -689 | AH24: =SUM(AF24-AG24)/100*60 -> -0.2
B25: =IF(C25=" "," ",IF(WEEKDAY(C25)=1,"So",IF(WEEKDAY(C25)=7,"Sa",IF(WEEKDAY(C25)=2,"Mo",IF(WEEKDAY(C25)=3,"Di",IF(WEEKDAY(C25)=4,"Mi",IF(WEEKDAY(C25)=5,"Do",IF(WEEKDAY(C25)=6,"Fr","")))))))) -> So | C25: =IF(C24=" "," ",IF(MONTH(C24+1)<>MONTH(C24)," ",C24+1)) -> 44319 | G25: =IF(C25=" ","",IF(D25="FZA",0,IF(OR(D25="",D25="dA"),IF(AND(F25>0,E25>0),(F25-E25),0),IF(D25="F",(F25-E25),H25)))) -> 0 | H25: =IF(OR(D25="KK",D25="F",D25="SU",D25="U"),0,Z25) -> 0 | I25: =IF(G25=H25," ",IF(G25>H25,"+","-")) | J25: =IF(H25=G25," ",IF(H25>G25,(H25-G25),(G25-H25))) | Q25: =IF(R25="","","-") | R25: =IF(AD25=0,"",AD25/-24) | T25: =IF(C25=" ","",IF(G25>0,G25+AD25/24,"")) | U25: =IF(OR(Z25>0,AND(Z25=0,T25<>"")),IF(AE25="","",IF(AE25=0,"",IF(AF25<0,"-","+"))),"") | V25: =IF(OR(Z25>0,AND(Z25=0,T25<>"")),IF(AE25="","",IF(AG25<0,(AG25*(-1)),AG25)),"") | W25: =IF(OR(Z25>0,AND(Z25=0,T25<>"")),IF(AE25="","",":"),"") | X25: =IF(OR(Z25>0,AND(Z25=0,T25<>"")),IF(AE25="","",IF(AF25>0,PRODUCT(AH25,100),PRODUCT(AH25,-100))),"") | Z25: =IF(C25=" "," ",IF(OR(TODAY()<C25,Stammdaten!$C$8>C25,AND(Stammdaten!$C$9>0,C25>Stammdaten!$C$9)),0,IF(WEEKDAY(C25)=$G$17,IF(OR($E$9="VZ",$E$9="Schicht"),$AH$17/24,IF($D$15<>"x",$AH$17/24,$G$15)),IF(WEEKDAY(C25)=$H$17,IF(OR($E$9="VZ",$E$9="Schicht"),$AH$17/24,IF($D$15<>"x",$AH$17/24,$H$15)),IF(WEEKDAY(C25)=$I$17,IF(OR($E$9="VZ",$E$9="Schicht"),$AH$17/24,IF($D$15<>"x",$AH$17/24,$I$15)),IF(WEEKDAY(C25)=$K$17,IF(OR($E$9="VZ",$E$9="Schicht"),$AH$17/24,IF($D$15<>"x",$AH$17/24,$K$15)),IF(WEEKDAY(C25)=$L$17,IF(OR($E$9="VZ",$E$9="Schicht"),$AH$17/24,IF($D$15<>"x",$AH$17/24,$L$15)),TIMEVALUE("0:00")))))))) -> 0 | AA25: =IF(I25="-",(-J25)*24,IF(I25="+",(+J25)*24,0)) -> 0 | AB25: =IF(L25>0,(L25-K25)+(N25-M25)+(P25-O25),TIMEVALUE("0:00")) -> 0 | AC25: =IF(G25="",0,IF(G25<=TIMEVALUE("6:30"),TIMEVALUE("0:00"),IF(G25>TIMEVALUE("9:45"),TIMEVALUE("0:45"),TIMEVALUE("0:30")))) -> 0 | AD25: =IF(OR(D25="BZ",D25="DB",D25="FZA",D25="K"),0,IF(AC25>AB25,-AC25*24,-AB25*24)) -> 0 | AE25: =IF(C25<>" ",AF25,"") -> -689.33333 | AF25: =SUM(AF24,AA25,AD25) -> -689.33333 | AG25: =ROUNDDOWN(ROUND(AF25,2),0) -> -689 | AH25: =SUM(AF25-AG25)/100*60 -> -0.2
B26: =IF(C26=" "," ",IF(WEEKDAY(C26)=1,"So",IF(WEEKDAY(C26)=7,"Sa",IF(WEEKDAY(C26)=2,"Mo",IF(WEEKDAY(C26)=3,"Di",IF(WEEKDAY(C26)=4,"Mi",IF(WEEKDAY(C26)=5,"Do",IF(WEEKDAY(C26)=6,"Fr","")))))))) -> Mo | C26: =IF(C25=" "," ",IF(MONTH(C25+1)<>MONTH(C25)," ",C25+1)) -> 44320 | G26: =IF(C26=" ","",IF(D26="FZA",0,IF(OR(D26="",D26="dA"),IF(AND(F26>0,E26>0),(F26-E26),0),IF(D26="F",(F26-E26),H26)))) -> 0 | H26: =IF(OR(D26="KK",D26="F",D26="SU",D26="U"),0,Z26) -> 0.32638889 | I26: =IF(G26=H26," ",IF(G26>H26,"+","-")) -> - | J26: =IF(H26=G26," ",IF(H26>G26,(H26-G26),(G26-H26))) -> 0.32638889 | Q26: =IF(R26="","","-") | R26: =IF(AD26=0,"",AD26/-24) | T26: =IF(C26=" ","",IF(G26>0,G26+AD26/24,"")) | U26: =IF(OR(Z26>0,AND(Z26=0,T26<>"")),IF(AE26="","",IF(AE26=0,"",IF(AF26<0,"-","+"))),"") -> - | V26: =IF(OR(Z26>0,AND(Z26=0,T26<>"")),IF(AE26="","",IF(AG26<0,(AG26*(-1)),AG26)),"") -> 697 | W26: =IF(OR(Z26>0,AND(Z26=0,T26<>"")),IF(AE26="","",":"),"") -> : | X26: =IF(OR(Z26>0,AND(Z26=0,T26<>"")),IF(AE26="","",IF(AF26>0,PRODUCT(AH26,100),PRODUCT(AH26,-100))),"") -> 10 | Z26: =IF(C26=" "," ",IF(OR(TODAY()<C26,Stammdaten!$C$8>C26,AND(Stammdaten!$C$9>0,C26>Stammdaten!$C$9)),0,IF(WEEKDAY(C26)=$G$17,IF(OR($E$9="VZ",$E$9="Schicht"),$AH$17/24,IF($D$15<>"x",$AH$17/24,$G$15)),IF(WEEKDAY(C26)=$H$17,IF(OR($E$9="VZ",$E$9="Schicht"),$AH$17/24,IF($D$15<>"x",$AH$17/24,$H$15)),IF(WEEKDAY(C26)=$I$17,IF(OR($E$9="VZ",$E$9="Schicht"),$AH$17/24,IF($D$15<>"x",$AH$17/24,$I$15)),IF(WEEKDAY(C26)=$K$17,IF(OR($E$9="VZ",$E$9="Schicht"),$AH$17/24,IF($D$15<>"x",$AH$17/24,$K$15)),IF(WEEKDAY(C26)=$L$17,IF(OR($E$9="VZ",$E$9="Schicht"),$AH$17/24,IF($D$15<>"x",$AH$17/24,$L$15)),TIMEVALUE("0:00")))))))) -> 0.32638889 | AA26: =IF(I26="-",(-J26)*24,IF(I26="+",(+J26)*24,0)) -> -7.8333333 | AB26: =IF(L26>0,(L26-K26)+(N26-M26)+(P26-O26),TIMEVALUE("0:00")) -> 0 | AC26: =IF(G26="",0,IF(G26<=TIMEVALUE("6:30"),TIMEVALUE("0:00"),IF(G26>TIMEVALUE("9:45"),TIMEVALUE("0:45"),TIMEVALUE("0:30")))) -> 0 | AD26: =IF(OR(D26="BZ",D26="DB",D26="FZA",D26="K"),0,IF(AC26>AB26,-AC26*24,-AB26*24)) -> 0 | AE26: =IF(C26<>" ",AF26,"") -> -697.16667 | AF26: =SUM(AF25,AA26,AD26) -> -697.16667 | AG26: =ROUNDDOWN(ROUND(AF26,2),0) -> -697 | AH26: =SUM(AF26-AG26)/100*60 -> -0.1
B27: =IF(C27=" "," ",IF(WEEKDAY(C27)=1,"So",IF(WEEKDAY(C27)=7,"Sa",IF(WEEKDAY(C27)=2,"Mo",IF(WEEKDAY(C27)=3,"Di",IF(WEEKDAY(C27)=4,"Mi",IF(WEEKDAY(C27)=5,"Do",IF(WEEKDAY(C27)=6,"Fr","")))))))) -> Di | C27: =IF(C26=" "," ",IF(MONTH(C26+1)<>MONTH(C26)," ",C26+1)) -> 44321 | G27: =IF(C27=" ","",IF(D27="FZA",0,IF(OR(D27="",D27="dA"),IF(AND(F27>0,E27>0),(F27-E27),0),IF(D27="F",(F27-E27),H27)))) -> 0 | H27: =IF(OR(D27="KK",D27="F",D27="SU",D27="U"),0,Z27) -> 0.32638889 | I27: =IF(G27=H27," ",IF(G27>H27,"+","-")) -> - | J27: =IF(H27=G27," ",IF(H27>G27,(H27-G27),(G27-H27))) -> 0.32638889 | Q27: =IF(R27="","","-") | R27: =IF(AD27=0,"",AD27/-24) | T27: =IF(C27=" ","",IF(G27>0,G27+AD27/24,"")) | U27: =IF(OR(Z27>0,AND(Z27=0,T27<>"")),IF(AE27="","",IF(AE27=0,"",IF(AF27<0,"-","+"))),"") -> - | V27: =IF(OR(Z27>0,AND(Z27=0,T27<>"")),IF(AE27="","",IF(AG27<0,(AG27*(-1)),AG27)),"") -> 705 | W27: =IF(OR(Z27>0,AND(Z27=0,T27<>"")),IF(AE27="","",":"),"") -> : | X27: =IF(OR(Z27>0,AND(Z27=0,T27<>"")),IF(AE27="","",IF(AF27>0,PRODUCT(AH27,100),PRODUCT(AH27,-100))),"") -> 2.7284841e-11 | Z27: =IF(C27=" "," ",IF(OR(TODAY()<C27,Stammdaten!$C$8>C27,AND(Stammdaten!$C$9>0,C27>Stammdaten!$C$9)),0,IF(WEEKDAY(C27)=$G$17,IF(OR($E$9="VZ",$E$9="Schicht"),$AH$17/24,IF($D$15<>"x",$AH$17/24,$G$15)),IF(WEEKDAY(C27)=$H$17,IF(OR($E$9="VZ",$E$9="Schicht"),$AH$17/24,IF($D$15<>"x",$AH$17/24,$H$15)),IF(WEEKDAY(C27)=$I$17,IF(OR($E$9="VZ",$E$9="Schicht"),$AH$17/24,IF($D$15<>"x",$AH$17/24,$I$15)),IF(WEEKDAY(C27)=$K$17,IF(OR($E$9="VZ",$E$9="Schicht"),$AH$17/24,IF($D$15<>"x",$AH$17/24,$K$15)),IF(WEEKDAY(C27)=$L$17,IF(OR($E$9="VZ",$E$9="Schicht"),$AH$17/24,IF($D$15<>"x",$AH$17/24,$L$15)),TIMEVALUE("0:00")))))))) -> 0.32638889 | AA27: =IF(I27="-",(-J27)*24,IF(I27="+",(+J27)*24,0)) -> -7.8333333 | AB27: =IF(L27>0,(L27-K27)+(N27-M27)+(P27-O27),TIMEVALUE("0:00")) -> 0 | AC27: =IF(G27="",0,IF(G27<=TIMEVALUE("6:30"),TIMEVALUE("0:00"),IF(G27>TIMEVALUE("9:45"),TIMEVALUE("0:45"),TIMEVALUE("0:30")))) -> 0 | AD27: =IF(OR(D27="BZ",D27="DB",D27="FZA",D27="K"),0,IF(AC27>AB27,-AC27*24,-AB27*24)) -> 0 | AE27: =IF(C27<>" ",AF27,"") -> -705 | AF27: =SUM(AF26,AA27,AD27) -> -705 | AG27: =ROUNDDOWN(ROUND(AF27,2),0) -> -705 | AH27: =SUM(AF27-AG27)/100*60 -> -2.7284841e-13
B28: =IF(C28=" "," ",IF(WEEKDAY(C28)=1,"So",IF(WEEKDAY(C28)=7,"Sa",IF(WEEKDAY(C28)=2,"Mo",IF(WEEKDAY(C28)=3,"Di",IF(WEEKDAY(C28)=4,"Mi",IF(WEEKDAY(C28)=5,"Do",IF(WEEKDAY(C28)=6,"Fr","")))))))) -> Mi | C28: =IF(C27=" "," ",IF(MONTH(C27+1)<>MONTH(C27)," ",C27+1)) -> 44322 | G28: =IF(C28=" ","",IF(D28="FZA",0,IF(OR(D28="",D28="dA"),IF(AND(F28>0,E28>0),(F28-E28),0),IF(D28="F",(F28-E28),H28)))) -> 0 | H28: =IF(OR(D28="KK",D28="F",D28="SU",D28="U"),0,Z28) -> 0.32638889 | I28: =IF(G28=H28," ",IF(G28>H28,"+","-")) -> - | J28: =IF(H28=G28," ",IF(H28>G28,(H28-G28),(G28-H28))) -> 0.32638889 | Q28: =IF(R28="","","-") | R28: =IF(AD28=0,"",AD28/-24) | T28: =IF(C28=" ","",IF(G28>0,G28+AD28/24,"")) | U28: =IF(OR(Z28>0,AND(Z28=0,T28<>"")),IF(AE28="","",IF(AE28=0,"",IF(AF28<0,"-","+"))),"") -> - | V28: =IF(OR(Z28>0,AND(Z28=0,T28<>"")),IF(AE28="","",IF(AG28<0,(AG28*(-1)),AG28)),"") -> 712 | W28: =IF(OR(Z28>0,AND(Z28=0,T28<>"")),IF(AE28="","",":"),"") -> : | X28: =IF(OR(Z28>0,AND(Z28=0,T28<>"")),IF(AE28="","",IF(AF28>0,PRODUCT(AH28,100),PRODUCT(AH28,-100))),"") -> 50 | Z28: =IF(C28=" "," ",IF(OR(TODAY()<C28,Stammdaten!$C$8>C28,AND(Stammdaten!$C$9>0,C28>Stammdaten!$C$9)),0,IF(WEEKDAY(C28)=$G$17,IF(OR($E$9="VZ",$E$9="Schicht"),$AH$17/24,IF($D$15<>"x",$AH$17/24,$G$15)),IF(WEEKDAY(C28)=$H$17,IF(OR($E$9="VZ",$E$9="Schicht"),$AH$17/24,IF($D$15<>"x",$AH$17/24,$H$15)),IF(WEEKDAY(C28)=$I$17,IF(OR($E$9="VZ",$E$9="Schicht"),$AH$17/24,IF($D$15<>"x",$AH$17/24,$I$15)),IF(WEEKDAY(C28)=$K$17,IF(OR($E$9="VZ",$E$9="Schicht"),$AH$17/24,IF($D$15<>"x",$AH$17/24,$K$15)),IF(WEEKDAY(C28)=$L$17,IF(OR($E$9="VZ",$E$9="Schicht"),$AH$17/24,IF($D$15<>"x",$AH$17/24,$L$15)),TIMEVALUE("0:00")))))))) -> 0.32638889 | AA28: =IF(I28="-",(-J28)*24,IF(I28="+",(+J28)*24,0)) -> -7.8333333 | AB28: =IF(L28>0,(L28-K28)+(N28-M28)+(P28-O28),TIMEVALUE("0:00")) -> 0 | AC28: =IF(G28="",0,IF(G28<=TIMEVALUE("6:30"),TIMEVALUE("0:00"),IF(G28>TIMEVALUE("9:45"),TIMEVALUE("0:45"),TIMEVALUE("0:30")))) -> 0 | AD28: =IF(OR(D28="BZ",D28="DB",D28="FZA",D28="K"),0,IF(AC28>AB28,-AC28*24,-AB28*24)) -> 0 | AE28: =IF(C28<>" ",AF28,"") -> -712.83333 | AF28: =SUM(AF27,AA28,AD28) -> -712.83333 | AG28: =ROUNDDOWN(ROUND(AF28,2),0) -> -712 | AH28: =SUM(AF28-AG28)/100*60 -> -0.5
B29: =IF(C29=" "," ",IF(WEEKDAY(C29)=1,"So",IF(WEEKDAY(C29)=7,"Sa",IF(WEEKDAY(C29)=2,"Mo",IF(WEEKDAY(C29)=3,"Di",IF(WEEKDAY(C29)=4,"Mi",IF(WEEKDAY(C29)=5,"Do",IF(WEEKDAY(C29)=6,"Fr","")))))))) -> Do | C29: =IF(C28=" "," ",IF(MONTH(C28+1)<>MONTH(C28)," ",C28+1)) -> 44323 | G29: =IF(C29=" ","",IF(D29="FZA",0,IF(OR(D29="",D29="dA"),IF(AND(F29>0,E29>0),(F29-E29),0),IF(D29="F",(F29-E29),H29)))) -> 0 | H29: =IF(OR(D29="KK",D29="F",D29="SU",D29="U"),0,Z29) -> 0.32638889 | I29: =IF(G29=H29," ",IF(G29>H29,"+","-")) -> - | J29: =IF(H29=G29," ",IF(H29>G29,(H29-G29),(G29-H29))) -> 0.32638889 | Q29: =IF(R29="","","-") | R29: =IF(AD29=0,"",AD29/-24) | T29: =IF(C29=" ","",IF(G29>0,G29+AD29/24,"")) | U29: =IF(OR(Z29>0,AND(Z29=0,T29<>"")),IF(AE29="","",IF(AE29=0,"",IF(AF29<0,"-","+"))),"") -> - | V29: =IF(OR(Z29>0,AND(Z29=0,T29<>"")),IF(AE29="","",IF(AG29<0,(AG29*(-1)),AG29)),"") -> 720 | W29: =IF(OR(Z29>0,AND(Z29=0,T29<>"")),IF(AE29="","",":"),"") -> : | X29: =IF(OR(Z29>0,AND(Z29=0,T29<>"")),IF(AE29="","",IF(AF29>0,PRODUCT(AH29,100),PRODUCT(AH29,-100))),"") -> 40 | Z29: =IF(C29=" "," ",IF(OR(TODAY()<C29,Stammdaten!$C$8>C29,AND(Stammdaten!$C$9>0,C29>Stammdaten!$C$9)),0,IF(WEEKDAY(C29)=$G$17,IF(OR($E$9="VZ",$E$9="Schicht"),$AH$17/24,IF($D$15<>"x",$AH$17/24,$G$15)),IF(WEEKDAY(C29)=$H$17,IF(OR($E$9="VZ",$E$9="Schicht"),$AH$17/24,IF($D$15<>"x",$AH$17/24,$H$15)),IF(WEEKDAY(C29)=$I$17,IF(OR($E$9="VZ",$E$9="Schicht"),$AH$17/24,IF($D$15<>"x",$AH$17/24,$I$15)),IF(WEEKDAY(C29)=$K$17,IF(OR($E$9="VZ",$E$9="Schicht"),$AH$17/24,IF($D$15<>"x",$AH$17/24,$K$15)),IF(WEEKDAY(C29)=$L$17,IF(OR($E$9="VZ",$E$9="Schicht"),$AH$17/24,IF($D$15<>"x",$AH$17/24,$L$15)),TIMEVALUE("0:00")))))))) -> 0.32638889 | AA29: =IF(I29="-",(-J29)*24,IF(I29="+",(+J29)*24,0)) -> -7.8333333 | AB29: =IF(L29>0,(L29-K29)+(N29-M29)+(P29-O29),TIMEVALUE("0:00")) -> 0 | AC29: =IF(G29="",0,IF(G29<=TIMEVALUE("6:30"),TIMEVALUE("0:00"),IF(G29>TIMEVALUE("9:45"),TIMEVALUE("0:45"),TIMEVALUE("0:30")))) -> 0 | AD29: =IF(OR(D29="BZ",D29="DB",D29="FZA",D29="K"),0,IF(AC29>AB29,-AC29*24,-AB29*24)) -> 0 | AE29: =IF(C29<>" ",AF29,"") -> -720.66667 | AF29: =SUM(AF28,AA29,AD29) -> -720.66667 | AG29: =ROUNDDOWN(ROUND(AF29,2),0) -> -720 | AH29: =SUM(AF29-AG29)/100*60 -> -0.4
B30: =IF(C30=" "," ",IF(WEEKDAY(C30)=1,"So",IF(WEEKDAY(C30)=7,"Sa",IF(WEEKDAY(C30)=2,"Mo",IF(WEEKDAY(C30)=3,"Di",IF(WEEKDAY(C30)=4,"Mi",IF(WEEKDAY(C30)=5,"Do",IF(WEEKDAY(C30)=6,"Fr","")))))))) -> Fr | C30: =IF(C29=" "," ",IF(MONTH(C29+1)<>MONTH(C29)," ",C29+1)) -> 44324 | G30: =IF(C30=" ","",IF(D30="FZA",0,IF(OR(D30="",D30="dA"),IF(AND(F30>0,E30>0),(F30-E30),0),IF(D30="F",(F30-E30),H30)))) -> 0 | H30: =IF(OR(D30="KK",D30="F",D30="SU",D30="U"),0,Z30) -> 0.32638889 | I30: =IF(G30=H30," ",IF(G30>H30,"+","-")) -> - | J30: =IF(H30=G30," ",IF(H30>G30,(H30-G30),(G30-H30))) -> 0.32638889 | Q30: =IF(R30="","","-") | R30: =IF(AD30=0,"",AD30/-24) | T30: =IF(C30=" ","",IF(G30>0,G30+AD30/24,"")) | U30: =IF(OR(Z30>0,AND(Z30=0,T30<>"")),IF(AE30="","",IF(AE30=0,"",IF(AF30<0,"-","+"))),"") -> - | V30: =IF(OR(Z30>0,AND(Z30=0,T30<>"")),IF(AE30="","",IF(AG30<0,(AG30*(-1)),AG30)),"") -> 728 | W30: =IF(OR(Z30>0,AND(Z30=0,T30<>"")),IF(AE30="","",":"),"") -> : | X30: =IF(OR(Z30>0,AND(Z30=0,T30<>"")),IF(AE30="","",IF(AF30>0,PRODUCT(AH30,100),PRODUCT(AH30,-100))),"") -> 30 | Z30: =IF(C30=" "," ",IF(OR(TODAY()<C30,Stammdaten!$C$8>C30,AND(Stammdaten!$C$9>0,C30>Stammdaten!$C$9)),0,IF(WEEKDAY(C30)=$G$17,IF(OR($E$9="VZ",$E$9="Schicht"),$AH$17/24,IF($D$15<>"x",$AH$17/24,$G$15)),IF(WEEKDAY(C30)=$H$17,IF(OR($E$9="VZ",$E$9="Schicht"),$AH$17/24,IF($D$15<>"x",$AH$17/24,$H$15)),IF(WEEKDAY(C30)=$I$17,IF(OR($E$9="VZ",$E$9="Schicht"),$AH$17/24,IF($D$15<>"x",$AH$17/24,$I$15)),IF(WEEKDAY(C30)=$K$17,IF(OR($E$9="VZ",$E$9="Schicht"),$AH$17/24,IF($D$15<>"x",$AH$17/24,$K$15)),IF(WEEKDAY(C30)=$L$17,IF(OR($E$9="VZ",$E$9="Schicht"),$AH$17/24,IF($D$15<>"x",$AH$17/24,$L$15)),TIMEVALUE("0:00")))))))) -> 0.32638889 | AA30: =IF(I30="-",(-J30)*24,IF(I30="+",(+J30)*24,0)) -> -7.8333333 | AB30: =IF(L30>0,(L30-K30)+(N30-M30)+(P30-O30),TIMEVALUE("0:00")) -> 0 | AC30: =IF(G30="",0,IF(G30<=TIMEVALUE("6:30"),TIMEVALUE("0:00"),IF(G30>TIMEVALUE("9:45"),TIMEVALUE("0:45"),TIMEVALUE("0:30")))) -> 0 | AD30: =IF(OR(D30="BZ",D30="DB",D30="FZA",D30="K"),0,IF(AC30>AB30,-AC30*24,-AB30*24)) -> 0 | AE30: =IF(C30<>" ",AF30,"") -> -728.5 | AF30: =SUM(AF29,AA30,AD30) -> -728.5 | AG30: =ROUNDDOWN(ROUND(AF30,2),0) -> -728 | AH30: =SUM(AF30-AG30)/100*60 -> -0.3
B31: =IF(C31=" "," ",IF(WEEKDAY(C31)=1,"So",IF(WEEKDAY(C31)=7,"Sa",IF(WEEKDAY(C31)=2,"Mo",IF(WEEKDAY(C31)=3,"Di",IF(WEEKDAY(C31)=4,"Mi",IF(WEEKDAY(C31)=5,"Do",IF(WEEKDAY(C31)=6,"Fr","")))))))) -> Sa | C31: =IF(C30=" "," ",IF(MONTH(C30+1)<>MONTH(C30)," ",C30+1)) -> 44325 | G31: =IF(C31=" ","",IF(D31="FZA",0,IF(OR(D31="",D31="dA"),IF(AND(F31>0,E31>0),(F31-E31),0),IF(D31="F",(F31-E31),H31)))) -> 0 | H31: =IF(OR(D31="KK",D31="F",D31="SU",D31="U"),0,Z31) -> 0 | I31: =IF(G31=H31," ",IF(G31>H31,"+","-")) | J31: =IF(H31=G31," ",IF(H31>G31,(H31-G31),(G31-H31))) | Q31: =IF(R31="","","-") | R31: =IF(AD31=0,"",AD31/-24) | T31: =IF(C31=" ","",IF(G31>0,G31+AD31/24,"")) | U31: =IF(OR(Z31>0,AND(Z31=0,T31<>"")),IF(AE31="","",IF(AE31=0,"",IF(AF31<0,"-","+"))),"") | V31: =IF(OR(Z31>0,AND(Z31=0,T31<>"")),IF(AE31="","",IF(AG31<0,(AG31*(-1)),AG31)),"") | W31: =IF(OR(Z31>0,AND(Z31=0,T31<>"")),IF(AE31="","",":"),"") | X31: =IF(OR(Z31>0,AND(Z31=0,T31<>"")),IF(AE31="","",IF(AF31>0,PRODUCT(AH31,100),PRODUCT(AH31,-100))),"") | Z31: =IF(C31=" "," ",IF(OR(TODAY()<C31,Stammdaten!$C$8>C31,AND(Stammdaten!$C$9>0,C31>Stammdaten!$C$9)),0,IF(WEEKDAY(C31)=$G$17,IF(OR($E$9="VZ",$E$9="Schicht"),$AH$17/24,IF($D$15<>"x",$AH$17/24,$G$15)),IF(WEEKDAY(C31)=$H$17,IF(OR($E$9="VZ",$E$9="Schicht"),$AH$17/24,IF($D$15<>"x",$AH$17/24,$H$15)),IF(WEEKDAY(C31)=$I$17,IF(OR($E$9="VZ",$E$9="Schicht"),$AH$17/24,IF($D$15<>"x",$AH$17/24,$I$15)),IF(WEEKDAY(C31)=$K$17,IF(OR($E$9="VZ",$E$9="Schicht"),$AH$17/24,IF($D$15<>"x",$AH$17/24,$K$15)),IF(WEEKDAY(C31)=$L$17,IF(OR($E$9="VZ",$E$9="Schicht"),$AH$17/24,IF($D$15<>"x",$AH$17/24,$L$15)),TIMEVALUE("0:00")))))))) -> 0 | AA31: =IF(I31="-",(-J31)*24,IF(I31="+",(+J31)*24,0)) -> 0 | AB31: =IF(L31>0,(L31-K31)+(N31-M31)+(P31-O31),TIMEVALUE("0:00")) -> 0 | AC31: =IF(G31="",0,IF(G31<=TIMEVALUE("6:30"),TIMEVALUE("0:00"),IF(G31>TIMEVALUE("9:45"),TIMEVALUE("0:45"),TIMEVALUE("0:30")))) -> 0 | AD31: =IF(OR(D31="BZ",D31="DB",D31="FZA",D31="K"),0,IF(AC31>AB31,-AC31*24,-AB31*24)) -> 0 | AE31: =IF(C31<>" ",AF31,"") -> -728.5 | AF31: =SUM(AF30,AA31,AD31) -> -728.5 | AG31: =ROUNDDOWN(ROUND(AF31,2),0) -> -728 | AH31: =SUM(AF31-AG31)/100*60 -> -0.3
B32: =IF(C32=" "," ",IF(WEEKDAY(C32)=1,"So",IF(WEEKDAY(C32)=7,"Sa",IF(WEEKDAY(C32)=2,"Mo",IF(WEEKDAY(C32)=3,"Di",IF(WEEKDAY(C32)=4,"Mi",IF(WEEKDAY(C32)=5,"Do",IF(WEEKDAY(C32)=6,"Fr","")))))))) -> So | C32: =IF(C31=" "," ",IF(MONTH(C31+1)<>MONTH(C31)," ",C31+1)) -> 44326 | G32: =IF(C32=" ","",IF(D32="FZA",0,IF(OR(D32="",D32="dA"),IF(AND(F32>0,E32>0),(F32-E32),0),IF(D32="F",(F32-E32),H32)))) -> 0 | H32: =IF(OR(D32="KK",D32="F",D32="SU",D32="U"),0,Z32) -> 0 | I32: =IF(G32=H32," ",IF(G32>H32,"+","-")) | J32: =IF(H32=G32," ",IF(H32>G32,(H32-G32),(G32-H32))) | Q32: =IF(R32="","","-") | R32: =IF(AD32=0,"",AD32/-24) | T32: =IF(C32=" ","",IF(G32>0,G32+AD32/24,"")) | U32: =IF(OR(Z32>0,AND(Z32=0,T32<>"")),IF(AE32="","",IF(AE32=0,"",IF(AF32<0,"-","+"))),"") | V32: =IF(OR(Z32>0,AND(Z32=0,T32<>"")),IF(AE32="","",IF(AG32<0,(AG32*(-1)),AG32)),"") | W32: =IF(OR(Z32>0,AND(Z32=0,T32<>"")),IF(AE32="","",":"),"") | X32: =IF(OR(Z32>0,AND(Z32=0,T32<>"")),IF(AE32="","",IF(AF32>0,PRODUCT(AH32,100),PRODUCT(AH32,-100))),"") | Z32: =IF(C32=" "," ",IF(OR(TODAY()<C32,Stammdaten!$C$8>C32,AND(Stammdaten!$C$9>0,C32>Stammdaten!$C$9)),0,IF(WEEKDAY(C32)=$G$17,IF(OR($E$9="VZ",$E$9="Schicht"),$AH$17/24,IF($D$15<>"x",$AH$17/24,$G$15)),IF(WEEKDAY(C32)=$H$17,IF(OR($E$9="VZ",$E$9="Schicht"),$AH$17/24,IF($D$15<>"x",$AH$17/24,$H$15)),IF(WEEKDAY(C32)=$I$17,IF(OR($E$9="VZ",$E$9="Schicht"),$AH$17/24,IF($D$15<>"x",$AH$17/24,$I$15)),IF(WEEKDAY(C32)=$K$17,IF(OR($E$9="VZ",$E$9="Schicht"),$AH$17/24,IF($D$15<>"x",$AH$17/24,$K$15)),IF(WEEKDAY(C32)=$L$17,IF(OR($E$9="VZ",$E$9="Schicht"),$AH$17/24,IF($D$15<>"x",$AH$17/24,$L$15)),TIMEVALUE("0:00")))))))) -> 0 | AA32: =IF(I32="-",(-J32)*24,IF(I32="+",(+J32)*24,0)) -> 0 | AB32: =IF(L32>0,(L32-K32)+(N32-M32)+(P32-O32),TIMEVALUE("0:00")) -> 0 | AC32: =IF(G32="",0,IF(G32<=TIMEVALUE("6:30"),TIMEVALUE("0:00"),IF(G32>TIMEVALUE("9:45"),TIMEVALUE("0:45"),TIMEVALUE("0:30")))) -> 0 | AD32: =IF(OR(D32="BZ",D32="DB",D32="FZA",D32="K"),0,IF(AC32>AB32,-AC32*24,-AB32*24)) -> 0 | AE32: =IF(C32<>" ",AF32,"") -> -728.5 | AF32: =SUM(AF31,AA32,AD32) -> -728.5 | AG32: =ROUNDDOWN(ROUND(AF32,2),0) -> -728 | AH32: =SUM(AF32-AG32)/100*60 -> -0.3
B33: =IF(C33=" "," ",IF(WEEKDAY(C33)=1,"So",IF(WEEKDAY(C33)=7,"Sa",IF(WEEKDAY(C33)=2,"Mo",IF(WEEKDAY(C33)=3,"Di",IF(WEEKDAY(C33)=4,"Mi",IF(WEEKDAY(C33)=5,"Do",IF(WEEKDAY(C33)=6,"Fr","")))))))) -> Mo | C33: =IF(C32=" "," ",IF(MONTH(C32+1)<>MONTH(C32)," ",C32+1)) -> 44327 | G33: =IF(C33=" ","",IF(D33="FZA",0,IF(OR(D33="",D33="dA"),IF(AND(F33>0,E33>0),(F33-E33),0),IF(D33="F",(F33-E33),H33)))) -> 0 | H33: =IF(OR(D33="KK",D33="F",D33="SU",D33="U"),0,Z33) -> 0.32638889 | I33: =IF(G33=H33," ",IF(G33>H33,"+","-")) -> - | J33: =IF(H33=G33," ",IF(H33>G33,(H33-G33),(G33-H33))) -> 0.32638889 | Q33: =IF(R33="","","-") | R33: =IF(AD33=0,"",AD33/-24) | T33: =IF(C33=" ","",IF(G33>0,G33+AD33/24,"")) | U33: =IF(OR(Z33>0,AND(Z33=0,T33<>"")),IF(AE33="","",IF(AE33=0,"",IF(AF33<0,"-","+"))),"") -> - | V33: =IF(OR(Z33>0,AND(Z33=0,T33<>"")),IF(AE33="","",IF(AG33<0,(AG33*(-1)),AG33)),"") -> 736 | W33: =IF(OR(Z33>0,AND(Z33=0,T33<>"")),IF(AE33="","",":"),"") -> : | X33: =IF(OR(Z33>0,AND(Z33=0,T33<>"")),IF(AE33="","",IF(AF33>0,PRODUCT(AH33,100),PRODUCT(AH33,-100))),"") -> 20 | Z33: =IF(C33=" "," ",IF(OR(TODAY()<C33,Stammdaten!$C$8>C33,AND(Stammdaten!$C$9>0,C33>Stammdaten!$C$9)),0,IF(WEEKDAY(C33)=$G$17,IF(OR($E$9="VZ",$E$9="Schicht"),$AH$17/24,IF($D$15<>"x",$AH$17/24,$G$15)),IF(WEEKDAY(C33)=$H$17,IF(OR($E$9="VZ",$E$9="Schicht"),$AH$17/24,IF($D$15<>"x",$AH$17/24,$H$15)),IF(WEEKDAY(C33)=$I$17,IF(OR($E$9="VZ",$E$9="Schicht"),$AH$17/24,IF($D$15<>"x",$AH$17/24,$I$15)),IF(WEEKDAY(C33)=$K$17,IF(OR($E$9="VZ",$E$9="Schicht"),$AH$17/24,IF($D$15<>"x",$AH$17/24,$K$15)),IF(WEEKDAY(C33)=$L$17,IF(OR($E$9="VZ",$E$9="Schicht"),$AH$17/24,IF($D$15<>"x",$AH$17/24,$L$15)),TIMEVALUE("0:00")))))))) -> 0.32638889 | AA33: =IF(I33="-",(-J33)*24,IF(I33="+",(+J33)*24,0)) -> -7.8333333 | AB33: =IF(L33>0,(L33-K33)+(N33-M33)+(P33-O33),TIMEVALUE("0:00")) -> 0 | AC33: =IF(G33="",0,IF(G33<=TIMEVALUE("6:30"),TIMEVALUE("0:00"),IF(G33>TIMEVALUE("9:45"),TIMEVALUE("0:45"),TIMEVALUE("0:30")))) -> 0 | AD33: =IF(OR(D33="BZ",D33="DB",D33="FZA",D33="K"),0,IF(AC33>AB33,-AC33*24,-AB33*24)) -> 0 | AE33: =IF(C33<>" ",AF33,"") -> -736.33333 | AF33: =SUM(AF32,AA33,AD33) -> -736.33333 | AG33: =ROUNDDOWN(ROUND(AF33,2),0) -> -736 | AH33: =SUM(AF33-AG33)/100*60 -> -0.2
